Felt | Verdi |
AlreadyApplied | True |
Aperture | 4.0 |
ApertureValue | 4.0 |
BitsPerSample (1) | 16, 16, 16 |
BitsPerSample (2) | 16 16 16 |
BitsPerSample | 8 |
BlueHue | 0 |
BlueSaturation | 0 |
Brightness | +54 |
CameraProfile | ACR 4.4 |
ChromaticAberrationB | 0 |
ChromaticAberrationR | 0 |
CircleOfConfusion | 0.019 mm |
Clarity | 0 |
ColorComponents | 3 |
ColorMode | RGB |
ColorNoiseReduction | 42 |
ColorSpace | sRGB |
ColorTemperature | 5900 |
Contrast | +36 |
ConvertToGrayscale | False |
CopyrightFlag | False |
CreateDate (1) | 2008:12:27 20:59:44+01:00 |
CreateDate | 2008:12:21 17:16:38 |
CreatorTool | Adobe Photoshop CS3 Windows |
CropAngle | 0 |
CropBottom | 0.924409 |
CropHeight | 2396 |
CropLeft | 0.058824 |
CropRight | 0.752101 |
CropTop | 0 |
CropUnit | pixels |
CropWidth | 2695 |
CustomRendered | Normal |
DateTimeDigitized | 2008:12:21 17:16:38.00+01:00 |
DateTimeOriginal (1) | 2008:12:21 17:16:38.00+01:00 |
DateTimeOriginal | 2008:12:21 17:16:38 |
Defringe | 0 |
ExifImageHeight | 768 |
ExifImageWidth | 683 |
Exposure | +0.29 |
ExposureCompensation | 0 |
ExposureMode | Auto |
ExposureProgram | Program AE |
ExposureTime | 1/60 |
FillLight | 14 |
Firmware | 1.0.8 |
Flash | On, Fired |
FlashCompensation | 0.333333333333333 |
FlashFired | True |
FlashFunction | False |
FlashMode | On |
FlashRedEyeMode | False |
FlashReturn | No return detection |
FNumber | 4.0 |
FocalLength | 105.0 mm |
FocalLength35efl | 105.0 mm (35 mm equivalent: 170.0 mm) |
Format | image/jpeg |
FOV | 12.1 deg |
GreenHue | 0 |
GreenSaturation | 0 |
HasCrop | True |
HasSettings | True |
HighlightRecovery | 0 |
HueAdjustmentAqua | 0 |
HueAdjustmentBlue | 0 |
HueAdjustmentGreen | 0 |
HueAdjustmentMagenta | 0 |
HueAdjustmentOrange | 0 |
HueAdjustmentPurple | 0 |
HueAdjustmentRed | 0 |
HueAdjustmentYellow | 0 |
HyperfocalDistance | 148.50 m |
ICCProfileName | sRGB IEC61966-2.1 |
ImageHeight (2) | 2695 |
ImageHeight | 768 |
ImageNumber | 0 |
ImageSize | 683x768 |
ImageWidth (2) | 2396 |
ImageWidth | 683 |
ISO | 100 |
Lens | EF24-105mm f/4L IS USM |
LensInfo | 24-105mm f/? |
LightValue | 9.9 |
LuminanceAdjustmentAqua | 0 |
LuminanceAdjustmentBlue | 0 |
LuminanceAdjustmentGreen | 0 |
LuminanceAdjustmentMagenta | 0 |
LuminanceAdjustmentOrange | 0 |
LuminanceAdjustmentPurple | 0 |
LuminanceAdjustmentRed | 0 |
LuminanceAdjustmentYellow | 0 |
LuminanceSmoothing | 37 |
Make | Canon |
MaxApertureValue | 4.0 |
Megapixels | 0.525 |
MeteringMode | Multi-segment |
Model | Canon EOS 40D |
ModifyDate (1) | 2008:12:27 21:03:04+01:00 |
ModifyDate | 2008:12:27 21:03:04 |
Orientation | Horizontal (normal) |
ParametricDarks | +19 |
ParametricHighlights | -10 |
ParametricHighlightSplit | 75 |
ParametricLights | +38 |
ParametricMidtoneSplit | 50 |
ParametricShadows | +7 |
ParametricShadowSplit | 25 |
PhotometricInterpretation | RGB |
PlanarConfiguration | Chunky |
ProfileDescription | sRGB IEC61966-2.1 |
RedHue | 0 |
RedSaturation | 0 |
SamplesPerPixel | 3 |
Saturation | 0 |
SaturationAdjustmentAqua | 0 |
SaturationAdjustmentBlue | 0 |
SaturationAdjustmentGreen | 0 |
SaturationAdjustmentMagenta | 0 |
SaturationAdjustmentOrange | 0 |
SaturationAdjustmentPurple | 0 |
SaturationAdjustmentRed | 0 |
SaturationAdjustmentYellow | 0 |
ScaleFactor35efl | 1.6 |
SceneCaptureType | Standard |
SerialNumber | 630444448 |
Shadows | 0 |
ShadowTint | 0 |
SharpenDetail | 37 |
SharpenEdgeMasking | 0 |
SharpenRadius | +1.0 |
Sharpness | 43 |
ShutterSpeed | 1/60 |
ShutterSpeedValue | 1/60 |
Software | Adobe Photoshop CS3 Windows |
SplitToningBalance | 0 |
SplitToningHighlightHue | 0 |
SplitToningHighlightSaturation | 0 |
SplitToningShadowHue | 0 |
SplitToningShadowSaturation | 0 |
Tint | -5 |
ToneCurve | 0, 0, 32, 22, 64, 56, 128, 128, 192, 196, 255, 255 |
ToneCurveName | Medium Contrast |
URL_List | |
Version | 4.4.1 |
Vibrance | 0 |
VignetteAmount | 0 |
WhiteBalance (2) | As Shot |
WhiteBalance | Auto |