Felt | Verdi |
AlreadyApplied | True |
Aperture | 4.8 |
Aperture: 4
ApertureValue | 4.8 |
Artist | Thidemansen Magne |
BitsPerSample | 8 |
BlueHue | 0 |
BlueSaturation | -5 |
Brightness | +50 |
By-line | Thidemansen Magne |
CameraProfile | ACR 3.3 |
Category | NAT |
CFAPattern | [Green,Red][Blue,Green] |
ChromaticAberrationB | 0 |
ChromaticAberrationR | 0 |
CircleOfConfusion | 0.020 mm |
City | Hvittingfoss |
Clarity | 0 |
ColorComponents | 3 |
ColorMode | RGB |
ColorNoiseReduction | 25 |
ColorSpace | sRGB |
ColorTemperature | 5452 |
Contrast (2) | +25 |
Contrast | Normal |
ConvertToGrayscale | False |
CopyrightFlag | False |
Country | Norway |
Country-PrimaryLocationCode | NOR |
Country-PrimaryLocationName | Norway |
CreateDate (1) | 2009:01:01 16:32:09+01:00 |
CreateDate | 2008:12:31 12:20:10 |
Creator | Thidemansen Magne |
CreatorTool | Adobe Photoshop CS3 Windows |
CustomRendered | Normal |
Date and Time: 2008:12:31 12:20:10
DateCreated | 2008:12:31 |
DateTimeDigitized | 2008:12:31 12:20:10.16+01:00 |
DateTimeOriginal (1) | 2008:12:31 12:20:10.16+01:00 |
DateTimeOriginal | 2008:12:31 12:20:10 |
Defringe | 0 |
DerivedFrom | |
DigitalZoomRatio | 1 |
EditStatus | digital orginal |
ExifCameraInfo | Model: NIKON D200
ExifImageHeight | 941 |
ExifImageWidth | 1000 |
Exposure Bias: 0.000
Exposure Program: Normal
Exposure Time: 1/90 Sec
Exposure | -0.10 |
ExposureCompensation | 0 |
ExposureMode | Auto |
ExposureProgram | Program AE |
ExposureTime | 1/90 |
F Number: 4.8
FillLight | 0 |
Flash | No Flash |
Flash: No
FlashFired | False |
FlashFunction | False |
FlashMode | Unknown |
FlashRedEyeMode | False |
FlashReturn | No return detection |
FNumber | 4.8 |
FocalLength | 140.0 mm |
FocalLength35efl | 140.0 mm (35 mm equivalent: 210.0 mm) |
FocalLengthIn35mmFormat | 210 mm |
Format | image/jpeg |
FOV | 9.8 deg |
GainControl | None |
GreenHue | 0 |
GreenSaturation | 0 |
HasCrop | False |
HasSettings | True |
Headline | Vinter ved Hvittingfossen |
HighlightRecovery | 13 |
HueAdjustmentAqua | 0 |
HueAdjustmentBlue | 0 |
HueAdjustmentGreen | 0 |
HueAdjustmentMagenta | 0 |
HueAdjustmentOrange | 0 |
HueAdjustmentPurple | 0 |
HueAdjustmentRed | 0 |
HueAdjustmentYellow | 0 |
HyperfocalDistance | 203.85 m |
ICCProfileName | sRGB IEC61966-2.1 |
ImageHeight (1) | 2592 |
ImageHeight | 941 |
ImageNumber | 12127 |
ImageSize | 1000x941 |
ImageWidth (1) | 3872 |
ImageWidth | 1000 |
ISO Speed: 100
ISO | 100 |
Keywords | bruket, fossen, foss, is |
Lens | 70.0-300.0 mm f/4.5-5.6 |
LensInfo | 70-300mm f/4.5-5.6 |
Light Source: Unknown
LightSource | Fine Weather |
LightValue | 11.0 |
LuminanceAdjustmentAqua | 0 |
LuminanceAdjustmentBlue | 0 |
LuminanceAdjustmentGreen | 0 |
LuminanceAdjustmentMagenta | 0 |
LuminanceAdjustmentOrange | 0 |
LuminanceAdjustmentPurple | 0 |
LuminanceAdjustmentRed | 0 |
LuminanceAdjustmentYellow | 0 |
LuminanceSmoothing | 0 |
Make | NIKON CORPORATION |
MaxApertureValue | 4.8 |
Megapixels | 0.941 |
Metering Mode: Pattern
MeteringMode | Multi-segment |
Model | NIKON D200 |
ModifyDate (1) | 2009:01:01 16:44:22+01:00 |
ModifyDate | 2009:01:01 16:44:22 |
ObjectName | vinter |
Orientation | Horizontal (normal) |
OriginatingProgram | lightroom |
ParametricDarks | 0 |
ParametricHighlights | 0 |
ParametricHighlightSplit | 75 |
ParametricLights | 0 |
ParametricMidtoneSplit | 50 |
ParametricShadows | 0 |
ParametricShadowSplit | 25 |
PostCropVignetteAmount | 0 |
ProfileDescription | sRGB IEC61966-2.1 |
Province-State | Buskerud |
RedHue | -2 |
RedSaturation | -2 |
Resolution: 240.000
Saturation (2) | 0 |
Saturation | Normal |
SaturationAdjustmentAqua | 0 |
SaturationAdjustmentBlue | 0 |
SaturationAdjustmentGreen | 0 |
SaturationAdjustmentMagenta | 0 |
SaturationAdjustmentOrange | 0 |
SaturationAdjustmentPurple | 0 |
SaturationAdjustmentRed | 0 |
SaturationAdjustmentYellow | 0 |
ScaleFactor35efl | 1.5 |
SceneCaptureType | Standard |
SceneType | Directly photographed |
SensingMethod | One-chip color area |
Shadows | 5 |
ShadowTint | 0 |
SharpenDetail | 25 |
SharpenEdgeMasking | 0 |
SharpenRadius | +1.0 |
Sharpness (2) | 25 |
Sharpness | Normal |
Shutter Speed: 1/60 Sec
ShutterSpeed | 1/90 |
ShutterSpeedValue | 1/90 |
Software | Adobe Photoshop CS3 Windows |
Software: Ver.2.00
SplitToningBalance | 0 |
SplitToningHighlightHue | 0 |
SplitToningHighlightSaturation | 0 |
SplitToningShadowHue | 0 |
SplitToningShadowSaturation | 0 |
State | Buskerud |
Subject | bruket, fossen, foss, is |
SubjectDistanceRange | Unknown |
SupplementalCategories | vinter, natur |
Tint | 0 |
Title | vinter |
ToneCurve | 0, 0, 32, 22, 64, 56, 128, 128, 192, 196, 255, 255 |
ToneCurveName | Medium Contrast |
URL_List | |
Version | 4.5 |
Vibrance | 0 |
VignetteAmount | 0 |
WhiteBalance (2) | Custom |
WhiteBalance | Manual |
Zoom Length: 140 mm