Felt | Verdi |
AlreadyApplied | True |
Aperture | 10.0 |
ApertureValue | 10.0 |
BitsPerSample | 8 |
BlueHue | 0 |
BlueSaturation | 0 |
Brightness | 0 |
CameraProfile | Embedded |
ChromaticAberrationB | 0 |
ChromaticAberrationR | 0 |
CircleOfConfusion | 0.005 mm |
Clarity | 0 |
ColorComponents | 3 |
ColorNoiseReduction | 24 |
ColorSpace | Unknown (-1) |
Contrast | 0 |
ConvertToGrayscale | False |
Copyright | Jon Helge Vasbo |
CopyrightFlag | True |
CopyrightNotice | Jon Helge Vasbø |
CreateDate (1) | 2004:11:22 05:47:25+01:00 |
CreateDate | 2004:11:22 05:47:25 |
CreatorTool | Adobe Photoshop Lightroom |
CropAngle | 0.036713 |
CropBottom | 0.993067 |
CropHeight | 748 |
CropLeft | 0.038174 |
CropRight | 0.940449 |
CropTop | 0.131657 |
CropUnit | pixels |
CropWidth | 1280 |
CustomRendered | Normal |
DateTimeDigitized | 2004:11:22 05:47:25+01:00 |
DateTimeOriginal (1) | 2004:11:22 05:47:25+01:00 |
DateTimeOriginal | 2004:11:22 05:47:25 |
Defringe | 0 |
DigitalZoomRatio | 1 |
ExifImageHeight | 748 |
ExifImageWidth | 1280 |
Exposure | +0.76 |
ExposureCompensation | 0 |
ExposureMode | Auto |
ExposureTime | 1/1500 |
FillLight | 6 |
Firmware | 1.02 |
Flash | Off, Did not fire |
FlashCompensation | 0 |
FlashFired | False |
FlashFunction | False |
FlashMode | Off |
FlashRedEyeMode | False |
FlashReturn | No return detection |
FNumber | 10.0 |
FocalLength | 10.8 mm |
FocalLength35efl | 10.8 mm (35 mm equivalent: 71.1 mm) |
Format | image/tiff |
FOV | 28.4 deg |
GreenHue | 0 |
GreenSaturation | 0 |
HasCrop | True |
HasSettings | True |
HighlightRecovery | 8 |
HueAdjustmentAqua | 0 |
HueAdjustmentBlue | 0 |
HueAdjustmentGreen | 0 |
HueAdjustmentMagenta | 0 |
HueAdjustmentOrange | 0 |
HueAdjustmentPurple | 0 |
HueAdjustmentRed | 0 |
HueAdjustmentYellow | 0 |
HyperfocalDistance | 2.56 m |
ImageHeight | 748 |
ImageSize | 1280x748 |
ImageWidth | 1280 |
IncrementalTemperature | 0 |
IncrementalTint | +4 |
Label | Red |
Lens | 5.4-10.8 mm |
LensInfo | 5.40625-10.8125mm f/? |
LuminanceAdjustmentAqua | 0 |
LuminanceAdjustmentBlue | 0 |
LuminanceAdjustmentGreen | 0 |
LuminanceAdjustmentMagenta | 0 |
LuminanceAdjustmentOrange | 0 |
LuminanceAdjustmentPurple | 0 |
LuminanceAdjustmentRed | 0 |
LuminanceAdjustmentYellow | 0 |
LuminanceSmoothing | 0 |
Make | Canon |
Marked | True |
MaxApertureValue | 4.0 |
Megapixels | 0.957 |
MeteringMode | Multi-segment |
Model | Canon DIGITAL IXUS v3 |
ModifyDate (1) | 2009:01:07 23:51:36+01:00 |
ModifyDate | 2009:01:07 23:51:36 |
ParametricDarks | 0 |
ParametricHighlights | 0 |
ParametricHighlightSplit | 75 |
ParametricLights | 0 |
ParametricMidtoneSplit | 50 |
ParametricShadows | 0 |
ParametricShadowSplit | 25 |
PostCropVignetteAmount | 0 |
ProfileDescription | sRGB IEC61966-2.1 |
Rating | 5 |
RedHue | 0 |
RedSaturation | 0 |
Rights | Jon Helge Vasbø |
Saturation | 0 |
SaturationAdjustmentAqua | 0 |
SaturationAdjustmentBlue | 0 |
SaturationAdjustmentGreen | 0 |
SaturationAdjustmentMagenta | 0 |
SaturationAdjustmentOrange | 0 |
SaturationAdjustmentPurple | 0 |
SaturationAdjustmentRed | 0 |
SaturationAdjustmentYellow | 0 |
ScaleFactor35efl | 6.6 |
SceneCaptureType | Standard |
SensingMethod | One-chip color area |
Shadows | 0 |
ShadowTint | 0 |
SharpenDetail | 25 |
SharpenEdgeMasking | 0 |
SharpenRadius | +1.0 |
Sharpness | 0 |
ShutterSpeed | 1/1500 |
ShutterSpeedValue | 1/1500 |
Software | Adobe Photoshop CS3 Windows |
SplitToningBalance | 0 |
SplitToningHighlightHue | 0 |
SplitToningHighlightSaturation | 0 |
SplitToningShadowHue | 0 |
SplitToningShadowSaturation | 0 |
ToneCurve | 0, 0, 255, 255 |
ToneCurveName | Linear |
Version | 4.6 |
Vibrance | 0 |
VignetteAmount | 0 |
WhiteBalance (2) | Custom |
WhiteBalance | Manual |