Felt | Verdi |
AlreadyApplied | True |
Aperture | 2.8 |
ApertureValue | 2.8 |
BitsPerSample | 8 |
BlueHue | 0 |
BlueSaturation | 0 |
Brightness | +33 |
By-line | Ragnar |
CameraProfile | ACR 4.4 |
ChromaticAberrationB | 0 |
ChromaticAberrationR | 0 |
CircleOfConfusion | 0.019 mm |
Clarity | 0 |
ColorComponents | 1 |
ColorMode | Grayscale |
ColorNoiseReduction | 25 |
ColorSpace | Unknown (-1) |
ColorTemperature | 4900 |
Contrast | +100 |
ConvertToGrayscale | True |
CreateDate | 2008:12:05 14:09Z |
Creator | Ragnar |
CreatorTool | Adobe Photoshop CS3 Windows |
CustomRendered | Normal |
DateTimeDigitized | 2008:12:05 12:44:01.77+01:00 |
DateTimeOriginal | 2008:12:05 12:44:01.77+01:00 |
Defringe | 0 |
DerivedFrom | |
ExifImageHeight | 2088 |
ExifImageWidth | 3131 |
Exposure | 0.00 |
ExposureCompensation | 0 |
ExposureMode | Manual |
ExposureProgram | Manual |
ExposureTime | 1/400 |
FillLight | 0 |
Firmware | 1.0.8 |
Flash | Off, Did not fire |
FlashCompensation | 0 |
FlashFired | False |
FlashFunction | False |
FlashMode | Off |
FlashRedEyeMode | False |
FlashReturn | No return detection |
FNumber | 2.8 |
FocalLength | 200.0 mm |
FocalLength35efl | 200.0 mm (35 mm equivalent: 323.8 mm) |
Format | image/tiff |
FOV | 6.4 deg |
GrayMixerAqua | -20 |
GrayMixerBlue | +8 |
GrayMixerGreen | -27 |
GrayMixerMagenta | +7 |
GrayMixerOrange | -17 |
GrayMixerPurple | +17 |
GrayMixerRed | -6 |
GrayMixerYellow | -21 |
GreenHue | 0 |
GreenSaturation | 0 |
HasCrop | False |
HasSettings | True |
HighlightRecovery | 0 |
HyperfocalDistance | 769.67 m |
ICCProfileName | Gray Gamma 2.2 |
ImageHeight (1) | 2088 |
ImageHeight | 2085 |
ImageNumber | 0 |
ImageSize | 1948x2085 |
ImageWidth (1) | 3131 |
ImageWidth | 1948 |
ISO | 800 |
Lens | 70-200mm |
LensInfo | 70-200mm f/? |
LightValue | 8.6 |
LuminanceSmoothing | 0 |
Make | Canon |
MaxApertureValue | 2.8 |
Megapixels | 4.1 |
MeteringMode | Multi-segment |
Model | Canon EOS 40D |
ModifyDate | 2008:12:05 14:09Z |
Orientation | Horizontal (normal) |
OwnerName | Ragnar |
ParametricDarks | +45 |
ParametricHighlights | +100 |
ParametricHighlightSplit | 75 |
ParametricLights | +83 |
ParametricMidtoneSplit | 50 |
ParametricShadows | +24 |
ParametricShadowSplit | 25 |
PhotometricInterpretation | BlackIsZero |
PostCropVignetteAmount | 0 |
Rating | 0 |
RawFileName | _MG_0039.CR2 |
RedHue | 0 |
RedSaturation | 0 |
SamplesPerPixel | 1 |
ScaleFactor35efl | 1.6 |
SceneCaptureType | Standard |
SerialNumber | 630332318 |
Shadows | 5 |
ShadowTint | 0 |
SharpenDetail | 25 |
SharpenEdgeMasking | 0 |
SharpenRadius | +1.0 |
Sharpness | 25 |
ShutterSpeed | 1/400 |
ShutterSpeedValue | 1/400 |
SidecarForExtension | CR2 |
SplitToningBalance | 0 |
SplitToningHighlightHue | 0 |
SplitToningHighlightSaturation | 0 |
SplitToningShadowHue | 0 |
SplitToningShadowSaturation | 0 |
Tint | +2 |
ToneCurve | 0, 0, 32, 16, 64, 50, 128, 128, 167, 231, 255, 255 |
ToneCurveName | Custom |
Version | 4.6 |
VignetteAmount | 0 |
WhiteBalance (1) | As Shot |
WhiteBalance | Auto |