Felt | Verdi |
AlreadyApplied | True |
Aperture | 5.6 |
ApertureValue | 5.6 |
Artist | Trine Kvalnes |
AuthorsPosition | Fotograf og skribent |
BitsPerSample (1) | 8, 8, 8 |
BitsPerSample (2) | 8 8 8 |
BitsPerSample | 8 |
BlueHue | 0 |
BlueSaturation | 0 |
Brightness | +66 |
By-line | Trine Kvalnes |
By-lineTitle | Fotograf og skribent |
CameraProfile | ACR 4.4 |
CFAPattern | [Green,Blue][Red,Green] |
ChromaticAberrationB | 0 |
ChromaticAberrationR | 0 |
CircleOfConfusion | 0.020 mm |
Clarity | +41 |
ColorComponents | 3 |
ColorMode | RGB |
ColorNoiseReduction | 25 |
ColorSpace | sRGB |
ColorTemperature | 6600 |
Contrast (2) | +25 |
Contrast | Normal |
ConvertToGrayscale | False |
Copyright | © 2009 Trine Kvalnes ALL RIGHTS RESERVED |
CopyrightFlag | False |
CopyrightNotice | © 2009 Trine Kvalnes ALL RIGHTS RESERVED |
CreateDate (1) | 2009:01:09 18:19:11+01:00 |
CreateDate | 2009:01:04 14:54:28 |
Creator | Trine Kvalnes |
CreatorTool | Adobe Photoshop CS3 Windows |
CreatorWorkEmail | trine.kvalnes@gmail.com |
CreatorWorkTelephone | 0047 98083053 |
CropAngle | 0 |
CropBottom | 1 |
CropHeight | 1 |
CropLeft | 0.054502 |
CropRight | 0.723924 |
CropTop | 0 |
CropUnit | Unknown (3) |
CropWidth | 1 |
CustomRendered | Normal |
DateTimeDigitized | 2009:01:04 14:54:28.60+01:00 |
DateTimeOriginal (1) | 2009:01:04 14:54:28.60+01:00 |
DateTimeOriginal | 2009:01:04 14:54:28 |
Defringe | 0 |
DigitalZoomRatio | 1 |
ExifImageHeight | 1280 |
ExifImageWidth | 1280 |
Exposure | +0.35 |
ExposureCompensation | 0 |
ExposureMode | Manual |
ExposureProgram | Manual |
ExposureTime | 1/15 |
FillLight | 19 |
Flash | No Flash |
FlashFired | False |
FlashFunction | False |
FlashMode | Unknown |
FlashRedEyeMode | False |
FlashReturn | No return detection |
FNumber | 5.6 |
FocalLength | 135.0 mm |
FocalLength35efl | 135.0 mm (35 mm equivalent: 202.0 mm) |
FocalLengthIn35mmFormat | 202 mm |
Format | image/jpeg |
FOV | 10.2 deg |
GainControl | None |
GreenHue | 0 |
GreenSaturation | 0 |
HasCrop | True |
HasSettings | True |
HierarchicalSubject | Steder|Burud 3330 Skotselv, Type bilde|Portrett, Årstall|2009, Personer|Alexander |
HighlightRecovery | 0 |
HueAdjustmentAqua | 0 |
HueAdjustmentBlue | 0 |
HueAdjustmentGreen | 0 |
HueAdjustmentMagenta | 0 |
HueAdjustmentOrange | 0 |
HueAdjustmentPurple | 0 |
HueAdjustmentRed | 0 |
HueAdjustmentYellow | 0 |
HyperfocalDistance | 162.07 m |
ICCProfileName | sRGB IEC61966-2.1 |
ImageHeight (2) | 2064 |
ImageHeight | 1280 |
ImageNumber | 67535 |
ImageSize | 1280x1280 |
ImageWidth (1) | 2064 |
ImageWidth | 1280 |
ISO | 100 |
Keywords | 2009, Alexander, Alexander, Burud 3330 Skotselv, Portrett |
Lens | 18.0-135.0 mm f/3.5-5.6 |
LensInfo | 18-135mm f/3.5-5.6 |
LightSource | Fine Weather |
LightValue | 8.9 |
LuminanceAdjustmentAqua | 0 |
LuminanceAdjustmentBlue | 0 |
LuminanceAdjustmentGreen | 0 |
LuminanceAdjustmentMagenta | 0 |
LuminanceAdjustmentOrange | 0 |
LuminanceAdjustmentPurple | 0 |
LuminanceAdjustmentRed | 0 |
LuminanceAdjustmentYellow | 0 |
LuminanceSmoothing | 0 |
Make | NIKON CORPORATION |
MaxApertureValue | 5.7 |
Megapixels | 1.6 |
MeteringMode | Multi-segment |
Model | NIKON D80 |
ModifyDate (1) | 2009:01:09 18:19:11+01:00 |
ModifyDate | 2009:01:09 18:19:11 |
Orientation | Horizontal (normal) |
ParametricDarks | 0 |
ParametricHighlights | 0 |
ParametricHighlightSplit | 75 |
ParametricLights | 0 |
ParametricMidtoneSplit | 50 |
ParametricShadows | 0 |
ParametricShadowSplit | 25 |
PhotometricInterpretation | RGB |
PlanarConfiguration | Chunky |
PostCropVignetteAmount | 0 |
ProfileDescription | sRGB IEC61966-2.1 |
Rating | 5 |
RawFileName | 20090104_TrineKvalnes_0230.NEF |
RedHue | 0 |
RedSaturation | 0 |
Rights | © 2009 Trine Kvalnes ALL RIGHTS RESERVED |
SamplesPerPixel | 3 |
Saturation (2) | 0 |
Saturation | Normal |
SaturationAdjustmentAqua | 0 |
SaturationAdjustmentBlue | 0 |
SaturationAdjustmentGreen | 0 |
SaturationAdjustmentMagenta | 0 |
SaturationAdjustmentOrange | 0 |
SaturationAdjustmentPurple | 0 |
SaturationAdjustmentRed | 0 |
SaturationAdjustmentYellow | 0 |
ScaleFactor35efl | 1.5 |
SceneCaptureType | Standard |
SceneType | Directly photographed |
SensingMethod | One-chip color area |
SerialNumber | 4239942 |
Shadows | 7 |
ShadowTint | 0 |
SharpenDetail | 25 |
SharpenEdgeMasking | 0 |
SharpenRadius | +1.0 |
Sharpness (2) | 25 |
Sharpness | Normal |
ShutterSpeed | 1/15 |
ShutterSpeedValue | 1/15 |
Software | Adobe Photoshop CS3 Windows |
SplitToningBalance | 0 |
SplitToningHighlightHue | 0 |
SplitToningHighlightSaturation | 0 |
SplitToningShadowHue | 0 |
SplitToningShadowSaturation | 0 |
Subject | 2009, Alexander, Alexander, Burud 3330 Skotselv, Portrett |
SubjectDistanceRange | Unknown |
Tint | -4 |
ToneCurve | 0, 0, 32, 22, 64, 56, 128, 128, 192, 196, 255, 255 |
ToneCurveName | Medium Contrast |
URL_List | |
Version | 4.6 |
Vibrance | 0 |
VignetteAmount | 0 |
WhiteBalance (2) | Custom |
WhiteBalance | Manual |