Felt | Verdi |
AlreadyApplied | True |
Aperture | 4.0 |
ApertureValue | 4.0 |
BitsPerSample | 8 |
BlueHue | 0 |
BlueSaturation | 0 |
Brightness | +150 |
By-line | Steffen Viddal |
CameraProfile | ACR 4.4 |
ChromaticAberrationB | 0 |
ChromaticAberrationR | 0 |
CircleOfConfusion | 0.019 mm |
Clarity | 0 |
ColorComponents | 1 |
ColorNoiseReduction | 25 |
ColorTemperature | 3900 |
Contrast | +100 |
ConvertToGrayscale | True |
CreateDate (1) | 2008:11:05 20:15:34.00+01:00 |
CreateDate | 2008:11:05 20:15:34 |
Creator | Steffen Viddal |
CreatorAddress | Fjelltunvn. 37 |
CreatorCity | Ålesund |
CreatorCountry | Norway |
CreatorPostalCode | 6007 |
CreatorTool | Adobe Photoshop Lightroom |
CreatorWorkEmail | stvi@xi.no |
CreatorWorkTelephone | +47 95 88 61 87 |
CustomRendered | Normal |
DateTimeDigitized | 2008:11:05 20:15:34.00+01:00 |
DateTimeOriginal (1) | 2008:11:05 20:15:34.00+01:00 |
DateTimeOriginal | 2008:11:05 20:15:34 |
Defringe | 0 |
ExifImageHeight | 2592 |
ExifImageWidth | 3888 |
Exposure | +0.19 |
ExposureCompensation | -1/3 |
ExposureMode | Auto |
ExposureProgram | Program AE |
ExposureTime | 1/50 |
FillLight | 17 |
Firmware | 1.0.8 |
Flash | Off, Did not fire |
FlashCompensation | 0 |
FlashFired | False |
FlashFunction | False |
FlashMode | Off |
FlashRedEyeMode | False |
FlashReturn | No return detection |
FNumber | 4.0 |
FocalLength | 39.0 mm |
FocalLength35efl | 39.0 mm (35 mm equivalent: 63.1 mm) |
FOV | 31.8 deg |
GrayMixerAqua | -20 |
GrayMixerBlue | +5 |
GrayMixerGreen | -24 |
GrayMixerMagenta | +5 |
GrayMixerOrange | -14 |
GrayMixerPurple | +13 |
GrayMixerRed | -5 |
GrayMixerYellow | -18 |
GreenHue | 0 |
GreenSaturation | 0 |
HasCrop | False |
HasSettings | True |
HighlightRecovery | 83 |
HyperfocalDistance | 20.49 m |
ImageHeight | 2592 |
ImageNumber | 0 |
ImageSize | 3888x2592 |
ImageWidth | 3888 |
ISO | 1000 |
Keywords | Ledersamling Svinøya fyr, Publiseres |
Lens | EF28-105mm f/3.5-4.5 USM |
LensInfo | 28-105mm f/? |
LightValue | 6.3 |
LuminanceSmoothing | 0 |
Make | Canon |
MaxApertureValue | 4.2 |
Megapixels | 10.1 |
MeteringMode | Multi-segment |
Model | Canon EOS 40D |
ModifyDate (1) | 2008:11:19 14:54:02+01:00 |
ModifyDate | 2008:11:19 14:54:02 |
ParametricDarks | 0 |
ParametricHighlights | 0 |
ParametricHighlightSplit | 75 |
ParametricLights | 0 |
ParametricMidtoneSplit | 50 |
ParametricShadows | 0 |
ParametricShadowSplit | 25 |
PostCropVignetteAmount | 0 |
ProfileDescription | sRGB IEC61966-2.1 |
RedHue | 0 |
RedSaturation | 0 |
ScaleFactor35efl | 1.6 |
SceneCaptureType | Standard |
SerialNumber | 1230711904 |
Shadows | 50 |
ShadowTint | 0 |
SharpenDetail | 25 |
SharpenEdgeMasking | 0 |
SharpenRadius | +1.0 |
Sharpness | 25 |
ShutterSpeed | 1/50 |
ShutterSpeedValue | 1/50 |
SplitToningBalance | 0 |
SplitToningHighlightHue | 0 |
SplitToningHighlightSaturation | 0 |
SplitToningShadowHue | 0 |
SplitToningShadowSaturation | 0 |
Subject | Ledersamling Svinøya fyr, Publiseres |
Tint | +17 |
ToneCurve | 0, 0, 32, 22, 64, 56, 128, 128, 192, 196, 255, 255 |
ToneCurveName | Medium Contrast |
Version | 4.6 |
VignetteAmount | 0 |
WhiteBalance (2) | As Shot |
WhiteBalance | Auto |