Felt | Verdi |
AlreadyApplied | True |
Aperture | 8.0 |
ApertureValue | 8.0 |
Artist | Ann Forberg |
BitsPerSample | 8 |
BlueHue | 0 |
BlueSaturation | 0 |
Brightness | +50 |
BrightnessValue | 7.37 |
By-line | Ann Forberg |
CameraProfile | ACR 4.4 |
Caption-Abstract | Bilkirkegård |
ChromaticAberrationB | 0 |
ChromaticAberrationR | 0 |
CircleOfConfusion | 0.020 mm |
Clarity | 0 |
ColorComponents | 3 |
ColorMode | RGB |
ColorNoiseReduction | 25 |
ColorSpace | sRGB |
ColorTemperature | 5300 |
Contrast (2) | +37 |
Contrast | Normal |
ConvertToGrayscale | False |
Copyright | © Ann Forberg |
CopyrightFlag | False |
CopyrightNotice | © Ann Forberg |
Country | Sweden |
Country-PrimaryLocationName | Sweden |
CountryCode | SWE |
CreateDate (1) | 2009:01:13 22:50:02+01:00 |
CreateDate | 2005:04:10 12:25:34 |
Creator | Ann Forberg |
CreatorTool | Adobe Photoshop CS3 Windows |
CustomRendered | Normal |
DateCreated | 2005:04:10 |
DateTimeDigitized | 2005:04:10 12:25:34+02:00 |
DateTimeOriginal (1) | 2005:04:10 12:25:34+02:00 |
DateTimeOriginal | 2005:04:10 12:25:34 |
Defringe | 0 |
DerivedFrom | |
Description | Bilkirkegård |
DigitalZoomRatio | 0 |
ExifImageHeight | 650 |
ExifImageWidth | 1024 |
Exposure | -0.60 |
ExposureCompensation | 0 |
ExposureMode | Auto |
ExposureProgram | Aperture-priority AE |
ExposureTime | 1/200 |
FillLight | 7 |
Flash | Off, Did not fire |
FlashCompensation | 0 |
FlashFired | False |
FlashFunction | False |
FlashMode | Off |
FlashRedEyeMode | False |
FlashReturn | No return detection |
FNumber | 8.0 |
FocalLength | 50.0 mm |
FocalLength35efl | 50.0 mm (35 mm equivalent: 75.0 mm) |
FocalLengthIn35mmFormat | 75 mm |
Format | image/jpeg |
FOV | 27.0 deg |
GainControl | None |
GreenHue | 0 |
GreenSaturation | 0 |
HasCrop | False |
HasSettings | True |
Headline | Bilkirkegård i Sverige |
HighlightRecovery | 0 |
HueAdjustmentAqua | 0 |
HueAdjustmentBlue | 0 |
HueAdjustmentGreen | 0 |
HueAdjustmentMagenta | 0 |
HueAdjustmentOrange | 0 |
HueAdjustmentPurple | 0 |
HueAdjustmentRed | 0 |
HueAdjustmentYellow | 0 |
HyperfocalDistance | 15.60 m |
ICCProfileName | sRGB IEC61966-2.1 |
ImageDescription | Bilkirkegård |
ImageHeight | 650 |
ImageSize | 1024x650 |
ImageWidth | 1024 |
ISO | 200 |
Keywords | Bilkirkegård, Bilvrak, Rust, Bil, Kjøretøy, Gammel |
LightSource | Unknown |
LightValue | 12.6 |
LuminanceAdjustmentAqua | 0 |
LuminanceAdjustmentBlue | 0 |
LuminanceAdjustmentGreen | 0 |
LuminanceAdjustmentMagenta | 0 |
LuminanceAdjustmentOrange | 0 |
LuminanceAdjustmentPurple | 0 |
LuminanceAdjustmentRed | 0 |
LuminanceAdjustmentYellow | 0 |
LuminanceSmoothing | 0 |
Make | KONICA MINOLTA |
MaxApertureValue | 4.0 |
Megapixels | 0.666 |
MeteringMode | Multi-segment |
Model | DYNAX 7D |
ModifyDate (1) | 2009:01:13 22:55:20+01:00 |
ModifyDate | 2009:01:13 22:55:20 |
ObjectName | Gamle bilvrak |
Orientation | Horizontal (normal) |
ParametricDarks | 0 |
ParametricHighlights | 0 |
ParametricHighlightSplit | 75 |
ParametricLights | 0 |
ParametricMidtoneSplit | 50 |
ParametricShadows | 0 |
ParametricShadowSplit | 25 |
PostCropVignetteAmount | 0 |
ProfileDescription | sRGB IEC61966-2.1 |
Province-State | Töcksfors |
Rating | 0 |
RawFileName | 050410060.mrw |
RedHue | 0 |
RedSaturation | 0 |
Rights | © Ann Forberg |
Saturation (2) | +31 |
Saturation | Normal |
SaturationAdjustmentAqua | 0 |
SaturationAdjustmentBlue | 0 |
SaturationAdjustmentGreen | 0 |
SaturationAdjustmentMagenta | 0 |
SaturationAdjustmentOrange | 0 |
SaturationAdjustmentPurple | 0 |
SaturationAdjustmentRed | 0 |
SaturationAdjustmentYellow | 0 |
ScaleFactor35efl | 1.5 |
SceneCaptureType | Standard |
Shadows | 15 |
ShadowTint | 0 |
SharpenDetail | 25 |
SharpenEdgeMasking | 0 |
SharpenRadius | +1.0 |
Sharpness (2) | 25 |
Sharpness | Normal |
ShutterSpeed | 1/200 |
ShutterSpeedValue | 1/200 |
SidecarForExtension | MRW |
Software | Adobe Photoshop CS3 Windows |
SplitToningBalance | 0 |
SplitToningHighlightHue | 0 |
SplitToningHighlightSaturation | 0 |
SplitToningShadowHue | 0 |
SplitToningShadowSaturation | 0 |
State | Töcksfors |
Subject | Bilkirkegård, Bilvrak, Rust, Bil, Kjøretøy, Gammel |
SubjectArea (1) | 1504, 1000, 256, 304 |
SubjectArea | 1504 1000 256 304 |
Tint | +2 |
Title | Gamle bilvrak |
ToneCurve | 0, 0, 32, 22, 64, 56, 128, 128, 192, 196, 255, 255 |
ToneCurveName | Medium Contrast |
Urgency | 5 (normal urgency) |
URL_List | |
Version | 4.5 |
Vibrance | +35 |
VignetteAmount | 0 |
WhiteBalance (2) | As Shot |
WhiteBalance | Auto |