Felt | Verdi |
AlreadyApplied | True |
Aperture | 1.8 |
ApertureValue | 1.8 |
Artist | Jonas Jansen |
BitsPerSample | 8 |
BlueHue | 0 |
BlueSaturation | 0 |
Brightness | +65 |
By-line | Jonas Jansen |
CameraProfile | ACR 3.1 |
ChromaticAberrationB | 0 |
ChromaticAberrationR | 0 |
CircleOfConfusion | 0.019 mm |
ColorComponents | 1 |
ColorMode | Grayscale |
ColorSpace (1) | Unknown (-1) |
ColorSpace | Uncalibrated |
ColorTemperature | 5000 |
Contrast | +25 |
ConvertToGrayscale | True |
CopyrightFlag | False |
CreateDate (1) | 2009:01:15 22:25+01:00 |
CreateDate | 2009:01:12 22:24:38 |
Creator | Jonas Jansen |
CreatorTool | Adobe Photoshop CS3 Windows |
CustomRendered | Normal |
DateTimeDigitized | 2009:01:12 22:24:38+01:00 |
DateTimeOriginal (1) | 2009:01:12 22:24:38+01:00 |
DateTimeOriginal | 2009:01:12 22:24:38 |
ExifImageHeight | 752 |
ExifImageWidth | 1100 |
Exposure | +1.05 |
ExposureCompensation | 0 |
ExposureMode | Auto |
ExposureProgram | Aperture-priority AE |
ExposureTime | 1/4000 |
FillLight | 1 |
Firmware | 1.0.2 |
Flash | Off, Did not fire |
FlashCompensation | -2 |
FlashFired | False |
FlashFunction | False |
FlashMode | Off |
FlashRedEyeMode | False |
FlashReturn | No return detection |
FNumber | 1.8 |
FocalLength | 85.0 mm |
FocalLength35efl | 85.0 mm (35 mm equivalent: 137.9 mm) |
Format | image/jpeg |
FOV | 14.9 deg |
GrayMixerAqua | -19 |
GrayMixerBlue | +7 |
GrayMixerGreen | -24 |
GrayMixerMagenta | +4 |
GrayMixerOrange | -16 |
GrayMixerPurple | +13 |
GrayMixerRed | -8 |
GrayMixerYellow | -19 |
GreenHue | 0 |
GreenSaturation | 0 |
HasCrop | False |
HasSettings | True |
HighlightRecovery | 6 |
HyperfocalDistance | 216.71 m |
ICCProfileName | Gray Gamma 2.2 |
ImageHeight | 752 |
ImageNumber | 123 |
ImageSize | 1100x752 |
ImageWidth | 1100 |
ISO | 100 |
Lens | 85.0 mm |
LensInfo | 85mm f/? |
LightValue | 13.7 |
LuminanceSmoothing | 0 |
Make | Canon |
Megapixels | 0.827 |
MeteringMode | Partial |
Model | Canon EOS 350D DIGITAL |
ModifyDate (1) | 2009:01:15 22:25+01:00 |
ModifyDate | 2009:01:15 22:25:00 |
Orientation | Horizontal (normal) |
OwnerName | Jonas Jansen |
ParametricDarks | 0 |
ParametricHighlights | 0 |
ParametricHighlightSplit | 75 |
ParametricLights | 0 |
ParametricMidtoneSplit | 50 |
ParametricShadows | 0 |
ParametricShadowSplit | 25 |
ProfileDescription | Gray Gamma 2.2 |
Rating | 0 |
RawFileName | _MG_2939.CR2 |
RedHue | 0 |
RedSaturation | 0 |
ScaleFactor35efl | 1.6 |
SceneCaptureType | Standard |
SerialNumber | 730552347 |
Shadows | 16 |
ShadowTint | 0 |
Sharpness | 25 |
ShutterSpeed | 1/4000 |
ShutterSpeedValue | 1/4000 |
SidecarForExtension | CR2 |
Software | Adobe Photoshop CS3 Windows |
SplitToningBalance | 0 |
SplitToningHighlightHue | 0 |
SplitToningHighlightSaturation | 0 |
SplitToningShadowHue | 0 |
SplitToningShadowSaturation | 0 |
TimeZoneOffset | 1 1 |
Tint | +14 |
ToneCurve | 0, 0, 32, 22, 64, 56, 128, 128, 192, 196, 255, 255 |
ToneCurveName | Medium Contrast |
URL_List | |
Version | 4.0 |
VignetteAmount | -87 |
VignetteMidpoint | 17 |
WhiteBalance (2) | As Shot |
WhiteBalance | Auto |