Felt | Verdi |
AlreadyApplied | True |
Aperture | 5.0 |
ApertureValue | 5.0 |
BitsPerSample | 8 |
BlueHue | -3 |
BlueSaturation | -19 |
Brightness | +59 |
CameraProfile | ACR 4.4 |
ChromaticAberrationB | 0 |
ChromaticAberrationR | 0 |
CircleOfConfusion | 0.019 mm |
Clarity | 0 |
ColorComponents | 3 |
ColorMode | RGB |
ColorNoiseReduction | 25 |
ColorSpace | Uncalibrated |
ColorTemperature | 5750 |
Contrast | +28 |
ConvertToGrayscale | False |
CreateDate (1) | 2008:09:25 12:22:13.95+02:00 |
CreateDate | 2008:09:25 12:22:13 |
CropAngle | 0 |
CropBottom | 0.981623 |
CropLeft | 0.002043 |
CropRight | 0.986721 |
CropTop | 0.05513 |
CustomRendered | Normal |
DateTimeDigitized | 2008:09:25 12:22:13.95+02:00 |
DateTimeOriginal (1) | 2008:09:25 12:22:13.95+02:00 |
DateTimeOriginal | 2008:09:25 12:22:13 |
Defringe | 0 |
ExifImageHeight | 3828 |
ExifImageWidth | 2401 |
Exposure | -0.15 |
ExposureCompensation | 0 |
ExposureMode | Manual |
ExposureProgram | Manual |
ExposureTime | 1/400 |
FillLight | 3 |
Firmware | 1.0.5 |
Flash | Off, Did not fire |
FlashCompensation | 0 |
FlashFired | False |
FlashFunction | False |
FlashMode | Off |
FlashRedEyeMode | False |
FlashReturn | No return detection |
FNumber | 5.0 |
FocalLength | 35.0 mm |
FocalLength35efl | 35.0 mm (35 mm equivalent: 56.7 mm) |
Format | image/jpeg |
FOV | 35.2 deg |
GreenHue | -3 |
GreenSaturation | -1 |
HasCrop | True |
HasSettings | True |
HighlightRecovery | 46 |
HueAdjustmentAqua | -8 |
HueAdjustmentBlue | +6 |
HueAdjustmentGreen | +6 |
HueAdjustmentMagenta | +35 |
HueAdjustmentOrange | +5 |
HueAdjustmentPurple | +3 |
HueAdjustmentRed | +1 |
HueAdjustmentYellow | -3 |
HyperfocalDistance | 13.20 m |
ICCProfileName | Adobe RGB (1998) |
ImageHeight | 3828 |
ImageNumber | 0 |
ImageSize | 2401x3828 |
ImageWidth | 2401 |
ISO | 100 |
Lens | EF-S17-85mm f/4-5.6 IS USM |
LensInfo | 17-85mm f/? |
LightValue | 13.3 |
LuminanceAdjustmentAqua | -53 |
LuminanceAdjustmentBlue | -7 |
LuminanceAdjustmentGreen | 0 |
LuminanceAdjustmentMagenta | 0 |
LuminanceAdjustmentOrange | -1 |
LuminanceAdjustmentPurple | -33 |
LuminanceAdjustmentRed | +93 |
LuminanceAdjustmentYellow | +74 |
LuminanceSmoothing | 0 |
Make | Canon |
MaxApertureValue | 5.2 |
Megapixels | 9.2 |
MeteringMode | Multi-segment |
Model | Canon EOS 40D |
ModifyDate (1) | 2009:01:15 20:15:05+01:00 |
ModifyDate | 2009:01:15 20:15:05 |
Orientation | Horizontal (normal) |
ParametricDarks | +18 |
ParametricHighlights | +9 |
ParametricHighlightSplit | 75 |
ParametricLights | -18 |
ParametricMidtoneSplit | 50 |
ParametricShadows | -8 |
ParametricShadowSplit | 25 |
PostCropVignetteAmount | -21 |
PostCropVignetteFeather | 60 |
PostCropVignetteMidpoint | 58 |
PostCropVignetteRoundness | +20 |
ProfileDescription | Adobe RGB (1998) |
Rating | 1 |
RawFileName | IMG_5834.dng |
RedHue | -1 |
RedSaturation | -2 |
Saturation | -3 |
SaturationAdjustmentAqua | +9 |
SaturationAdjustmentBlue | +8 |
SaturationAdjustmentGreen | +10 |
SaturationAdjustmentMagenta | 0 |
SaturationAdjustmentOrange | +11 |
SaturationAdjustmentPurple | +3 |
SaturationAdjustmentRed | +62 |
SaturationAdjustmentYellow | -3 |
ScaleFactor35efl | 1.6 |
SceneCaptureType | Standard |
SerialNumber | 930523664 |
Shadows | 3 |
ShadowTint | +3 |
SharpenDetail | 25 |
SharpenEdgeMasking | 0 |
SharpenRadius | +1.0 |
Sharpness | 1 |
ShutterSpeed | 1/400 |
ShutterSpeedValue | 1/400 |
Software | Adobe Photoshop CS4 Windows |
SplitToningBalance | 0 |
SplitToningHighlightHue | 20 |
SplitToningHighlightSaturation | 8 |
SplitToningShadowHue | 237 |
SplitToningShadowSaturation | 2 |
Tint | -37 |
ToneCurve | 0, 0, 32, 22, 64, 56, 128, 128, 192, 196, 255, 255 |
ToneCurveName | Medium Contrast |
URL_List | |
Version | 5.0 |
Vibrance | -15 |
VignetteAmount | -98 |
VignetteMidpoint | 17 |
WhiteBalance (2) | Custom |
WhiteBalance | Auto |