Felt | Verdi |
AlreadyApplied | True |
Aperture | 6.3 |
ApertureValue | 6.3 |
Artist | Per Tallaksen |
BitsPerSample | 8 |
BlueHue | 0 |
BlueSaturation | 0 |
Brightness | +50 |
By-line | Per Tallaksen |
CameraProfile | ACR 4.2 |
Caption-Abstract | artig med hvordan vannet lager en krage rundt halsen på fuglen og hvordan man kan se hodet gjennom kragen med en slags linse-effekt. |
ChromaticAberrationB | 0 |
ChromaticAberrationR | 0 |
CircleOfConfusion | 0.019 mm |
Clarity | 0 |
ColorComponents | 3 |
ColorMode | RGB |
ColorNoiseReduction | 25 |
ColorSpace | sRGB |
ColorTemperature | 5001 |
Contrast | +40 |
ConvertToGrayscale | False |
CreateDate (1) | 2008:03:15 10:51:03.36+01:00 |
CreateDate | 2008:03:15 10:51:03 |
Creator | Per Tallaksen |
CreatorTool | Adobe Photoshop Lightroom |
CropAngle | 0 |
CropBottom | 0.730882 |
CropHeight | 1006 |
CropLeft | 0.303922 |
CropRight | 0.692157 |
CropTop | 0.342647 |
CropUnit | pixels |
CropWidth | 1509 |
CustomRendered | Normal |
DateTimeDigitized | 2008:03:15 10:51:03.36+01:00 |
DateTimeOriginal (1) | 2008:03:15 10:51:03.36+01:00 |
DateTimeOriginal | 2008:03:15 10:51:03 |
Defringe | 0 |
Description | artig med hvordan vannet lager en krage rundt halsen på fuglen og hvordan man kan se hodet gjennom kragen med en slags linse-effekt. |
ExifImageHeight | 652 |
ExifImageWidth | 978 |
Exposure | 0.00 |
ExposureCompensation | +1/3 |
ExposureMode | Auto |
ExposureProgram | Program AE |
ExposureTime | 1/320 |
FillLight | 0 |
Firmware | 1.0.4 |
Flash | Off, Did not fire |
FlashCompensation | 0 |
FlashFired | False |
FlashFunction | False |
FlashMode | Off |
FlashRedEyeMode | False |
FlashReturn | No return detection |
FNumber | 6.3 |
FocalLength | 420.0 mm |
FocalLength35efl | 420.0 mm (35 mm equivalent: 679.9 mm) |
Format | image/jpeg |
FOV | 3.0 deg |
GreenHue | 0 |
GreenSaturation | 0 |
HasCrop | True |
HasSettings | True |
HighlightRecovery | 0 |
HueAdjustmentAqua | 0 |
HueAdjustmentBlue | 0 |
HueAdjustmentGreen | 0 |
HueAdjustmentMagenta | 0 |
HueAdjustmentOrange | 0 |
HueAdjustmentPurple | 0 |
HueAdjustmentRed | 0 |
HueAdjustmentYellow | 0 |
HyperfocalDistance | 1508.55 m |
ICCProfileName | sRGB IEC61966-2.1 |
ImageDescription | artig med hvordan vannet lager en krage rundt halsen på fuglen og hvordan man kan se hodet gjennom kragen med en slags linse-effekt. |
ImageHeight (1) | 1006 |
ImageHeight | 652 |
ImageNumber | 0 |
ImageSize | 978x652 |
ImageWidth (1) | 1509 |
ImageWidth | 978 |
ISO | 100 |
Keywords | Fugler |
Lens | EF300mm f/4L IS USM +1.4x |
LensInfo | 300mm f/? |
LightValue | 13.6 |
LuminanceAdjustmentAqua | 0 |
LuminanceAdjustmentBlue | 0 |
LuminanceAdjustmentGreen | 0 |
LuminanceAdjustmentMagenta | 0 |
LuminanceAdjustmentOrange | 0 |
LuminanceAdjustmentPurple | 0 |
LuminanceAdjustmentRed | 0 |
LuminanceAdjustmentYellow | 0 |
LuminanceSmoothing | 0 |
Make | Canon |
MaxApertureValue | 5.7 |
Megapixels | 0.638 |
MeteringMode | Multi-segment |
Model | Canon EOS 40D |
ModifyDate (1) | 2009:02:01 00:37:42+01:00 |
ModifyDate | 2009:02:01 00:37:42 |
Orientation | Horizontal (normal) |
OwnerName | Per Tallaksen |
ParametricDarks | -14 |
ParametricHighlights | -59 |
ParametricHighlightSplit | 75 |
ParametricLights | -42 |
ParametricMidtoneSplit | 50 |
ParametricShadows | 0 |
ParametricShadowSplit | 25 |
PostCropVignetteAmount | 0 |
ProfileDescription | sRGB IEC61966-2.1 |
Rating | 5 |
RedHue | 0 |
RedSaturation | 0 |
Saturation | 0 |
SaturationAdjustmentAqua | +22 |
SaturationAdjustmentBlue | +38 |
SaturationAdjustmentGreen | +82 |
SaturationAdjustmentMagenta | 0 |
SaturationAdjustmentOrange | 0 |
SaturationAdjustmentPurple | 0 |
SaturationAdjustmentRed | 0 |
SaturationAdjustmentYellow | 0 |
ScaleFactor35efl | 1.6 |
SceneCaptureType | Standard |
SerialNumber | 630332826 |
Shadows | 5 |
ShadowTint | 0 |
SharpenDetail | 33 |
SharpenEdgeMasking | 0 |
SharpenRadius | +1.2 |
Sharpness | 88 |
ShutterSpeed | 1/320 |
ShutterSpeedValue | 1/320 |
Software | Adobe Photoshop CS4 Windows |
SplitToningBalance | 0 |
SplitToningHighlightHue | 0 |
SplitToningHighlightSaturation | 0 |
SplitToningShadowHue | 234 |
SplitToningShadowSaturation | 0 |
Subject | Fugler |
Tint | +10 |
ToneCurve | 0, 0, 32, 22, 64, 56, 128, 128, 192, 196, 255, 255 |
ToneCurveName | Medium Contrast |
URL_List | |
Version | 5.2 |
Vibrance | 0 |
VignetteAmount | 0 |
WhiteBalance (2) | Custom |
WhiteBalance | Auto |