Felt | Verdi |
AlreadyApplied | True |
Aperture | 5.6 |
ApertureValue | 5.6 |
Artist | unknown |
BitsPerSample | 8 |
BlueHue | 0 |
BlueSaturation | 0 |
Brightness | 0 |
By-line | unknown |
CameraProfile | Embedded |
ChromaticAberrationB | 0 |
ChromaticAberrationR | 0 |
CircleOfConfusion | 0.019 mm |
Clarity | +100 |
ColorComponents | 1 |
ColorNoiseReduction | 0 |
Contrast | +18 |
ConvertToGrayscale | False |
CreateDate (1) | 2009:01:22 09:29:36+01:00 |
CreateDate | 2009:01:22 09:29:36 |
Creator | unknown |
CreatorTool | Adobe Photoshop Lightroom |
CropAngle | 0.431514 |
CropBottom | 1 |
CropHeight | 2563 |
CropLeft | 0.008068 |
CropRight | 0.991932 |
CropTop | 0 |
CropUnit | pixels |
CropWidth | 3845 |
CustomRendered | Normal |
DateTimeDigitized | 2009:01:22 09:29:36+01:00 |
DateTimeOriginal (1) | 2009:01:22 09:29:36+01:00 |
DateTimeOriginal | 2009:01:22 09:29:36 |
Defringe | 0 |
ExifImageHeight | 2563 |
ExifImageWidth | 3845 |
Exposure | -0.42 |
ExposureCompensation | 0 |
ExposureMode | Auto |
ExposureProgram | Landscape |
ExposureTime | 1/30 |
FillLight | 0 |
Firmware | 1.0.0 |
Flash | Off, Did not fire |
FlashCompensation | 0 |
FlashFired | False |
FlashFunction | False |
FlashMode | Off |
FlashRedEyeMode | False |
FlashReturn | No return detection |
FNumber | 5.6 |
FocalLength | 14.0 mm |
FocalLength35efl | 14.0 mm (35 mm equivalent: 22.7 mm) |
FOV | 76.9 deg |
GreenHue | 0 |
GreenSaturation | 0 |
HasCrop | True |
HasSettings | True |
HighlightRecovery | 31 |
HueAdjustmentAqua | 0 |
HueAdjustmentBlue | 0 |
HueAdjustmentGreen | 0 |
HueAdjustmentMagenta | 0 |
HueAdjustmentOrange | 0 |
HueAdjustmentPurple | 0 |
HueAdjustmentRed | 0 |
HueAdjustmentYellow | 0 |
HyperfocalDistance | 1.89 m |
ImageHeight | 2563 |
ImageNumber | 160 |
ImageSize | 3845x2563 |
ImageWidth | 3845 |
IncrementalTemperature | 0 |
IncrementalTint | 0 |
ISO | 400 |
Label | Red |
Lens | 10.0-17.0 mm |
LensInfo | 10-17mm f/? |
LightValue | 7.9 |
LuminanceAdjustmentAqua | 0 |
LuminanceAdjustmentBlue | 0 |
LuminanceAdjustmentGreen | 0 |
LuminanceAdjustmentMagenta | 0 |
LuminanceAdjustmentOrange | 0 |
LuminanceAdjustmentPurple | 0 |
LuminanceAdjustmentRed | 0 |
LuminanceAdjustmentYellow | 0 |
LuminanceSmoothing | 0 |
Make | Canon |
MaxApertureValue | 4.0 |
Megapixels | 9.9 |
MeteringMode | Multi-segment |
Model | Canon EOS 400D DIGITAL |
ModifyDate (1) | 2009:01:25 12:54:13+01:00 |
ModifyDate | 2009:01:25 12:54:13 |
OwnerName | unknown |
ParametricDarks | 0 |
ParametricHighlights | 0 |
ParametricHighlightSplit | 90 |
ParametricLights | 0 |
ParametricMidtoneSplit | 59 |
ParametricShadows | 0 |
ParametricShadowSplit | 25 |
PostCropVignetteAmount | 0 |
ProfileDescription | sRGB IEC61966-2.1 |
RedHue | 0 |
RedSaturation | 0 |
Saturation | -100 |
SaturationAdjustmentAqua | 0 |
SaturationAdjustmentBlue | 0 |
SaturationAdjustmentGreen | 0 |
SaturationAdjustmentMagenta | 0 |
SaturationAdjustmentOrange | 0 |
SaturationAdjustmentPurple | 0 |
SaturationAdjustmentRed | 0 |
SaturationAdjustmentYellow | 0 |
ScaleFactor35efl | 1.6 |
SceneCaptureType | Standard |
SerialNumber | 660315860 |
Shadows | 16 |
ShadowTint | 0 |
SharpenDetail | 25 |
SharpenEdgeMasking | 0 |
SharpenRadius | +1.0 |
Sharpness | 0 |
ShutterSpeed | 1/30 |
ShutterSpeedValue | 1/30 |
SplitToningBalance | 0 |
SplitToningHighlightHue | 0 |
SplitToningHighlightSaturation | 0 |
SplitToningShadowHue | 0 |
SplitToningShadowSaturation | 0 |
ToneCurve | 0, 0, 255, 255 |
ToneCurveName | Linear |
Version | 4.6 |
Vibrance | +58 |
VignetteAmount | 0 |
WhiteBalance (2) | As Shot |
WhiteBalance | Auto |