Felt | Verdi |
AlreadyApplied | True |
Aperture | 8.0 |
ApertureValue | 8.0 |
BitsPerSample (1) | 16, 16, 16 |
BitsPerSample (2) | 16 16 16 |
BitsPerSample | 8 |
BlueHue | 0 |
BlueSaturation | 0 |
Brightness | +29 |
CameraProfile | ACR 4.4 |
ChromaticAberrationB | 0 |
ChromaticAberrationR | 0 |
CircleOfConfusion | 0.019 mm |
Clarity | 10 |
ColorComponents | 3 |
ColorMode | RGB |
ColorNoiseReduction | 48 |
ColorSpace | sRGB |
ColorTemperature | 5450 |
Contrast | +41 |
ConvertToGrayscale | False |
CopyrightFlag | False |
CreateDate (1) | 2009:02:11 21:36:44+01:00 |
CreateDate | 2009:02:11 12:01:09 |
CreatorTool | Adobe Photoshop CS3 Windows |
CropAngle | 10.558905 |
CropBottom | 1 |
CropHeight | 2181 |
CropLeft | 0.277521 |
CropRight | 0.793247 |
CropTop | 0 |
CropUnit | pixels |
CropWidth | 2446 |
CustomRendered | Normal |
DateTimeDigitized | 2009:02:11 12:01:09.51+01:00 |
DateTimeOriginal (1) | 2009:02:11 12:01:09.51+01:00 |
DateTimeOriginal | 2009:02:11 12:01:09 |
Defringe | 0 |
ExifImageHeight | 768 |
ExifImageWidth | 861 |
Exposure | -0.57 |
ExposureCompensation | +1/3 |
ExposureMode | Auto |
ExposureProgram | Aperture-priority AE |
ExposureTime | 1/500 |
FillLight | 25 |
Firmware | 1.0.8 |
Flash | Off, Did not fire |
FlashCompensation | 0 |
FlashFired | False |
FlashFunction | False |
FlashMode | Off |
FlashRedEyeMode | False |
FlashReturn | No return detection |
FNumber | 8.0 |
FocalLength | 400.0 mm |
FocalLength35efl | 400.0 mm (35 mm equivalent: 647.5 mm) |
Format | image/jpeg |
FOV | 3.2 deg |
GreenHue | 0 |
GreenSaturation | 0 |
HasCrop | True |
HasSettings | True |
HighlightRecovery | 10 |
HueAdjustmentAqua | 0 |
HueAdjustmentBlue | 0 |
HueAdjustmentGreen | 0 |
HueAdjustmentMagenta | 0 |
HueAdjustmentOrange | 0 |
HueAdjustmentPurple | 0 |
HueAdjustmentRed | 0 |
HueAdjustmentYellow | 0 |
HyperfocalDistance | 1077.54 m |
ICCProfileName | sRGB IEC61966-2.1 |
ImageHeight (1) | 2181 |
ImageHeight | 768 |
ImageNumber | 0 |
ImageSize | 861x768 |
ImageWidth (2) | 2446 |
ImageWidth | 861 |
ISO | 200 |
Lens | EF100-400mm f/4.5-5.6L IS USM |
LensInfo | 100-400mm f/? |
LightValue | 14.0 |
LuminanceAdjustmentAqua | -5 |
LuminanceAdjustmentBlue | -5 |
LuminanceAdjustmentGreen | +5 |
LuminanceAdjustmentMagenta | -5 |
LuminanceAdjustmentOrange | +5 |
LuminanceAdjustmentPurple | -5 |
LuminanceAdjustmentRed | -5 |
LuminanceAdjustmentYellow | +2 |
LuminanceSmoothing | 39 |
Make | Canon |
MaxApertureValue | 5.7 |
Megapixels | 0.661 |
MeteringMode | Multi-segment |
Model | Canon EOS 40D |
ModifyDate (1) | 2009:02:11 21:36:44+01:00 |
ModifyDate | 2009:02:11 21:36:44 |
Orientation | Horizontal (normal) |
ParametricDarks | 0 |
ParametricHighlights | -29 |
ParametricHighlightSplit | 75 |
ParametricLights | -10 |
ParametricMidtoneSplit | 50 |
ParametricShadows | -5 |
ParametricShadowSplit | 25 |
PhotometricInterpretation | RGB |
PlanarConfiguration | Chunky |
ProfileDescription | sRGB IEC61966-2.1 |
RedHue | 0 |
RedSaturation | 0 |
SamplesPerPixel | 3 |
Saturation | 0 |
SaturationAdjustmentAqua | -31 |
SaturationAdjustmentBlue | -31 |
SaturationAdjustmentGreen | 0 |
SaturationAdjustmentMagenta | -21 |
SaturationAdjustmentOrange | 0 |
SaturationAdjustmentPurple | -21 |
SaturationAdjustmentRed | 0 |
SaturationAdjustmentYellow | 0 |
ScaleFactor35efl | 1.6 |
SceneCaptureType | Standard |
SerialNumber | 630444448 |
Shadows | 1 |
ShadowTint | 0 |
SharpenDetail | 29 |
SharpenEdgeMasking | 19 |
SharpenRadius | +1.0 |
Sharpness | 39 |
ShutterSpeed | 1/500 |
ShutterSpeedValue | 1/500 |
Software | Adobe Photoshop CS3 Windows |
SplitToningBalance | 0 |
SplitToningHighlightHue | 0 |
SplitToningHighlightSaturation | 0 |
SplitToningShadowHue | 0 |
SplitToningShadowSaturation | 0 |
Tint | -7 |
ToneCurve | 0, 0, 32, 22, 64, 56, 128, 128, 192, 196, 255, 255 |
ToneCurveName | Medium Contrast |
URL_List | |
Version | 4.4.1 |
Vibrance | 0 |
VignetteAmount | 0 |
WhiteBalance (2) | As Shot |
WhiteBalance | Auto |