Felt | Verdi |
2009-02-16T12:41:14+01:00 File H:\självporträtt\20090216\tommy_20090216_0014.jpg saved
2009-02-16T12:41:57+01:00 File H:\självporträtt\20090216\tommy_20090216_0014_2.JPG saved
2009-02-16T12:42:47+01:00 File H:\självporträtt\20090216\tommy_20090216_0014_2.JPG saved
2009-02-16T12:42:56+01:00 File H:\självporträtt\20090216\tommy_20090216_0014_2.JPG saved
2009-02-16T12:43:57+01:00 File H:\självporträtt\20090216\tommy_20090216_0014_3.jpg saved
2009-02-16T12:45:43+01:00 File tommy_20090216_0014_3.jpg opened
2009-02-16T16:17:32+01:00 File tommy_20090216_0014_3.jpg opened
2009-02-16T16:18:06+01:00 File C:\Documents and Settings\Tommy Andersson.TOMMY\Skrivbord\tommy_20090216_0014_3.jpg saved
AlreadyApplied | True |
Artist | www.photomic.com |
BitsPerSample | 8 |
BlueHue | 0 |
BlueSaturation | 0 |
Brightness | +68 |
By-line | www.photomic.com |
CameraProfile | ACR 2.4 |
ChromaticAberrationB | 0 |
ChromaticAberrationR | 0 |
Clarity | 68 |
ColorComponents | 3 |
ColorMode | RGB |
ColorNoiseReduction | 100 |
ColorSpace | sRGB |
ColorTemperature | 4750 |
Contrast | +43 |
ConvertToGrayscale | False |
Copyright | Tommy Andersson |
CopyrightFlag | False |
CopyrightNotice | Tommy Andersson |
CreateDate | 2009:02:16 12:43:57+01:00 |
Creator | www.photomic.com |
CreatorTool | Adobe Photoshop CS3 Windows |
Defringe | 0 |
ExifImageHeight | 779 |
ExifImageWidth | 575 |
Exposure | 0.00 |
FillLight | 0 |
Firmware | 1.1.6 |
FlashCompensation | 0 |
Format | image/jpeg |
GreenHue | 0 |
GreenSaturation | 0 |
HasCrop | False |
HasSettings | True |
HighlightRecovery | 0 |
HueAdjustmentAqua | 0 |
HueAdjustmentBlue | 0 |
HueAdjustmentGreen | 0 |
HueAdjustmentMagenta | 0 |
HueAdjustmentOrange | 0 |
HueAdjustmentPurple | 0 |
HueAdjustmentRed | 0 |
HueAdjustmentYellow | 0 |
ICCProfileName | sRGB IEC61966-2.1 |
ImageHeight | 779 |
ImageNumber | 6870 |
ImageSize | 575x779 |
ImageWidth | 575 |
Lens | 24.0-105.0 mm |
LensInfo | 24-105mm f/? |
LuminanceAdjustmentAqua | 0 |
LuminanceAdjustmentBlue | 0 |
LuminanceAdjustmentGreen | 0 |
LuminanceAdjustmentMagenta | 0 |
LuminanceAdjustmentOrange | 0 |
LuminanceAdjustmentPurple | 0 |
LuminanceAdjustmentRed | 0 |
LuminanceAdjustmentYellow | 0 |
LuminanceSmoothing | 0 |
Megapixels | 0.448 |
ModifyDate (1) | 2009:02:16 16:18:06+01:00 |
ModifyDate | 2009:02:16 16:18:06 |
Orientation | Horizontal (normal) |
OwnerName | www.photomic.com |
ParametricDarks | 0 |
ParametricHighlights | 0 |
ParametricHighlightSplit | 75 |
ParametricLights | 0 |
ParametricMidtoneSplit | 50 |
ParametricShadows | 0 |
ParametricShadowSplit | 25 |
PreservedFileName | WX9G1442.CR2 |
ProfileDescription | sRGB IEC61966-2.1 |
Rating | 0 |
RawFileName | tommy_20090216_0014.CR2 |
RedHue | 0 |
RedSaturation | 0 |
Rights | Tommy Andersson |
Saturation | 0 |
SaturationAdjustmentAqua | 0 |
SaturationAdjustmentBlue | 0 |
SaturationAdjustmentGreen | 0 |
SaturationAdjustmentMagenta | 0 |
SaturationAdjustmentOrange | 0 |
SaturationAdjustmentPurple | 0 |
SaturationAdjustmentRed | 0 |
SaturationAdjustmentYellow | 0 |
SerialNumber | 314380 |
Shadows | 5 |
ShadowTint | 0 |
SharpenDetail | 43 |
SharpenEdgeMasking | 0 |
SharpenRadius | +1.6 |
Sharpness | 66 |
Software | Adobe Photoshop CS3 Windows |
SplitToningBalance | 0 |
SplitToningHighlightHue | 0 |
SplitToningHighlightSaturation | 0 |
SplitToningShadowHue | 0 |
SplitToningShadowSaturation | 0 |
Tint | +5 |
ToneCurve | 0, 0, 32, 22, 64, 56, 128, 128, 192, 196, 255, 255 |
ToneCurveName | Medium Contrast |
URL_List | |
Version | 4.3.1 |
Vibrance | -37 |
VignetteAmount | 0 |
WhiteBalance | As Shot |