Felt | Verdi |
AlreadyApplied | True |
Aperture | 4.5 |
ApertureValue | 4.5 |
BitsPerSample | 8 |
BlueHue | 0 |
BlueSaturation | 0 |
Brightness | +50 |
CameraProfile | ACR 4.4 |
ChromaticAberrationB | 0 |
ChromaticAberrationR | 0 |
CircleOfConfusion | 0.019 mm |
Clarity | +100 |
ColorComponents | 1 |
ColorNoiseReduction | 25 |
ColorTemperature | 50000 |
Contrast | +73 |
ConvertToGrayscale | True |
CreateDate (1) | 2009:02:06 15:33:42.81+01:00 |
CreateDate | 2009:02:06 15:33:42 |
CreatorTool | Adobe Photoshop Lightroom |
CropAngle | 0 |
CropBottom | 0.762166 |
CropHeight | 1109 |
CropLeft | 0.34068 |
CropRight | 0.730027 |
CropTop | 0.372819 |
CropUnit | pixels |
CropWidth | 1663 |
CustomRendered | Normal |
DateTimeDigitized | 2009:02:06 15:33:42.81+01:00 |
DateTimeOriginal (1) | 2009:02:06 15:33:42.81+01:00 |
DateTimeOriginal | 2009:02:06 15:33:42 |
Defringe | 0 |
ExifImageHeight | 1109 |
ExifImageWidth | 1663 |
Exposure | +0.30 |
ExposureCompensation | 0 |
ExposureMode | Manual |
ExposureProgram | Manual |
ExposureTime | 1/500 |
FillLight | 0 |
Firmware | 1.0.4 |
Flash | Off, Did not fire |
FlashCompensation | 0 |
FlashFired | False |
FlashFunction | False |
FlashMode | Off |
FlashRedEyeMode | False |
FlashReturn | No return detection |
FNumber | 4.5 |
FocalLength | 50.0 mm |
FocalLength35efl | 50.0 mm (35 mm equivalent: 80.8 mm) |
FOV | 25.1 deg |
GrayMixerAqua | -19 |
GrayMixerBlue | +8 |
GrayMixerGreen | -26 |
GrayMixerMagenta | +5 |
GrayMixerOrange | -18 |
GrayMixerPurple | +15 |
GrayMixerRed | -8 |
GrayMixerYellow | -22 |
GreenHue | 0 |
GreenSaturation | 0 |
HasCrop | True |
HasSettings | True |
HighlightRecovery | 0 |
HyperfocalDistance | 29.87 m |
ImageHeight | 1109 |
ImageNumber | 0 |
ImageSize | 1663x1109 |
ImageWidth | 1663 |
ISO | 400 |
Lens | 18-50mm |
LensInfo | 18-50mm f/? |
LightValue | 11.3 |
LuminanceSmoothing | 0 |
Make | Canon |
MaxApertureValue | 2.8 |
Megapixels | 1.8 |
MeteringMode | Multi-segment |
Model | Canon EOS 450D |
ModifyDate (1) | 2009:02:26 00:23:41+01:00 |
ModifyDate | 2009:02:26 00:23:41 |
ParametricDarks | +2 |
ParametricHighlights | -5 |
ParametricHighlightSplit | 75 |
ParametricLights | +52 |
ParametricMidtoneSplit | 50 |
ParametricShadows | -31 |
ParametricShadowSplit | 25 |
PostCropVignetteAmount | 0 |
ProfileDescription | sRGB IEC61966-2.1 |
RedHue | 0 |
RedSaturation | 0 |
ScaleFactor35efl | 1.6 |
SceneCaptureType | Standard |
SerialNumber | 680113337 |
Shadows | 3 |
ShadowTint | 0 |
SharpenDetail | 25 |
SharpenEdgeMasking | 0 |
SharpenRadius | +1.0 |
Sharpness | 25 |
ShutterSpeed | 1/500 |
ShutterSpeedValue | 1/500 |
SplitToningBalance | 0 |
SplitToningHighlightHue | 0 |
SplitToningHighlightSaturation | 0 |
SplitToningShadowHue | 0 |
SplitToningShadowSaturation | 0 |
Tint | +11 |
ToneCurve | 0, 0, 32, 22, 64, 56, 128, 128, 192, 196, 255, 255 |
ToneCurveName | Medium Contrast |
Version | 4.5 |
VignetteAmount | 0 |
WhiteBalance (2) | Custom |
WhiteBalance | Auto |