Felt | Verdi |
AlreadyApplied | True |
Aperture | 4.0 |
ApertureValue | 4.0 |
Artist | Børge Jensen |
AuthorsPosition | Fotograf |
BitsPerSample | 8 |
BlueHue | 0 |
BlueSaturation | 0 |
Brightness | +50 |
By-line | Børge Jensen |
By-lineTitle | Fotograf |
CameraProfile | Adobe Standard |
ChromaticAberrationB | 0 |
ChromaticAberrationR | 0 |
CircleOfConfusion | 0.023 mm |
Clarity | +21 |
ColorComponents | 3 |
ColorMode | RGB |
ColorNoiseReduction | 25 |
ColorSpace | sRGB |
ColorTemperature | 4738 |
Contrast | +43 |
ConvertToGrayscale | False |
Copyright | Børge Jensen |
CopyrightFlag | True |
CopyrightNotice | Børge Jensen |
CreateDate (1) | 2009:03:14 07:19:31.00+01:00 |
CreateDate | 2009:03:14 07:19:31 |
Creator | Børge Jensen |
CreatorAddress | Kampesteinsveien 11 |
CreatorCity | 3550 Gol |
CreatorCountry | Norway |
CreatorPostalCode | 3550 |
CreatorRegion | Norway |
CreatorWorkEmail | boerj@online.no |
CreatorWorkTelephone | +47 90738251 |
CreatorWorkURL | www.bjensen.no |
CropAngle | 0 |
CropBottom | 0.937729 |
CropLeft | 0.035409 |
CropRight | 0.838828 |
CropTop | 0.119048 |
CustomRendered | Normal |
DateTimeDigitized | 2009:03:14 07:19:31.00+01:00 |
DateTimeOriginal (1) | 2009:03:14 07:19:31.00+01:00 |
DateTimeOriginal | 2009:03:14 07:19:31 |
Defringe | 0 |
ExifImageHeight | 869 |
ExifImageWidth | 1280 |
Exposure | 0.00 |
ExposureCompensation | -4/3 |
ExposureMode | Auto |
ExposureProgram | Aperture-priority AE |
ExposureTime | 1/1000 |
FillLight | 0 |
Firmware | 1.2.3 |
Flash | Off, Did not fire |
FlashCompensation | 0 |
FlashFired | False |
FlashFunction | False |
FlashMode | Off |
FlashRedEyeMode | False |
FlashReturn | No return detection |
FNumber | 4.0 |
FocalLength | 300.0 mm |
FocalLength35efl | 300.0 mm (35 mm equivalent: 384.4 mm) |
Format | image/jpeg |
FOV | 5.4 deg |
GreenHue | 0 |
GreenSaturation | 0 |
HasCrop | True |
HasSettings | True |
HighlightRecovery | 25 |
HueAdjustmentAqua | 0 |
HueAdjustmentBlue | 0 |
HueAdjustmentGreen | 0 |
HueAdjustmentMagenta | 0 |
HueAdjustmentOrange | 0 |
HueAdjustmentPurple | 0 |
HueAdjustmentRed | 0 |
HueAdjustmentYellow | 0 |
HyperfocalDistance | 959.57 m |
ICCProfileName | sRGB IEC61966-2.1 |
ImageHeight | 869 |
ImageNumber | 0 |
ImageSize | 1280x869 |
ImageWidth | 1280 |
ISO | 640 |
Label | Red |
Lens | EF300mm f/2.8L IS USM |
LensInfo | 300mm f/? |
LightValue | 11.3 |
LuminanceAdjustmentAqua | 0 |
LuminanceAdjustmentBlue | 0 |
LuminanceAdjustmentGreen | 0 |
LuminanceAdjustmentMagenta | 0 |
LuminanceAdjustmentOrange | 0 |
LuminanceAdjustmentPurple | 0 |
LuminanceAdjustmentRed | 0 |
LuminanceAdjustmentYellow | 0 |
LuminanceSmoothing | 0 |
Make | Canon |
Marked | True |
MaxApertureValue | 2.8 |
Megapixels | 1.1 |
MeteringMode | Multi-segment |
Model | Canon EOS-1D Mark III |
ModifyDate (1) | 2009:03:15 09:27:02+01:00 |
ModifyDate | 2009:03:15 09:27:02 |
Orientation | Horizontal (normal) |
ParametricDarks | 0 |
ParametricHighlights | 0 |
ParametricHighlightSplit | 75 |
ParametricLights | 0 |
ParametricMidtoneSplit | 50 |
ParametricShadows | 0 |
ParametricShadowSplit | 25 |
PostCropVignetteAmount | 0 |
ProfileDescription | sRGB IEC61966-2.1 |
Rating | 0 |
RawFileName | _DM30724.CR2 |
RedHue | 0 |
RedSaturation | 0 |
Rights | Børge Jensen |
Saturation | +14 |
SaturationAdjustmentAqua | 0 |
SaturationAdjustmentBlue | 0 |
SaturationAdjustmentGreen | 0 |
SaturationAdjustmentMagenta | 0 |
SaturationAdjustmentOrange | 0 |
SaturationAdjustmentPurple | 0 |
SaturationAdjustmentRed | 0 |
SaturationAdjustmentYellow | 0 |
ScaleFactor35efl | 1.3 |
SceneCaptureType | Standard |
SerialNumber | 512913 |
Shadows | 5 |
ShadowTint | 0 |
SharpenDetail | 25 |
SharpenEdgeMasking | 0 |
SharpenRadius | +1.0 |
Sharpness | 25 |
ShutterSpeed | 1/1000 |
ShutterSpeedValue | 1/1000 |
Software | Adobe Photoshop CS4 Windows |
SplitToningBalance | 0 |
SplitToningHighlightHue | 0 |
SplitToningHighlightSaturation | 0 |
SplitToningShadowHue | 0 |
SplitToningShadowSaturation | 0 |
Tint | -5 |
ToneCurve | 0, 0, 32, 22, 64, 56, 128, 128, 192, 196, 255, 255 |
ToneCurveName | Medium Contrast |
URL | www.bjensen.no |
URL_List | |
Version | 5.0 |
Vibrance | +21 |
VignetteAmount | 0 |
WebStatement | www.bjensen.no |
WhiteBalance (2) | Custom |
WhiteBalance | Auto |