Felt | Verdi |
AlreadyApplied | True |
Aperture | 2.8 |
ApertureValue | 2.8 |
Artist | unknown |
BitsPerSample | 8 |
BlueHue | 0 |
BlueSaturation | 0 |
Brightness | +50 |
By-line | unknown |
CameraProfile | ACR 4.4 |
ChromaticAberrationB | 0 |
ChromaticAberrationR | 0 |
CircleOfConfusion | 0.019 mm |
Clarity | 0 |
ColorComponents | 3 |
ColorMode | RGB |
ColorNoiseReduction | 25 |
ColorSpace | sRGB |
ColorTemperature | 3191 |
Contrast | +25 |
ConvertToGrayscale | False |
CreateDate (1) | 2008:07:29 00:33:13+02:00 |
CreateDate | 2008:07:29 00:33:13 |
Creator | unknown |
CreatorTool | Adobe Photoshop Lightroom |
CustomRendered | Normal |
DateTimeDigitized | 2008:07:29 00:33:13+02:00 |
DateTimeOriginal (1) | 2008:07:29 00:33:13+02:00 |
DateTimeOriginal | 2008:07:29 00:33:13 |
Defringe | 0 |
ExifImageHeight | 533 |
ExifImageWidth | 800 |
Exposure | 0.00 |
ExposureCompensation | 0 |
ExposureMode | Manual |
ExposureProgram | Manual |
ExposureTime | 1/10 |
FillLight | 19 |
Firmware | 1.0.3 |
Flash | Off, Did not fire |
FlashCompensation | -0.333333333333333 |
FlashFired | False |
FlashFunction | False |
FlashMode | Off |
FlashRedEyeMode | False |
FlashReturn | No return detection |
FNumber | 2.8 |
FocalLength | 70.0 mm |
FocalLength35efl | 70.0 mm (35 mm equivalent: 113.6 mm) |
Format | image/jpeg |
FOV | 18.0 deg |
GreenHue | 0 |
GreenSaturation | 0 |
HasCrop | False |
HasSettings | True |
HighlightRecovery | 100 |
HueAdjustmentAqua | 0 |
HueAdjustmentBlue | 0 |
HueAdjustmentGreen | 0 |
HueAdjustmentMagenta | 0 |
HueAdjustmentOrange | 0 |
HueAdjustmentPurple | 0 |
HueAdjustmentRed | 0 |
HueAdjustmentYellow | 0 |
HyperfocalDistance | 94.48 m |
ICCProfileName | sRGB IEC61966-2.1 |
ImageHeight (1) | 2304 |
ImageHeight | 533 |
ImageNumber | 224 |
ImageSize | 800x533 |
ImageWidth (1) | 3456 |
ImageWidth | 800 |
ISO | 400 |
Lens | 70.0-200.0 mm |
LensInfo | 70-200mm f/? |
LightValue | 4.3 |
LuminanceAdjustmentAqua | 0 |
LuminanceAdjustmentBlue | 0 |
LuminanceAdjustmentGreen | 0 |
LuminanceAdjustmentMagenta | 0 |
LuminanceAdjustmentOrange | -29 |
LuminanceAdjustmentPurple | 0 |
LuminanceAdjustmentRed | -7 |
LuminanceAdjustmentYellow | 0 |
LuminanceSmoothing | 0 |
Make | Canon |
MaxApertureValue | 2.8 |
Megapixels | 0.426 |
MeteringMode | Multi-segment |
Model | Canon EOS 350D DIGITAL |
ModifyDate (1) | 2009:03:15 12:16:20+01:00 |
ModifyDate | 2009:03:15 12:16:20 |
Orientation | Horizontal (normal) |
OwnerName | unknown |
ParametricDarks | +5 |
ParametricHighlights | -76 |
ParametricHighlightSplit | 75 |
ParametricLights | -33 |
ParametricMidtoneSplit | 50 |
ParametricShadows | +7 |
ParametricShadowSplit | 25 |
PostCropVignetteAmount | 0 |
ProfileDescription | sRGB IEC61966-2.1 |
RedHue | 0 |
RedSaturation | 0 |
Saturation | 0 |
SaturationAdjustmentAqua | 0 |
SaturationAdjustmentBlue | 0 |
SaturationAdjustmentGreen | 0 |
SaturationAdjustmentMagenta | 0 |
SaturationAdjustmentOrange | +29 |
SaturationAdjustmentPurple | 0 |
SaturationAdjustmentRed | +5 |
SaturationAdjustmentYellow | +48 |
ScaleFactor35efl | 1.6 |
SceneCaptureType | Standard |
SerialNumber | 730551031 |
Shadows | 2 |
ShadowTint | 0 |
SharpenDetail | 79 |
SharpenEdgeMasking | 24 |
SharpenRadius | +1.0 |
Sharpness | 114 |
ShutterSpeed | 1/10 |
ShutterSpeedValue | 1/10 |
Software | Adobe Photoshop CS4 Windows |
SplitToningBalance | 0 |
SplitToningHighlightHue | 0 |
SplitToningHighlightSaturation | 0 |
SplitToningShadowHue | 0 |
SplitToningShadowSaturation | 0 |
Tint | +35 |
ToneCurve | 0, 0, 32, 22, 64, 56, 128, 128, 192, 196, 255, 255 |
ToneCurveName | Medium Contrast |
URL_List | |
Version | 4.5 |
Vibrance | 0 |
VignetteAmount | 0 |
WhiteBalance (2) | Custom |
WhiteBalance | Auto |