Felt | Verdi |
AlreadyApplied | True |
Aperture | 5.0 |
ApertureValue | 5.0 |
Artist | Henning Busk Larsen |
BitsPerSample | 8 |
BlueHue | 0 |
BlueSaturation | 0 |
Brightness | +8 |
By-line | Henning Busk Larsen |
CameraProfile | Embedded |
ChromaticAberrationB | 0 |
ChromaticAberrationR | 0 |
CircleOfConfusion | 0.019 mm |
Clarity | +77 |
ColorComponents | 3 |
ColorMode | RGB |
ColorNoiseReduction | 57 |
ColorSpace | sRGB |
Contrast | +25 |
ConvertToGrayscale | False |
CopyrightFlag | False |
CreateDate (1) | 2009:03:15 18:38:23+01:00 |
CreateDate | 2009:03:15 13:09:59 |
Creator | Henning Busk Larsen |
CreatorTool | Adobe Photoshop Elements 6.0 Windows |
CustomRendered | Normal |
DateTimeDigitized | 2009:03:15 13:09:59+01:00 |
DateTimeOriginal (1) | 2009:03:15 13:09:59+01:00 |
DateTimeOriginal | 2009:03:15 13:09:59 |
Defringe | 0 |
ExifImageHeight | 2592 |
ExifImageWidth | 3217 |
Exposure | -0.05 |
ExposureCompensation | +2/3 |
ExposureMode | Auto |
ExposureProgram | Shutter speed priority AE |
ExposureTime | 1/800 |
FillLight | 27 |
Firmware | 1.0.4 |
Flash | Off, Did not fire |
FlashCompensation | 0 |
FlashFired | False |
FlashFunction | False |
FlashMode | Off |
FlashRedEyeMode | False |
FlashReturn | No return detection |
FNumber | 5.0 |
FocalLength | 75.0 mm |
FocalLength35efl | 75.0 mm (35 mm equivalent: 121.4 mm) |
Format | image/jpeg |
FOV | 16.9 deg |
GreenHue | 0 |
GreenSaturation | 0 |
HasCrop | False |
HasSettings | True |
HighlightRecovery | 100 |
HueAdjustmentAqua | 0 |
HueAdjustmentBlue | 0 |
HueAdjustmentGreen | 0 |
HueAdjustmentMagenta | 0 |
HueAdjustmentOrange | 0 |
HueAdjustmentPurple | 0 |
HueAdjustmentRed | 0 |
HueAdjustmentYellow | 0 |
HyperfocalDistance | 60.60 m |
ICCProfileName | sRGB IEC61966-2.1 |
ImageHeight | 2592 |
ImageNumber | 192 |
ImageSize | 3217x2592 |
ImageWidth | 3217 |
IncrementalTemperature | 0 |
IncrementalTint | 0 |
ISO | 200 |
Lens | EF28-135mm f/3.5-5.6 IS USM |
LensInfo | 28-135mm f/? |
LightValue | 13.3 |
LuminanceAdjustmentAqua | 0 |
LuminanceAdjustmentBlue | 0 |
LuminanceAdjustmentGreen | 0 |
LuminanceAdjustmentMagenta | 0 |
LuminanceAdjustmentOrange | 0 |
LuminanceAdjustmentPurple | 0 |
LuminanceAdjustmentRed | 0 |
LuminanceAdjustmentYellow | 0 |
LuminanceSmoothing | 47 |
Make | Canon |
MaxApertureValue | 4.5 |
Megapixels | 8.3 |
MeteringMode | Multi-segment |
Model | Canon EOS 400D DIGITAL |
ModifyDate (1) | 2009:03:15 18:38:23+01:00 |
ModifyDate | 2009:03:15 18:38:23 |
Orientation | Horizontal (normal) |
OwnerName | Henning Busk Larsen |
ParametricDarks | 0 |
ParametricHighlights | 0 |
ParametricHighlightSplit | 75 |
ParametricLights | 0 |
ParametricMidtoneSplit | 50 |
ParametricShadows | 0 |
ParametricShadowSplit | 25 |
PostCropVignetteAmount | 0 |
ProfileDescription | sRGB IEC61966-2.1 |
Rating | 0 |
RawFileName | IMG_1500.JPG |
RedHue | 0 |
RedSaturation | 0 |
Saturation | +27 |
SaturationAdjustmentAqua | 0 |
SaturationAdjustmentBlue | 0 |
SaturationAdjustmentGreen | 0 |
SaturationAdjustmentMagenta | 0 |
SaturationAdjustmentOrange | 0 |
SaturationAdjustmentPurple | 0 |
SaturationAdjustmentRed | 0 |
SaturationAdjustmentYellow | 0 |
ScaleFactor35efl | 1.6 |
SceneCaptureType | Standard |
SerialNumber | 830445665 |
Shadows | 0 |
ShadowTint | 0 |
SharpenDetail | 27 |
SharpenEdgeMasking | 0 |
SharpenRadius | +2.7 |
Sharpness | 23 |
ShutterSpeed | 1/800 |
ShutterSpeedValue | 1/800 |
Software | Adobe Photoshop Elements 6.0 Windows |
SplitToningBalance | 0 |
SplitToningHighlightHue | 0 |
SplitToningHighlightSaturation | 0 |
SplitToningShadowHue | 0 |
SplitToningShadowSaturation | 0 |
ToneCurve | 0, 0, 255, 255 |
ToneCurveName | Linear |
URL_List | |
Version | 5.2 |
Vibrance | +53 |
VignetteAmount | 0 |
WhiteBalance (2) | As Shot |
WhiteBalance | Auto |