Felt | Verdi |
AlreadyApplied | True |
Aperture | 1.8 |
Aperture: 1.4
ApertureValue | 1.8 |
Artist | Stig Havnevik |
BitsPerSample | 8 |
BlueHue | 0 |
BlueSaturation | 0 |
Brightness | +50 |
By-line | Stig Havnevik |
CameraProfile | ACR 2.4 |
Caption-Abstract | Vokalisten i Howl, Simen Lund, pŒ Raumarock - BRUK DETTE |
ChromaticAberrationB | 0 |
ChromaticAberrationR | 0 |
CircleOfConfusion | 0.024 mm |
ColorComponents | 3 |
ColorMode | RGB |
ColorNoiseReduction | 25 |
ColorSpace | sRGB |
ColorSpace: 1
ColorTemperature | 4650 |
Contrast | +30 |
ConvertToGrayscale | False |
CopyrightFlag | False |
CreateDate (1) | 2008:08:01 21:11:39+02:00 |
CreateDate | 2008:08:01 17:12:51 |
Creator | Stig Havnevik |
CreatorTool | Adobe Photoshop CS3 Macintosh |
CustomRendered | Normal |
Date and Time: 2008:08:01 17:12:51
DateCreated | 2008:08:01 |
DateTimeDigitized | 2008:08:01 17:12:51+02:00 |
DateTimeOriginal (1) | 2008:08:01 17:12:51+02:00 |
DateTimeOriginal | 2008:08:01 17:12:51 |
DerivedFrom | |
Description | Vokalisten i Howl, Simen Lund, på Raumarock - BRUK DETTE |
ExifCameraInfo | Model: Canon EOS-1D Mark II
ExifImageHeight | 683 |
ExifImageWidth | 1024 |
Exposure Bias: 0.000
Exposure Program: Manual
Exposure Time: 1/800 Sec
Exposure | 0.00 |
ExposureCompensation | 0 |
ExposureMode | Manual |
ExposureProgram | Manual |
ExposureTime | 1/800 |
F Number: 1.8
FillLight | 28 |
Firmware | 1.2.6 |
Flash | Off, Did not fire |
Flash: No
FlashCompensation | 0 |
FlashFired | False |
FlashFunction | False |
FlashMode | Off |
FlashRedEyeMode | False |
FlashReturn | No return detection |
FNumber | 1.8 |
FocalLength | 28.0 mm |
FocalLength35efl | 28.0 mm (35 mm equivalent: 35.0 mm) |
Format | image/jpeg |
FOV | 54.5 deg |
GreenHue | 0 |
GreenSaturation | 0 |
HasCrop | False |
HasSettings | True |
HighlightRecovery | 0 |
HueAdjustmentAqua | 0 |
HueAdjustmentBlue | 0 |
HueAdjustmentGreen | 0 |
HueAdjustmentMagenta | 0 |
HueAdjustmentOrange | 0 |
HueAdjustmentPurple | 0 |
HueAdjustmentRed | 0 |
HueAdjustmentYellow | 0 |
HyperfocalDistance | 18.10 m |
ICCProfileName | sRGB IEC61966-2.1 |
ImageDescription | Vokalisten i Howl, Simen Lund, på Raumarock - BRUK DETTE |
ImageHeight | 683 |
ImageNumber | 30171 |
ImageSize | 1024x683 |
ImageWidth | 1024 |
ISO Speed: 100
ISO | 100 |
Label | Second |
Lens | 28.0 mm |
LensInfo | 28mm f/? |
LightValue | 11.3 |
LuminanceAdjustmentAqua | 0 |
LuminanceAdjustmentBlue | -36 |
LuminanceAdjustmentGreen | 0 |
LuminanceAdjustmentMagenta | 0 |
LuminanceAdjustmentOrange | +12 |
LuminanceAdjustmentPurple | 0 |
LuminanceAdjustmentRed | +13 |
LuminanceAdjustmentYellow | 0 |
LuminanceSmoothing | 0 |
Make | Canon |
Marked | False |
MaxApertureValue | 1.8 |
Megapixels | 0.699 |
Metering Mode: Pattern
MeteringMode | Multi-segment |
Model | Canon EOS-1D Mark II |
ModifyDate (1) | 2009:03:24 14:27:26+01:00 |
ModifyDate | 2009:03:24 14:27:26 |
Orientation | Horizontal (normal) |
Orientation: 0
ParametricDarks | 0 |
ParametricHighlights | 0 |
ParametricHighlightSplit | 75 |
ParametricLights | 0 |
ParametricMidtoneSplit | 50 |
ParametricShadows | 0 |
ParametricShadowSplit | 25 |
ProfileDescription | sRGB IEC61966-2.1 |
Rating | 0 |
RawFileName | raumarock08_1886.CR2 |
RedHue | 0 |
RedSaturation | 0 |
Resolution: 240.000
Saturation | 0 |
SaturationAdjustmentAqua | 0 |
SaturationAdjustmentBlue | +12 |
SaturationAdjustmentGreen | 0 |
SaturationAdjustmentMagenta | 0 |
SaturationAdjustmentOrange | +12 |
SaturationAdjustmentPurple | 0 |
SaturationAdjustmentRed | 0 |
SaturationAdjustmentYellow | +12 |
ScaleFactor35efl | 1.2 |
SceneCaptureType | Standard |
SerialNumber | 241687 |
Shadows | 14 |
ShadowTint | 0 |
Sharpness | 25 |
Shutter Speed: 1/500 Sec
ShutterSpeed | 1/800 |
ShutterSpeedValue | 1/800 |
SidecarForExtension | CR2 |
Software | Adobe Photoshop CS4 Macintosh |
Software: Adobe Photoshop CS3 Macintosh
SplitToningBalance | 0 |
SplitToningHighlightHue | 0 |
SplitToningHighlightSaturation | 0 |
SplitToningShadowHue | 0 |
SplitToningShadowSaturation | 0 |
TimeZoneOffset | 2 2 |
Tint | -2 |
ToneCurve | 0, 0, 32, 22, 64, 56, 128, 128, 192, 196, 255, 255 |
ToneCurveName | Medium Contrast |
URL_List | |
Version | 4.0 |
Vibrance | 0 |
VignetteAmount | -69 |
VignetteMidpoint | 50 |
WhiteBalance (2) | As Shot |
WhiteBalance | Auto |
Zoom Length: 28 mm