Felt | Verdi |
AlreadyApplied | True |
Aperture | 3.5 |
ApertureValue | 3.5 |
BitsPerSample | 8 |
BlueHue | 0 |
BlueSaturation | 0 |
Brightness | 0 |
CameraProfile | Embedded |
ChromaticAberrationB | 0 |
ChromaticAberrationR | 0 |
CircleOfConfusion | 0.019 mm |
Clarity | 38 |
ColorComponents | 1 |
ColorNoiseReduction | 0 |
Contrast | +30 |
ConvertToGrayscale | True |
Copyright | Helene Laeknes |
CopyrightNotice | Helene Læknes |
CreateDate | 2009:03:26 18:35:05 |
CreatorTool | Adobe Photoshop Lightroom |
CustomRendered | Normal |
DateTimeDigitized | 2009:03:26 18:35:05+01:00 |
DateTimeOriginal (1) | 2009:03:26 18:35:05+01:00 |
DateTimeOriginal | 2009:03:26 18:35:05 |
Defringe | 0 |
Exposure | 0.00 |
ExposureCompensation | 0 |
ExposureMode | Auto |
ExposureProgram | Program AE |
ExposureTime | 1/10 |
FillLight | 1 |
Firmware | Kirsten |
Flash | Off, Did not fire |
FlashCompensation | 0 |
FlashFired | False |
FlashFunction | False |
FlashMode | Off |
FlashRedEyeMode | False |
FlashReturn | No return detection |
FNumber | 3.5 |
FocalLength | 18.0 mm |
FocalLength35efl | 18.0 mm (35 mm equivalent: 29.2 mm) |
FOV | 63.3 deg |
GrayMixerAqua | -19 |
GrayMixerBlue | +7 |
GrayMixerGreen | -36 |
GrayMixerMagenta | +4 |
GrayMixerOrange | -16 |
GrayMixerPurple | +13 |
GrayMixerRed | -8 |
GrayMixerYellow | -19 |
GreenHue | 0 |
GreenSaturation | 0 |
HasCrop | False |
HasSettings | True |
HighlightRecovery | 23 |
HyperfocalDistance | 5.00 m |
ImageHeight | 3456 |
ImageNumber | 0 |
ImageSize | 2304x3456 |
ImageWidth | 2304 |
IncrementalTemperature | -5 |
IncrementalTint | 0 |
ISO | 200 |
Keywords | Paris |
LightValue | 5.9 |
LuminanceSmoothing | 0 |
Make | Canon |
Marked | True |
MaxApertureValue | 1.0 |
Megapixels | 8.0 |
MeteringMode | Partial |
Model | Canon EOS 350D DIGITAL |
ModifyDate (1) | 2009:03:30 22:00:35+02:00 |
ModifyDate | 2009:03:30 22:00:35 |
ParametricDarks | -7 |
ParametricHighlights | -29 |
ParametricHighlightSplit | 75 |
ParametricLights | -17 |
ParametricMidtoneSplit | 50 |
ParametricShadows | -5 |
ParametricShadowSplit | 25 |
ProfileDescription | Adobe RGB (1998) |
RedHue | 0 |
RedSaturation | 0 |
Rights | Helene Læknes |
ScaleFactor35efl | 1.6 |
SceneCaptureType | Standard |
SerialNumber | 630519349 |
Shadows | 0 |
ShadowTint | 0 |
SharpenDetail | 32 |
SharpenEdgeMasking | 13 |
SharpenRadius | +1.3 |
Sharpness | 27 |
ShutterSpeed | 1/10 |
ShutterSpeedValue | 1/10 |
SplitToningBalance | 0 |
SplitToningHighlightHue | 0 |
SplitToningHighlightSaturation | 0 |
SplitToningShadowHue | 0 |
SplitToningShadowSaturation | 0 |
Subject | Paris |
ToneCurve | 0, 0, 32, 16, 64, 50, 128, 128, 192, 202, 255, 255 |
ToneCurveName | Strong Contrast |
UsageTerms | Ask first |
Version | 4.4.1 |
VignetteAmount | -5 |
VignetteMidpoint | 44 |
WebStatement | www.helenefoto.com |
WhiteBalance (2) | Custom |
WhiteBalance | Auto |