Felt | Verdi |
AlreadyApplied | True |
Aperture | 11.0 |
ApertureValue | 11.0 |
Artist | Kirsten |
BitsPerSample | 8 |
BlueHue | 0 |
BlueSaturation | 0 |
Brightness | +39 |
By-line | Kirsten |
CameraProfile | Embedded |
ChromaticAberrationB | 0 |
ChromaticAberrationR | 0 |
CircleOfConfusion | 0.019 mm |
Clarity | 29 |
ColorComponents | 1 |
ColorNoiseReduction | 0 |
Contrast | +20 |
ConvertToGrayscale | True |
Copyright | Helene Laeknes |
CopyrightNotice | Helene Læknes |
CreateDate | 2009:03:28 14:44:21 |
Creator | Kirsten |
CreatorTool | Adobe Photoshop Lightroom |
CropAngle | 0 |
CropBottom | 0.803031 |
CropHeight | 1822 |
CropLeft | 0.173553 |
CropRight | 0.964187 |
CropTop | 0.012397 |
CropUnit | pixels |
CropWidth | 2732 |
CustomRendered | Normal |
DateTimeDigitized | 2009:03:28 14:44:21+01:00 |
DateTimeOriginal (1) | 2009:03:28 14:44:21+01:00 |
DateTimeOriginal | 2009:03:28 14:44:21 |
Defringe | 0 |
Exposure | 0.00 |
ExposureCompensation | 0 |
ExposureMode | Auto |
ExposureProgram | Program AE |
ExposureTime | 1/640 |
FillLight | 23 |
Firmware | 1.0.2 |
Flash | Off, Did not fire |
FlashCompensation | 0 |
FlashFired | False |
FlashFunction | False |
FlashMode | Off |
FlashRedEyeMode | False |
FlashReturn | No return detection |
FNumber | 11.0 |
FocalLength | 200.0 mm |
FocalLength35efl | 200.0 mm (35 mm equivalent: 324.4 mm) |
FOV | 6.4 deg |
GrayMixerAqua | -19 |
GrayMixerBlue | +8 |
GrayMixerGreen | -26 |
GrayMixerMagenta | +4 |
GrayMixerOrange | -18 |
GrayMixerPurple | +14 |
GrayMixerRed | -9 |
GrayMixerYellow | -21 |
GreenHue | 0 |
GreenSaturation | 0 |
HasCrop | True |
HasSettings | True |
HighlightRecovery | 27 |
HyperfocalDistance | 196.33 m |
ImageHeight | 1822 |
ImageNumber | 178 |
ImageSize | 2732x1822 |
ImageWidth | 2732 |
IncrementalTemperature | 0 |
IncrementalTint | 0 |
ISO | 200 |
Keywords | Paris |
Lens | 18.0-200.0 mm |
LensInfo | 18-200mm f/? |
LightValue | 15.2 |
LuminanceSmoothing | 0 |
Make | Canon |
Marked | True |
Megapixels | 5.0 |
MeteringMode | Partial |
Model | Canon EOS 350D DIGITAL |
ModifyDate (1) | 2009:03:30 22:02:06+02:00 |
ModifyDate | 2009:03:30 22:02:06 |
OwnerName | Kirsten |
ParametricDarks | +12 |
ParametricHighlights | -31 |
ParametricHighlightSplit | 75 |
ParametricLights | 0 |
ParametricMidtoneSplit | 50 |
ParametricShadows | +17 |
ParametricShadowSplit | 25 |
ProfileDescription | Adobe RGB (1998) |
RedHue | 0 |
RedSaturation | 0 |
Rights | Helene Læknes |
ScaleFactor35efl | 1.6 |
SceneCaptureType | Standard |
SerialNumber | 630519349 |
Shadows | 0 |
ShadowTint | 0 |
SharpenDetail | 25 |
SharpenEdgeMasking | 74 |
SharpenRadius | +1.0 |
Sharpness | 0 |
ShutterSpeed | 1/640 |
ShutterSpeedValue | 1/640 |
SplitToningBalance | 0 |
SplitToningHighlightHue | 0 |
SplitToningHighlightSaturation | 0 |
SplitToningShadowHue | 0 |
SplitToningShadowSaturation | 0 |
Subject | Paris |
ToneCurve | 0, 0, 32, 16, 64, 50, 128, 128, 192, 202, 255, 255 |
ToneCurveName | Strong Contrast |
UsageTerms | Ask first |
Version | 4.4.1 |
VignetteAmount | -69 |
VignetteMidpoint | 13 |
WebStatement | www.helenefoto.com |
WhiteBalance (2) | As Shot |
WhiteBalance | Auto |