Felt | Verdi |
AlreadyApplied | True |
Aperture | 1.4 |
ApertureValue | 1.4 |
Artist | Linda Yuen |
AuthorsPosition | Photographer |
BitsPerSample | 8 |
BlueHue | 0 |
BlueSaturation | 0 |
Brightness | +50 |
By-line | Linda Yuen |
By-lineTitle | Photographer |
CameraProfile | ACR 4.4 |
CFAPattern | [Green,Blue][Red,Green] |
ChromaticAberrationB | 0 |
ChromaticAberrationR | 0 |
CircleOfConfusion | 0.020 mm |
Clarity | +68 |
ColorComponents | 3 |
ColorMode | RGB |
ColorNoiseReduction | 25 |
ColorSpace | Uncalibrated |
ColorTemperature | 4700 |
Contrast (2) | +23 |
Contrast | Low |
ConvertToGrayscale | False |
Copyright | Do not copy |
CopyrightNotice | Do not copy |
CreateDate (1) | 2009:03:30 17:29:26.50+02:00 |
CreateDate | 2009:03:30 17:29:26 |
Creator | Linda Yuen |
CreatorAddress | Nafstad |
CreatorCity | Kløfta |
CreatorCountry | Norway |
CreatorPostalCode | 2040 |
CreatorTool | Ver.1.00 |
CreatorWorkEmail | linda@lindayuen.com |
CreatorWorkTelephone | +47 48066091 |
CreatorWorkURL | www.lindayuen.com |
CropAngle | -1.036124 |
CropBottom | 0.953243 |
CropLeft | 0.039168 |
CropRight | 0.969637 |
CropTop | 0.072476 |
CustomRendered | Normal |
DateTimeDigitized | 2009:03:30 17:29:26.50+02:00 |
DateTimeOriginal (1) | 2009:03:30 17:29:26.50+02:00 |
DateTimeOriginal | 2009:03:30 17:29:26 |
Defringe | 0 |
DigitalZoomRatio | 1 |
ExifImageHeight | 1080 |
ExifImageWidth | 1639 |
Exposure | +0.60 |
ExposureCompensation | +5 |
ExposureMode | Manual |
ExposureProgram | Manual |
ExposureTime | 1/200 |
FillLight | 10 |
Flash | Auto, Fired, Return detected |
FlashFired | True |
FlashFunction | False |
FlashMode | Auto |
FlashRedEyeMode | False |
FlashReturn | Return detected |
FNumber | 1.4 |
FocalLength | 30.0 mm |
FocalLength35efl | 30.0 mm (35 mm equivalent: 45.0 mm) |
FocalLengthIn35mmFormat | 45 mm |
Format | image/jpeg |
FOV | 43.6 deg |
GainControl | None |
GreenHue | 0 |
GreenSaturation | 0 |
HasCrop | True |
HasSettings | True |
HighlightRecovery | 6 |
HueAdjustmentAqua | 0 |
HueAdjustmentBlue | 0 |
HueAdjustmentGreen | 0 |
HueAdjustmentMagenta | 0 |
HueAdjustmentOrange | -1 |
HueAdjustmentPurple | 0 |
HueAdjustmentRed | 0 |
HueAdjustmentYellow | 0 |
HyperfocalDistance | 32.09 m |
ICCProfileName | Adobe RGB (1998) |
ImageHeight | 1080 |
ImageNumber | 17912 |
ImageSize | 1639x1080 |
ImageWidth | 1639 |
ISO | 100 |
Lens | 30.0 mm f/1.4 |
LensInfo | 30mm f/1.4 |
LightSource | Unknown |
LightValue | 8.6 |
LuminanceAdjustmentAqua | 0 |
LuminanceAdjustmentBlue | 0 |
LuminanceAdjustmentGreen | 0 |
LuminanceAdjustmentMagenta | 0 |
LuminanceAdjustmentOrange | 0 |
LuminanceAdjustmentPurple | 0 |
LuminanceAdjustmentRed | 0 |
LuminanceAdjustmentYellow | 0 |
LuminanceSmoothing | 0 |
Make | NIKON CORPORATION |
MaxApertureValue | 1.4 |
Megapixels | 1.8 |
MeteringMode | Multi-segment |
Model | NIKON D40X |
ModifyDate (1) | 2009:03:30 23:46:55+02:00 |
ModifyDate | 2009:03:30 23:46:55 |
Orientation | Horizontal (normal) |
PaintCorrectionActive | true |
PaintCorrectionAmount | 1.000000 |
PaintCorrectionBrightness | -0.800000 |
PaintCorrectionClarity | -1.000000 |
PaintCorrectionContrast | -0.640000 |
PaintCorrectionExposure | -0.712500 |
PaintCorrectionHue | 0.000000 |
PaintCorrectionMaskCenterWeight | 0.483839 |
PaintCorrectionMaskFlow | 0.666667 |
PaintCorrectionMaskRadius (2) | 0.041891 |
PaintCorrectionMaskRadius | 0.057881 |
PaintCorrectionMaskValue (1) | 0.360000 |
PaintCorrectionMaskValue | 0.130000 |
PaintCorrectionMaskWhat | Mask/Paint |
PaintCorrectionSaturation (1) | -0.150000 |
PaintCorrectionSaturation | 0.000000 |
PaintCorrectionSharpness | 0.180000 |
PaintCorrectionWhat | Correction |
ParametricDarks | 0 |
ParametricHighlights | 0 |
ParametricHighlightSplit | 75 |
ParametricLights | 0 |
ParametricMidtoneSplit | 50 |
ParametricShadows | 0 |
ParametricShadowSplit | 25 |
PostCropVignetteAmount | 0 |
ProfileDescription | Adobe RGB (1998) |
Rating | 0 |
RawFileName | 10011_0014.dng |
RedHue | 0 |
RedSaturation | 0 |
Rights | Do not copy |
Saturation (2) | 0 |
Saturation | Normal |
SaturationAdjustmentAqua | 0 |
SaturationAdjustmentBlue | 0 |
SaturationAdjustmentGreen | 0 |
SaturationAdjustmentMagenta | 0 |
SaturationAdjustmentOrange | 0 |
SaturationAdjustmentPurple | 0 |
SaturationAdjustmentRed | 0 |
SaturationAdjustmentYellow | 0 |
ScaleFactor35efl | 1.5 |
SceneCaptureType | Standard |
SceneType | Directly photographed |
SensingMethod | One-chip color area |
SerialNumber | 3077333 |
Shadows | 5 |
ShadowTint | 0 |
SharpenDetail | 25 |
SharpenEdgeMasking | 0 |
SharpenRadius | +1.0 |
Sharpness (2) | 25 |
Sharpness | Normal |
ShutterSpeed | 1/200 |
ShutterSpeedValue | 1/200 |
Software | Adobe Photoshop CS4 Macintosh |
SplitToningBalance | 0 |
SplitToningHighlightHue | 0 |
SplitToningHighlightSaturation | 0 |
SplitToningShadowHue | 0 |
SplitToningShadowSaturation | 0 |
SubjectDistanceRange | Unknown |
Tint | +4 |
ToneCurve | 0, 0, 32, 16, 64, 50, 128, 128, 192, 202, 255, 255 |
ToneCurveName | Strong Contrast |
URL_List | |
UsageTerms | Contact creator for usage agreement. Unsolicited use will result in penalty fee. Creator must be credited. |
Version | 5.0 |
Vibrance | 0 |
VignetteAmount | 0 |
WhiteBalance (2) | As Shot |
WhiteBalance | Auto |