Felt | Verdi |
AlreadyApplied | True |
Aperture | 5.3 |
ApertureValue | 5.3 |
Artist | jøran frisvold |
BitsPerSample | 8 |
BlueHue | 0 |
BlueSaturation | 0 |
Brightness | +50 |
By-line | jøran frisvold |
CameraProfile | ACR 4.6 |
CFAPattern | [Red,Green][Green,Blue] |
ChromaticAberrationB | 0 |
ChromaticAberrationR | 0 |
CircleOfConfusion | 0.030 mm |
Clarity | 0 |
ColorComponents | 3 |
ColorMode | RGB |
ColorNoiseReduction | 25 |
ColorSpace (1) | Unknown (-1) |
ColorSpace | Uncalibrated |
ColorTemperature | 6850 |
Contrast (2) | +25 |
Contrast | Normal |
ConvertToGrayscale | False |
CopyrightFlag | False |
CreateDate (1) | 2009:04:08 18:32:50+02:00 |
CreateDate | 2009:04:05 14:07:04 |
Creator | jøran frisvold |
CreatorAddress | mortensrudveien 8c |
CreatorCity | oslo |
CreatorCountry | norway |
CreatorPostalCode | 1283 |
CreatorTool | Adobe Photoshop CS3 Windows |
CreatorWorkEmail | jran.frisvold@hotmail.com |
CreatorWorkTelephone | 41637790 |
CustomRendered | Normal |
DateTimeDigitized | 2009:04:05 14:07:04.66+02:00 |
DateTimeOriginal (1) | 2009:04:05 14:07:04.66+02:00 |
DateTimeOriginal | 2009:04:05 14:07:04 |
Defringe | 0 |
DigitalZoomRatio | 1 |
ExifImageHeight | 679 |
ExifImageWidth | 1000 |
Exposure | -0.45 |
ExposureCompensation | -1/3 |
ExposureMode | Auto |
ExposureProgram | Aperture-priority AE |
ExposureTime | 1/640 |
FillLight | 0 |
Flash | No Flash |
FlashFired | False |
FlashFunction | False |
FlashMode | Unknown |
FlashRedEyeMode | False |
FlashReturn | No return detection |
FNumber | 5.3 |
FocalLength | 340.0 mm |
FocalLength35efl | 340.0 mm (35 mm equivalent: 340.0 mm) |
FocalLengthIn35mmFormat | 340 mm |
Format | image/jpeg |
FOV | 6.1 deg |
GainControl | None |
GreenHue | 0 |
GreenSaturation | 0 |
HasCrop | False |
HasSettings | True |
HighlightRecovery | 45 |
HueAdjustmentAqua | 0 |
HueAdjustmentBlue | 0 |
HueAdjustmentGreen | 0 |
HueAdjustmentMagenta | 0 |
HueAdjustmentOrange | 0 |
HueAdjustmentPurple | 0 |
HueAdjustmentRed | 0 |
HueAdjustmentYellow | 0 |
HyperfocalDistance | 725.92 m |
ICCProfileName | Adobe RGB (1998) |
ImageHeight | 679 |
ImageNumber | 1888 |
ImageSize | 1000x679 |
ImageWidth | 1000 |
ISO | 200 |
Lens | 80.0-400.0 mm f/4.5-5.6 |
LensInfo | 80-400mm f/4.5-5.6 |
LightSource | Unknown |
LightValue | 13.1 |
LuminanceAdjustmentAqua | 0 |
LuminanceAdjustmentBlue | 0 |
LuminanceAdjustmentGreen | 0 |
LuminanceAdjustmentMagenta | 0 |
LuminanceAdjustmentOrange | 0 |
LuminanceAdjustmentPurple | 0 |
LuminanceAdjustmentRed | 0 |
LuminanceAdjustmentYellow | 0 |
LuminanceSmoothing | 0 |
Make | NIKON CORPORATION |
MaxApertureValue | 5.5 |
Megapixels | 0.679 |
MeteringMode | Center-weighted average |
Model | NIKON D700 |
ModifyDate (1) | 2009:04:08 18:32:50+02:00 |
ModifyDate | 2009:04:08 18:32:50 |
Orientation | Horizontal (normal) |
ParametricDarks | 0 |
ParametricHighlights | -24 |
ParametricHighlightSplit | 82 |
ParametricLights | 0 |
ParametricMidtoneSplit | 57 |
ParametricShadows | +3 |
ParametricShadowSplit | 21 |
PostCropVignetteAmount | 0 |
ProfileDescription | Adobe RGB (1998) |
Rating | 0 |
RawFileName | 200905apr_Østensjø_5580.dng |
RedHue | 0 |
RedSaturation | 0 |
Saturation (2) | 0 |
Saturation | Normal |
SaturationAdjustmentAqua | 0 |
SaturationAdjustmentBlue | 0 |
SaturationAdjustmentGreen | 0 |
SaturationAdjustmentMagenta | 0 |
SaturationAdjustmentOrange | 0 |
SaturationAdjustmentPurple | 0 |
SaturationAdjustmentRed | 0 |
SaturationAdjustmentYellow | 0 |
ScaleFactor35efl | 1.0 |
SceneCaptureType | Standard |
SceneType | Directly photographed |
SensingMethod | One-chip color area |
SerialNumber | 2029735 |
Shadows | 5 |
ShadowTint | 0 |
SharpenDetail | 25 |
SharpenEdgeMasking | 0 |
SharpenRadius | +1.0 |
Sharpness (2) | 25 |
Sharpness | Normal |
ShutterSpeed | 1/640 |
ShutterSpeedValue | 1/640 |
Software | Adobe Photoshop CS3 Windows |
SplitToningBalance | 0 |
SplitToningHighlightHue | 0 |
SplitToningHighlightSaturation | 0 |
SplitToningShadowHue | 0 |
SplitToningShadowSaturation | 0 |
SubjectDistanceRange | Unknown |
Tint | +2 |
ToneCurve | 0, 0, 30, 37, 64, 56, 128, 128, 192, 196, 239, 208, 255, 255 |
ToneCurveName | Custom |
URL_List | |
UsageTerms | Kun etter avtale/kontrakt med fotograf |
Version | 4.6 |
Vibrance | 0 |
VignetteAmount | 0 |
WhiteBalance (2) | Custom |
WhiteBalance | Auto |