Felt | Verdi |
AlreadyApplied | True |
Aperture | 6.3 |
ApertureValue | 6.3 |
BitsPerSample | 8 |
BlueHue | 0 |
BlueSaturation | 0 |
Brightness | 0 |
CameraProfile | Embedded |
ChromaticAberrationB | 0 |
ChromaticAberrationR | 0 |
CircleOfConfusion | 0.019 mm |
Clarity | 44 |
ColorComponents | 3 |
ColorNoiseReduction | 29 |
Contrast | +23 |
ConvertToGrayscale | False |
Copyright | Helene Laeknes |
CopyrightNotice | Helene Læknes |
CreateDate | 2009:03:28 14:30:33 |
CreatorTool | Adobe Photoshop Lightroom |
CropAngle | 0 |
CropBottom | 1 |
CropHeight | 3370 |
CropLeft | 0.161157 |
CropRight | 0.81405 |
CropTop | 0.024793 |
CropUnit | pixels |
CropWidth | 1504 |
CustomRendered | Normal |
DateTimeDigitized | 2009:03:28 14:30:33+01:00 |
DateTimeOriginal (1) | 2009:03:28 14:30:33+01:00 |
DateTimeOriginal | 2009:03:28 14:30:33 |
Defringe | 0 |
Exposure | +0.19 |
ExposureCompensation | 0 |
ExposureMode | Auto |
ExposureProgram | Program AE |
ExposureTime | 1/200 |
FillLight | 1 |
Firmware | Kirsten |
Flash | Off, Did not fire |
FlashCompensation | 0 |
FlashFired | False |
FlashFunction | False |
FlashMode | Off |
FlashRedEyeMode | False |
FlashReturn | No return detection |
FNumber | 6.3 |
FocalLength | 200.0 mm |
FocalLength35efl | 200.0 mm (35 mm equivalent: 324.4 mm) |
FOV | 6.4 deg |
GreenHue | 0 |
GreenSaturation | 0 |
HasCrop | True |
HasSettings | True |
HighlightRecovery | 40 |
HueAdjustmentAqua | 0 |
HueAdjustmentBlue | 0 |
HueAdjustmentGreen | 0 |
HueAdjustmentMagenta | 0 |
HueAdjustmentOrange | 0 |
HueAdjustmentPurple | 0 |
HueAdjustmentRed | -17 |
HueAdjustmentYellow | -31 |
HyperfocalDistance | 342.80 m |
ImageHeight | 3370 |
ImageNumber | 0 |
ImageSize | 1504x3370 |
ImageWidth | 1504 |
IncrementalTemperature | 0 |
IncrementalTint | 0 |
ISO | 200 |
Keywords | Paris |
LightValue | 12.0 |
LuminanceAdjustmentAqua | 0 |
LuminanceAdjustmentBlue | 0 |
LuminanceAdjustmentGreen | -19 |
LuminanceAdjustmentMagenta | 0 |
LuminanceAdjustmentOrange | -12 |
LuminanceAdjustmentPurple | 0 |
LuminanceAdjustmentRed | -17 |
LuminanceAdjustmentYellow | 0 |
LuminanceSmoothing | 31 |
Make | Canon |
Marked | True |
MaxApertureValue | 1.0 |
Megapixels | 5.1 |
MeteringMode | Partial |
Model | Canon EOS 350D DIGITAL |
ModifyDate (1) | 2009:03:30 22:02:01+02:00 |
ModifyDate | 2009:03:30 22:02:01 |
ParametricDarks | -12 |
ParametricHighlights | -43 |
ParametricHighlightSplit | 75 |
ParametricLights | -45 |
ParametricMidtoneSplit | 50 |
ParametricShadows | -10 |
ParametricShadowSplit | 25 |
ProfileDescription | Adobe RGB (1998) |
RedHue | 0 |
RedSaturation | 0 |
Rights | Helene Læknes |
Saturation | +7 |
SaturationAdjustmentAqua | 0 |
SaturationAdjustmentBlue | 0 |
SaturationAdjustmentGreen | +10 |
SaturationAdjustmentMagenta | 0 |
SaturationAdjustmentOrange | +38 |
SaturationAdjustmentPurple | 0 |
SaturationAdjustmentRed | +31 |
SaturationAdjustmentYellow | +24 |
ScaleFactor35efl | 1.6 |
SceneCaptureType | Standard |
SerialNumber | 630519349 |
Shadows | 6 |
ShadowTint | 0 |
SharpenDetail | 52 |
SharpenEdgeMasking | 19 |
SharpenRadius | +1.8 |
Sharpness | 82 |
ShutterSpeed | 1/200 |
ShutterSpeedValue | 1/200 |
SplitToningBalance | 0 |
SplitToningHighlightHue | 0 |
SplitToningHighlightSaturation | 0 |
SplitToningShadowHue | 0 |
SplitToningShadowSaturation | 0 |
Subject | Paris |
ToneCurve | 0, 0, 32, 22, 64, 56, 128, 128, 192, 196, 255, 255 |
ToneCurveName | Medium Contrast |
UsageTerms | Ask first |
Version | 4.4.1 |
Vibrance | +5 |
VignetteAmount | 0 |
WebStatement | www.helenefoto.com |
WhiteBalance (2) | As Shot |
WhiteBalance | Auto |