Felt | Verdi |
AlreadyApplied | True |
Aperture | 5.6 |
ApertureValue | 5.6 |
BitsPerSample | 8 |
BlueHue | 0 |
BlueSaturation | 0 |
Brightness | +50 |
By-line | Ann-Sofie Larsson |
CameraProfile | Adobe Standard |
ChromaticAberrationB | 0 |
ChromaticAberrationR | 0 |
CircleOfConfusion | 0.019 mm |
Clarity | 0 |
ColorComponents | 3 |
ColorNoiseReduction | 25 |
ColorTemperature | 6167 |
Contrast | +25 |
ConvertToGrayscale | False |
Copyright | Ann-Sofie Larsson |
CopyrightNotice | Ann-Sofie Larsson |
CreateDate (1) | 2009:04:10 08:48:24.17+02:00 |
CreateDate | 2009:04:10 08:48:24 |
Creator | Ann-Sofie Larsson |
CreatorAddress | Fjordvägen 61 |
CreatorCity | Tanumshede |
CreatorCountry | Sweden |
CreatorPostalCode | 45791 |
CreatorTool | Adobe Photoshop Lightroom |
CreatorWorkEmail | anso_94@telia.com |
CreatorWorkTelephone | 0708105111 |
CropAngle | 0 |
CropBottom | 0.832431 |
CropHeight | 900 |
CropLeft | 0.288288 |
CropRight | 0.711712 |
CropTop | 0.167568 |
CropUnit | pixels |
CropWidth | 860 |
CustomRendered | Normal |
DateTimeDigitized | 2009:04:10 08:48:24.17+02:00 |
DateTimeOriginal (1) | 2009:04:10 08:48:24.17+02:00 |
DateTimeOriginal | 2009:04:10 08:48:24 |
Defringe | 0 |
ExifImageHeight | 900 |
ExifImageWidth | 860 |
Exposure | 0.00 |
ExposureCompensation | 0 |
ExposureMode | Auto |
ExposureProgram | Aperture-priority AE |
ExposureTime | 1/640 |
FillLight | 0 |
Firmware | 1.0.3 |
Flash | Off, Did not fire |
FlashCompensation | 0 |
FlashFired | False |
FlashFunction | False |
FlashMode | Off |
FlashRedEyeMode | False |
FlashReturn | No return detection |
FNumber | 5.6 |
FocalLength | 365.0 mm |
FocalLength35efl | 365.0 mm (35 mm equivalent: 590.9 mm) |
FOV | 3.5 deg |
GreenHue | 0 |
GreenSaturation | 0 |
HasCrop | True |
HasSettings | True |
HighlightRecovery | 12 |
HueAdjustmentAqua | 0 |
HueAdjustmentBlue | 0 |
HueAdjustmentGreen | 0 |
HueAdjustmentMagenta | 0 |
HueAdjustmentOrange | 0 |
HueAdjustmentPurple | 0 |
HueAdjustmentRed | 0 |
HueAdjustmentYellow | 0 |
HyperfocalDistance | 1281.74 m |
ImageHeight | 900 |
ImageNumber | 0 |
ImageSize | 860x900 |
ImageWidth | 860 |
ISO | 800 |
Keywords | Raftötången, fåglar, sol |
Lens | EF100-400mm f/4.5-5.6L IS USM |
LensInfo | 100-400mm f/? |
LightValue | 11.3 |
LuminanceAdjustmentAqua | 0 |
LuminanceAdjustmentBlue | 0 |
LuminanceAdjustmentGreen | 0 |
LuminanceAdjustmentMagenta | 0 |
LuminanceAdjustmentOrange | 0 |
LuminanceAdjustmentPurple | 0 |
LuminanceAdjustmentRed | 0 |
LuminanceAdjustmentYellow | 0 |
LuminanceSmoothing | 20 |
Make | Canon |
MaxApertureValue | 5.7 |
Megapixels | 0.774 |
MeteringMode | Multi-segment |
Model | Canon EOS 40D |
ModifyDate (1) | 2009:04:10 10:28:38+02:00 |
ModifyDate | 2009:04:10 10:28:38 |
ParametricDarks | -12 |
ParametricHighlights | +15 |
ParametricHighlightSplit | 75 |
ParametricLights | 0 |
ParametricMidtoneSplit | 50 |
ParametricShadows | 0 |
ParametricShadowSplit | 25 |
PostCropVignetteAmount | 0 |
ProfileDescription | sRGB IEC61966-2.1 |
RedHue | 0 |
RedSaturation | 0 |
Rights | Ann-Sofie Larsson |
Saturation | 0 |
SaturationAdjustmentAqua | 0 |
SaturationAdjustmentBlue | 0 |
SaturationAdjustmentGreen | +50 |
SaturationAdjustmentMagenta | 0 |
SaturationAdjustmentOrange | +10 |
SaturationAdjustmentPurple | 0 |
SaturationAdjustmentRed | 0 |
SaturationAdjustmentYellow | 0 |
ScaleFactor35efl | 1.6 |
SceneCaptureType | Standard |
SerialNumber | 430101524 |
Shadows | 7 |
ShadowTint | 0 |
SharpenDetail | 50 |
SharpenEdgeMasking | 26 |
SharpenRadius | +0.8 |
Sharpness | 100 |
ShutterSpeed | 1/640 |
ShutterSpeedValue | 1/640 |
SplitToningBalance | 0 |
SplitToningHighlightHue | 0 |
SplitToningHighlightSaturation | 0 |
SplitToningShadowHue | 0 |
SplitToningShadowSaturation | 0 |
Subject | Raftötången, fåglar, sol |
Tint | -2 |
ToneCurve | 0, 0, 32, 22, 64, 56, 128, 128, 192, 196, 255, 255 |
ToneCurveName | Medium Contrast |
Version | 5.3 |
Vibrance | +19 |
VignetteAmount | 0 |
WhiteBalance (2) | Custom |
WhiteBalance | Manual |