Felt | Verdi |
AlreadyApplied | True |
Aperture | 11.0 |
ApertureValue | 11.0 |
BitsPerSample | 8 |
BlueHue | 0 |
BlueSaturation | 0 |
Brightness | +25 |
CameraProfile | Adobe Standard |
ChromaticAberrationB | 0 |
ChromaticAberrationR | 0 |
CircleOfConfusion | 0.031 mm |
Clarity | +21 |
ColorComponents | 3 |
ColorMode | RGB |
ColorNoiseReduction | 88 |
ColorSpace | sRGB |
ColorTemperature | 4450 |
Contrast | +30 |
ConvertToGrayscale | False |
CopyrightFlag | False |
CreateDate (1) | 2009:05:01 23:44:28+02:00 |
CreateDate | 2009:04:30 14:02:21 |
CreatorTool | Adobe Photoshop CS3 Windows |
CustomRendered | Normal |
DateTimeDigitized | 2009:04:30 14:02:21.22+02:00 |
DateTimeOriginal (1) | 2009:04:30 14:02:21.22+02:00 |
DateTimeOriginal | 2009:04:30 14:02:21 |
Defringe | 0 |
ExifImageHeight | 1683 |
ExifImageWidth | 2582 |
Exposure | +0.86 |
ExposureCompensation | 0 |
ExposureMode | Auto |
ExposureProgram | Aperture-priority AE |
ExposureTime | 1/100 |
FillLight | 5 |
Firmware | 1.0.6 |
Flash | Off, Did not fire |
FlashCompensation | 0 |
FlashFired | False |
FlashFunction | False |
FlashMode | Off |
FlashRedEyeMode | False |
FlashReturn | No return detection |
FNumber | 11.0 |
FocalLength | 150.0 mm |
FocalLength35efl | 150.0 mm (35 mm equivalent: 146.4 mm) |
Format | image/jpeg |
FOV | 14.0 deg |
GreenHue | 0 |
GreenSaturation | 0 |
HasCrop | False |
HasSettings | True |
HighlightRecovery | 23 |
HueAdjustmentAqua | 0 |
HueAdjustmentBlue | 0 |
HueAdjustmentGreen | 0 |
HueAdjustmentMagenta | 0 |
HueAdjustmentOrange | 0 |
HueAdjustmentPurple | 0 |
HueAdjustmentRed | 0 |
HueAdjustmentYellow | 0 |
HyperfocalDistance | 66.44 m |
ICCProfileName | sRGB IEC61966-2.1 |
ImageHeight (1) | 3744 |
ImageHeight | 1683 |
ImageNumber | 0 |
ImageSize | 2582x1683 |
ImageWidth (1) | 5616 |
ImageWidth | 2582 |
ISO | 1000 |
Lens | 150mm |
LensInfo | 150mm f/? |
LightValue | 10.2 |
LuminanceAdjustmentAqua | 0 |
LuminanceAdjustmentBlue | 0 |
LuminanceAdjustmentGreen | 0 |
LuminanceAdjustmentMagenta | 0 |
LuminanceAdjustmentOrange | 0 |
LuminanceAdjustmentPurple | 0 |
LuminanceAdjustmentRed | 0 |
LuminanceAdjustmentYellow | 0 |
LuminanceSmoothing | 87 |
Make | Canon |
MaxApertureValue | 2.8 |
Megapixels | 4.3 |
MeteringMode | Multi-segment |
Model | Canon EOS 5D Mark II |
ModifyDate (1) | 2009:05:01 23:44:28+02:00 |
ModifyDate | 2009:05:01 23:44:28 |
Orientation | Horizontal (normal) |
ParametricDarks | -12 |
ParametricHighlights | 0 |
ParametricHighlightSplit | 75 |
ParametricLights | +8 |
ParametricMidtoneSplit | 50 |
ParametricShadows | 0 |
ParametricShadowSplit | 25 |
PostCropVignetteAmount | 0 |
ProfileDescription | sRGB IEC61966-2.1 |
RedHue | 0 |
RedSaturation | 0 |
Saturation | +29 |
SaturationAdjustmentAqua | 0 |
SaturationAdjustmentBlue | 0 |
SaturationAdjustmentGreen | 0 |
SaturationAdjustmentMagenta | 0 |
SaturationAdjustmentOrange | 0 |
SaturationAdjustmentPurple | 0 |
SaturationAdjustmentRed | 0 |
SaturationAdjustmentYellow | 0 |
ScaleFactor35efl | 1.0 |
SceneCaptureType | Standard |
SerialNumber | 330117967 |
Shadows | 5 |
ShadowTint | 0 |
SharpenDetail | 10 |
SharpenEdgeMasking | 75 |
SharpenRadius | +1.5 |
Sharpness | 91 |
ShutterSpeed | 1/100 |
ShutterSpeedValue | 1/100 |
Software | Adobe Photoshop CS3 Windows |
SplitToningBalance | 0 |
SplitToningHighlightHue | 0 |
SplitToningHighlightSaturation | 0 |
SplitToningShadowHue | 0 |
SplitToningShadowSaturation | 0 |
Tint | +1 |
ToneCurve | 0, 0, 32, 22, 64, 56, 128, 128, 192, 196, 255, 255 |
ToneCurveName | Medium Contrast |
URL_List | |
Version | 5.2 |
Vibrance | +26 |
VignetteAmount | 0 |
WhiteBalance (2) | As Shot |
WhiteBalance | Auto |