Felt | Verdi |
AlreadyApplied | True |
Aperture | 9.0 |
ApertureValue | 9.0 |
Artist | Ole Andreas Valdal |
BitsPerSample | 8 |
BlueHue | 0 |
BlueSaturation | 0 |
Brightness | +10 |
By-line | Ole Andreas Valdal |
CameraProfile | ACR 4.4 |
ChromaticAberrationB | 0 |
ChromaticAberrationR | 0 |
CircleOfConfusion | 0.019 mm |
Clarity | +15 |
ColorComponents | 3 |
ColorMode | RGB |
ColorNoiseReduction | 25 |
ColorSpace | sRGB |
ColorTemperature | 5450 |
Contrast | +25 |
ConvertToGrayscale | False |
Copyright | Fotograf Ole Valdal |
CopyrightFlag | True |
CopyrightNotice | Fotograf Ole Valdal |
CreateDate (1) | 2009:05:11 17:54:15+02:00 |
CreateDate | 2009:05:11 17:54:15 |
Creator | Ole Andreas Valdal |
CropAngle | 0 |
CropBottom | 0.990789 |
CropLeft | 0.038596 |
CropRight | 1 |
CropTop | 0.029385 |
CustomRendered | Normal |
DateTimeDigitized | 2009:05:11 17:54:15+02:00 |
DateTimeOriginal (1) | 2009:05:11 17:54:15+02:00 |
DateTimeOriginal | 2009:05:11 17:54:15 |
Defringe | 0 |
ExifImageHeight | 600 |
ExifImageWidth | 900 |
Exposure | +1.14 |
ExposureCompensation | -5/3 |
ExposureMode | Auto |
ExposureProgram | Aperture-priority AE |
ExposureTime | 1/320 |
FillLight | 0 |
Firmware | 1.0.5 |
Flash | On, Fired |
FlashCompensation | 2 |
FlashFired | True |
FlashFunction | False |
FlashMode | On |
FlashRedEyeMode | False |
FlashReturn | No return detection |
FNumber | 9.0 |
FocalLength | 12.0 mm |
FocalLength35efl | 12.0 mm (35 mm equivalent: 19.2 mm) |
Format | image/jpeg |
FOV | 86.3 deg |
GreenHue | 0 |
GreenSaturation | 0 |
HasCrop | True |
HasSettings | True |
HierarchicalSubject | Finnskogen |
HighlightRecovery | 11 |
HueAdjustmentAqua | 0 |
HueAdjustmentBlue | 0 |
HueAdjustmentGreen | 0 |
HueAdjustmentMagenta | 0 |
HueAdjustmentOrange | 0 |
HueAdjustmentPurple | 0 |
HueAdjustmentRed | 0 |
HueAdjustmentYellow | 0 |
HyperfocalDistance | 0.85 m |
ICCProfileName | sRGB IEC61966-2.1 |
ImageHeight | 600 |
ImageNumber | 224 |
ImageSize | 900x600 |
ImageWidth | 900 |
ISO | 100 |
Keywords | Finnskogen |
Lens | 10.0-20.0 mm |
LensInfo | 10-20mm f/? |
LightValue | 14.7 |
LuminanceAdjustmentAqua | 0 |
LuminanceAdjustmentBlue | -30 |
LuminanceAdjustmentGreen | 0 |
LuminanceAdjustmentMagenta | 0 |
LuminanceAdjustmentOrange | 0 |
LuminanceAdjustmentPurple | 0 |
LuminanceAdjustmentRed | 0 |
LuminanceAdjustmentYellow | 0 |
LuminanceSmoothing | 0 |
Make | Canon |
Marked | True |
MaxApertureValue | 4.0 |
Megapixels | 0.540 |
MeteringMode | Multi-segment |
Model | Canon EOS 30D |
ModifyDate (1) | 2009:05:11 21:11:45+02:00 |
ModifyDate | 2009:05:11 21:11:45 |
Orientation | Horizontal (normal) |
OwnerName | Ole Andreas Valdal |
ParametricDarks | 0 |
ParametricHighlights | 0 |
ParametricHighlightSplit | 75 |
ParametricLights | 0 |
ParametricMidtoneSplit | 50 |
ParametricShadows | 0 |
ParametricShadowSplit | 25 |
PostCropVignetteAmount | 0 |
ProfileDescription | sRGB IEC61966-2.1 |
Rating | 0 |
RawFileName | IMG_9678.CR2 |
RedHue | 0 |
RedSaturation | 0 |
Rights | Fotograf Ole Valdal |
Saturation | -28 |
SaturationAdjustmentAqua | 0 |
SaturationAdjustmentBlue | 0 |
SaturationAdjustmentGreen | 0 |
SaturationAdjustmentMagenta | 0 |
SaturationAdjustmentOrange | 0 |
SaturationAdjustmentPurple | 0 |
SaturationAdjustmentRed | 0 |
SaturationAdjustmentYellow | 0 |
ScaleFactor35efl | 1.6 |
SceneCaptureType | Standard |
SerialNumber | 1730906613 |
Shadows | 1 |
ShadowTint | 0 |
SharpenDetail | 25 |
SharpenEdgeMasking | 0 |
SharpenRadius | +1.0 |
Sharpness | 25 |
ShutterSpeed | 1/320 |
ShutterSpeedValue | 1/320 |
Software | Adobe Photoshop CS4 Windows |
SplitToningBalance | 0 |
SplitToningHighlightHue | 0 |
SplitToningHighlightSaturation | 0 |
SplitToningShadowHue | 0 |
SplitToningShadowSaturation | 0 |
Subject | Finnskogen |
Tint | -8 |
ToneCurve | 0, 0, 32, 22, 64, 56, 128, 128, 192, 196, 255, 255 |
ToneCurveName | Medium Contrast |
URL | http://www.valdal.org |
URL_List | |
Version | 5.2 |
Vibrance | +60 |
VignetteAmount | 0 |
WebStatement | http://www.valdal.org |
WhiteBalance (2) | As Shot |
WhiteBalance | Auto |