Felt | Verdi |
AlreadyApplied | True |
Aperture | 1.8 |
ApertureValue | 1.8 |
BitsPerSample | 8 |
BlueHue | 0 |
BlueSaturation | 0 |
Brightness | +50 |
CameraProfile | ACR 3.3 |
CFAPattern | [Green,Red][Blue,Green] |
ChromaticAberrationB | 0 |
ChromaticAberrationR | 0 |
CircleOfConfusion | 0.020 mm |
ColorComponents | 1 |
ColorMode | Grayscale |
ColorSpace (1) | Unknown (-1) |
ColorSpace | Uncalibrated |
ColorTemperature | 4950 |
Contrast (2) | +39 |
Contrast | Normal |
ConvertToGrayscale | True |
CopyrightFlag | False |
CreateDate (1) | 2009:05:12 20:58:33+02:00 |
CreateDate | 2009:05:12 19:17:45 |
CreatorTool | Adobe Photoshop CS3 Windows |
CustomRendered | Normal |
DateTimeDigitized | 2009:05:12 19:17:45.27+02:00 |
DateTimeOriginal (1) | 2009:05:12 19:17:45.27+02:00 |
DateTimeOriginal | 2009:05:12 19:17:45 |
DerivedFrom | |
DigitalZoomRatio | 1 |
ExifImageHeight | 526 |
ExifImageWidth | 768 |
Exposure | 0.00 |
ExposureCompensation | 0 |
ExposureMode | Manual |
ExposureProgram | Manual |
ExposureTime | 1/80 |
FillLight | 8 |
Flash | No Flash |
FlashFired | False |
FlashFunction | False |
FlashMode | Unknown |
FlashRedEyeMode | False |
FlashReturn | No return detection |
FNumber | 1.8 |
FocalLength | 50.0 mm |
FocalLength35efl | 50.0 mm (35 mm equivalent: 75.0 mm) |
FocalLengthIn35mmFormat | 75 mm |
Format | image/jpeg |
FOV | 27.0 deg |
GainControl | None |
GrayMixerAqua | -17 |
GrayMixerBlue | +11 |
GrayMixerGreen | -27 |
GrayMixerMagenta | +3 |
GrayMixerOrange | -20 |
GrayMixerPurple | +16 |
GrayMixerRed | -11 |
GrayMixerYellow | -24 |
GreenHue | 0 |
GreenSaturation | 0 |
HasCrop | False |
HasSettings | True |
HighlightRecovery | 100 |
HyperfocalDistance | 69.34 m |
ICCProfileName | Gray Gamma 2.2 |
ImageHeight | 526 |
ImageNumber | 14220 |
ImageSize | 768x526 |
ImageWidth | 768 |
ISO | 100 |
Lens | 50.0 mm f/1.8 |
LensInfo | 50mm f/1.8 |
LightSource | Unknown |
LightValue | 8.0 |
LuminanceSmoothing | 0 |
Make | NIKON CORPORATION |
MaxApertureValue | 1.7 |
Megapixels | 0.404 |
MeteringMode | Center-weighted average |
Model | NIKON D200 |
ModifyDate (1) | 2009:05:12 20:58:33+02:00 |
ModifyDate | 2009:05:12 20:58:33 |
Orientation | Horizontal (normal) |
ParametricDarks | 0 |
ParametricHighlights | 0 |
ParametricHighlightSplit | 75 |
ParametricLights | 0 |
ParametricMidtoneSplit | 50 |
ParametricShadows | 0 |
ParametricShadowSplit | 25 |
ProfileDescription | Gray Gamma 2.2 |
Rating | 0 |
RawFileName | DSC_0015.NEF |
RedHue | 0 |
RedSaturation | 0 |
Saturation | Normal |
ScaleFactor35efl | 1.5 |
SceneCaptureType | Standard |
SceneType | Directly photographed |
SensingMethod | One-chip color area |
Shadows | 84 |
ShadowTint | 0 |
Sharpness (2) | 25 |
Sharpness | Normal |
ShutterSpeed | 1/80 |
ShutterSpeedValue | 1/80 |
SidecarForExtension | NEF |
Software | Adobe Photoshop CS3 Windows |
SplitToningBalance | 0 |
SplitToningHighlightHue | 0 |
SplitToningHighlightSaturation | 0 |
SplitToningShadowHue | 0 |
SplitToningShadowSaturation | 0 |
SubjectDistanceRange | Unknown |
TimeZoneOffset | 2 2 |
Tint | -3 |
ToneCurve | 0, 0, 32, 22, 64, 56, 128, 128, 192, 196, 255, 255 |
ToneCurveName | Medium Contrast |
URL_List | |
Version | 4.0 |
VignetteAmount | -27 |
VignetteMidpoint | 10 |
WhiteBalance (2) | As Shot |
WhiteBalance | Auto |