Felt | Verdi |
AlreadyApplied | True |
Aperture | 4.0 |
ApertureValue (1) | 4.0 |
BitsPerSample | 8 |
CameraProfile | Adobe Standard |
ChromaticAberrationB | 0 |
CircleOfConfusion | 0.019 mm |
Clarity | -11 |
ColorComponents | 3 |
ColorMode | RGB |
ColorNoiseReduction | 25 |
ColorSpace | Uncalibrated |
ColorTemperature | 6500 |
ConvertToGrayscale | False |
CopyrightFlag | False |
CreateDate (1) | 2009:05:24 21:58:24+02:00 |
CreateDate | 2009:05:24 17:35:47 |
CreatorTool | Adobe Photoshop Elements 7.0 Windows |
CustomRendered | Normal |
DateTimeDigitized | 2009:05:24 17:35:47.00+02:00 |
DateTimeOriginal (1) | 2009:05:24 17:35:47.00+02:00 |
Defringe | 0 |
ExifImageHeight (1) | 1394 |
ExifImageHeight | 729 |
ExifImageWidth (1) | 1958 |
ExifImageWidth | 1024 |
Exposure | 0.00 |
ExposureMode | Auto |
ExposureTime | 1/400 |
Firmware | 1.0.2 |
Flash (1) | Off, Did not fire |
FlashCompensation | 0 |
FlashFunction | False |
FlashMode | Off |
FlashRedEyeMode | False |
FNumber (1) | 4.0 |
FocalLength | 300.0 mm |
FocalLength35efl | 300.0 mm (35 mm equivalent: 475.4 mm) |
FOV | 4.3 deg |
GreenSaturation | 0 |
HasCrop | False |
HasSettings | True |
HighlightRecovery | 0 |
HueAdjustmentAqua | 0 |
HueAdjustmentGreen | 0 |
HueAdjustmentMagenta | 0 |
HueAdjustmentPurple | 0 |
HueAdjustmentRed | 0 |
HueAdjustmentYellow | 0 |
HyperfocalDistance | 1186.59 m |
ImageNumber | 0 |
ImageSize | 1024x729 |
ImageWidth | 1024 |
ISO | 640 |
Lens | EF300mm f/4L IS USM |
LensInfo | 300mm f/? |
LuminanceAdjustmentAqua | 0 |
LuminanceAdjustmentBlue | 0 |
LuminanceAdjustmentMagenta | 0 |
LuminanceAdjustmentOrange | 0 |
LuminanceAdjustmentRed | 0 |
LuminanceAdjustmentYellow | 0 |
LuminanceSmoothing | 0 |
Make (1) | Canon |
MaxApertureValue | 4.0 |
Megapixels | 0.746 |
MeteringMode (1) | Multi-segment |
Model | Canon EOS 50D |
ModifyDate (1) | 2009:05:24 21:58:24+02:00 |
ModifyDate | 2009:05:24 22:04:21 |
Orientation | Horizontal (normal) |
ParametricMidtoneSplit | 50 |
ParametricShadowSplit | 25 |
PostCropVignetteAmount | 0 |
ProfileDescription | sRGB IEC61966-2.1 |
Rating | 0 |
RawFileName | IMG_5432.CR2 |
RedHue | 0 |
RedSaturation | 0 |
Saturation | +42 |
SaturationAdjustmentAqua | 0 |
SaturationAdjustmentBlue | 0 |
SaturationAdjustmentOrange | 0 |
SaturationAdjustmentPurple | 0 |
ScaleFactor35efl | 1.6 |
SceneCaptureType | Standard |
SerialNumber | 330221921 |
Shadows | 5 |
ShadowTint | 0 |
SharpenEdgeMasking | 0 |
SharpenRadius | +1.0 |
Sharpness | 25 |
ShutterSpeedValue (1) | 1/400 |
Software | Adobe Photoshop Elements 7.0 |
SplitToningBalance | 0 |
SplitToningHighlightHue | 0 |
SplitToningShadowHue | 0 |
SplitToningShadowSaturation | 0 |
Tint | +10 |
URL_List | |
Version | 5.3 |
Vibrance | -21 |
VignetteAmount | 0 |
WhiteBalance | Auto |