Felt | Verdi |
AlreadyApplied | True |
Aperture | 5.6 |
ApertureValue | 5.6 |
Artist | Jorgen Fjaervoll |
BitsPerSample | 8 |
BlueHue | 0 |
BlueSaturation | 0 |
Brightness | +14 |
By-line | Jørgen Fjærvoll |
CameraProfile | Adobe Standard |
ChromaticAberrationB | 0 |
ChromaticAberrationR | 0 |
CircleOfConfusion | 0.019 mm |
Clarity | 0 |
ColorComponents | 1 |
ColorNoiseReduction | 25 |
ColorTemperature | 6150 |
Contrast | +54 |
ConvertToGrayscale | True |
CopyrightFlag | True |
CreateDate (1) | 2009:05:29 21:54:03+02:00 |
CreateDate | 2009:05:29 21:54:03 |
Creator | Jørgen Fjærvoll |
CreatorAddress | Hasleveien 46 |
CreatorCity | Oslo |
CreatorCountry | Norway |
CreatorPostalCode | N-0575 |
CreatorTool | Adobe Photoshop Lightroom |
CreatorWorkEmail | jfja@online.no |
CustomRendered | Normal |
DateTimeDigitized | 2009:05:29 21:54:03+02:00 |
DateTimeOriginal (1) | 2009:05:29 21:54:03+02:00 |
DateTimeOriginal | 2009:05:29 21:54:03 |
Defringe | 0 |
ExifImageHeight | 2304 |
ExifImageWidth | 3456 |
Exposure | 0.00 |
ExposureCompensation | -1/3 |
ExposureMode | Auto |
ExposureProgram | Aperture-priority AE |
ExposureTime | 1/5 |
FillLight | 0 |
Firmware | 1.0.3 |
Flash | Off, Did not fire |
FlashCompensation | 0 |
FlashFired | False |
FlashFunction | False |
FlashMode | Off |
FlashRedEyeMode | False |
FlashReturn | No return detection |
FNumber | 5.6 |
FocalLength | 85.0 mm |
FocalLength35efl | 85.0 mm (35 mm equivalent: 137.9 mm) |
FOV | 14.9 deg |
GrayMixerAqua | -18 |
GrayMixerBlue | +10 |
GrayMixerGreen | -27 |
GrayMixerMagenta | +4 |
GrayMixerOrange | -19 |
GrayMixerPurple | +16 |
GrayMixerRed | -10 |
GrayMixerYellow | -23 |
GreenHue | 0 |
GreenSaturation | 0 |
HasCrop | False |
HasSettings | True |
HighlightRecovery | 0 |
HyperfocalDistance | 69.66 m |
ImageHeight | 2304 |
ImageNumber | 228 |
ImageSize | 3456x2304 |
ImageWidth | 3456 |
ISO | 200 |
Lens | 17.0-85.0 mm |
LensInfo | 17-85mm f/? |
LightValue | 6.3 |
LuminanceSmoothing | 0 |
Make | Canon |
Marked | True |
MaxApertureValue | 5.6 |
Megapixels | 8.0 |
MeteringMode | Multi-segment |
Model | Canon EOS 350D DIGITAL |
ModifyDate (1) | 2009:06:03 12:21:35+02:00 |
ModifyDate | 2009:06:03 12:21:35 |
OwnerName | Jørgen Fjærvoll |
ParametricDarks | 0 |
ParametricHighlights | +29 |
ParametricHighlightSplit | 75 |
ParametricLights | +14 |
ParametricMidtoneSplit | 50 |
ParametricShadows | -12 |
ParametricShadowSplit | 25 |
PostCropVignetteAmount | 0 |
ProfileDescription | sRGB IEC61966-2.1 |
RedHue | 0 |
RedSaturation | 0 |
ScaleFactor35efl | 1.6 |
SceneCaptureType | Standard |
SerialNumber | 830543013 |
Shadows | 100 |
ShadowTint | 0 |
SharpenDetail | 25 |
SharpenEdgeMasking | 0 |
SharpenRadius | +1.0 |
Sharpness | 87 |
ShutterSpeed | 1/5 |
ShutterSpeedValue | 1/5 |
SplitToningBalance | 0 |
SplitToningHighlightHue | 0 |
SplitToningHighlightSaturation | 0 |
SplitToningShadowHue | 0 |
SplitToningShadowSaturation | 0 |
Tint | +30 |
ToneCurve | 0, 0, 32, 22, 64, 56, 128, 128, 192, 196, 255, 255 |
ToneCurveName | Medium Contrast |
Version | 5.3 |
VignetteAmount | 0 |
WhiteBalance (2) | Auto |
WhiteBalance | Manual |