Felt | Verdi |
AlreadyApplied | True |
Aperture | 5.6 |
ApertureValue | 5.6 |
BitsPerSample | 8 |
BlueHue | -1 |
BlueSaturation | +1 |
Brightness | +45 |
CameraProfile | ACR 2.4 |
ChromaticAberrationB | 0 |
ChromaticAberrationR | 0 |
ColorComponents | 3 |
ColorMode | RGB |
ColorNoiseReduction | 25 |
ColorSpace (1) | Unknown (-1) |
ColorSpace | Uncalibrated |
ColorTemperature | 4400 |
Contrast | +3 |
ConvertToGrayscale | False |
CopyrightFlag | False |
CreateDate (1) | 2009:06:16 21:21:33+02:00 |
CreateDate | 2009:04:26 10:30:00 |
CreatorTool | Adobe Photoshop CS3 Windows |
DateTimeDigitized | 2009:04:26 10:30:00+02:00 |
DateTimeOriginal (1) | 2009:04:26 10:30:00+02:00 |
DateTimeOriginal | 2009:04:26 10:30:00 |
ExifImageHeight | 689 |
ExifImageWidth | 1032 |
Exposure | +1.40 |
ExposureCompensation | 0 |
ExposureProgram | Manual |
ExposureTime | 1/400 |
FillLight | 0 |
Firmware | 1.1.1 |
Flash | No Flash |
FlashFired | False |
FNumber | 5.6 |
FocalLength | 55.0 mm |
FocalLength35efl | 55.0 mm |
Format | image/jpeg |
GreenHue | +6 |
GreenSaturation | +2 |
HasCrop | False |
HasSettings | True |
HighlightRecovery | 0 |
HueAdjustmentAqua | 0 |
HueAdjustmentBlue | 0 |
HueAdjustmentGreen | 0 |
HueAdjustmentMagenta | 0 |
HueAdjustmentOrange | 0 |
HueAdjustmentPurple | 0 |
HueAdjustmentRed | 0 |
HueAdjustmentYellow | 0 |
ICCProfileName | Adobe RGB (1998) |
ImageHeight | 689 |
ImageSize | 1032x689 |
ImageWidth | 1032 |
ISO | 100 |
Lens | 18.0-55.0 mm |
LensInfo | 18-55mm f/? |
LightValue | 13.6 |
LuminanceAdjustmentAqua | 0 |
LuminanceAdjustmentBlue | 0 |
LuminanceAdjustmentGreen | 0 |
LuminanceAdjustmentMagenta | 0 |
LuminanceAdjustmentOrange | 0 |
LuminanceAdjustmentPurple | 0 |
LuminanceAdjustmentRed | 0 |
LuminanceAdjustmentYellow | 0 |
LuminanceSmoothing | 0 |
Make | Canon |
MaxApertureValue | 5.6 |
Megapixels | 0.711 |
MeteringMode | Center-weighted average |
Model | Canon EOS 300D DIGITAL |
ModifyDate (1) | 2009:06:16 21:21:33+02:00 |
ModifyDate | 2009:06:16 21:21:33 |
Orientation | Horizontal (normal) |
ParametricDarks | -9 |
ParametricHighlights | +95 |
ParametricHighlightSplit | 75 |
ParametricLights | +8 |
ParametricMidtoneSplit | 50 |
ParametricShadows | -88 |
ParametricShadowSplit | 25 |
ProfileDescription | Adobe RGB (1998) |
Rating | 0 |
RawFileName | CRW_0185.CRW |
RedHue | -1 |
RedSaturation | +3 |
Saturation | -100 |
SaturationAdjustmentAqua | 0 |
SaturationAdjustmentBlue | 0 |
SaturationAdjustmentGreen | 0 |
SaturationAdjustmentMagenta | 0 |
SaturationAdjustmentOrange | 0 |
SaturationAdjustmentPurple | 0 |
SaturationAdjustmentRed | 0 |
SaturationAdjustmentYellow | 0 |
Shadows | 51 |
ShadowTint | -7 |
Sharpness | 25 |
ShutterSpeed | 1/400 |
ShutterSpeedValue | 1/400 |
SidecarForExtension | CRW |
Software | Adobe Photoshop CS3 Windows |
SplitToningBalance | +3 |
SplitToningHighlightHue | 65 |
SplitToningHighlightSaturation | 0 |
SplitToningShadowHue | 72 |
SplitToningShadowSaturation | 1 |
TimeZoneOffset | 2 2 |
Tint | +18 |
ToneCurve | 0, 0, 32, 22, 64, 56, 128, 128, 192, 196, 255, 255 |
ToneCurveName | Medium Contrast |
URL_List | |
Version | 4.0 |
Vibrance | +46 |
VignetteAmount | 0 |
WhiteBalance | Custom |