Felt | Verdi |
AlreadyApplied | True |
Aperture | 32.0 |
ApertureValue | 32.0 |
BitsPerSample | 8 |
BlueHue | 0 |
BlueSaturation | 0 |
Brightness | +51 |
CameraProfile | Adobe Standard |
ChromaticAberrationB | 0 |
ChromaticAberrationR | 0 |
CircleOfConfusion | 0.019 mm |
Clarity | +9 |
ColorComponents | 3 |
ColorNoiseReduction | 25 |
ColorTemperature | 5150 |
Contrast | +33 |
ConvertToGrayscale | False |
CreateDate (1) | 2009:05:23 15:11:41.00+02:00 |
CreateDate | 2009:05:23 15:11:41 |
CropAngle | 0 |
CropBottom | 1 |
CropLeft | 0 |
CropRight | 1 |
CropTop | 0.117229 |
CustomRendered | Normal |
DateTimeDigitized | 2009:05:23 15:11:41.00+02:00 |
DateTimeOriginal (1) | 2009:05:23 15:11:41.00+02:00 |
DateTimeOriginal | 2009:05:23 15:11:41 |
Defringe | 0 |
ExifImageHeight | 2288 |
ExifImageWidth | 3888 |
Exposure | -0.20 |
ExposureCompensation | +1/2 |
ExposureMode | Auto |
ExposureProgram | Program AE |
ExposureTime | 0.5 |
FillLight | 3 |
Firmware | 1.1.1 |
Flash | Off, Did not fire |
FlashCompensation | 0 |
FlashFired | False |
FlashFunction | False |
FlashMode | Off |
FlashRedEyeMode | False |
FlashReturn | No return detection |
FNumber | 32.0 |
FocalLength | 20.0 mm |
FocalLength35efl | 20.0 mm (35 mm equivalent: 32.4 mm) |
FOV | 58.1 deg |
GreenHue | 0 |
GreenSaturation | 0 |
HasCrop | True |
HasSettings | True |
HighlightRecovery | 1 |
HueAdjustmentAqua | 0 |
HueAdjustmentBlue | 0 |
HueAdjustmentGreen | 0 |
HueAdjustmentMagenta | 0 |
HueAdjustmentOrange | 0 |
HueAdjustmentPurple | 0 |
HueAdjustmentRed | 0 |
HueAdjustmentYellow | 0 |
HyperfocalDistance | 0.67 m |
ImageHeight | 2288 |
ImageNumber | 0 |
ImageSize | 3888x2288 |
ImageWidth | 3888 |
ISO | 200 |
Lens | 10-20mm |
LensInfo | 10-20mm f/? |
LightValue | 10.0 |
LuminanceAdjustmentAqua | 0 |
LuminanceAdjustmentBlue | 0 |
LuminanceAdjustmentGreen | -34 |
LuminanceAdjustmentMagenta | 0 |
LuminanceAdjustmentOrange | -30 |
LuminanceAdjustmentPurple | 0 |
LuminanceAdjustmentRed | 0 |
LuminanceAdjustmentYellow | -28 |
LuminanceSmoothing | 0 |
Make | Canon |
MaxApertureValue | 5.7 |
Megapixels | 8.9 |
MeteringMode | Multi-segment |
Model | Canon EOS 40D |
ModifyDate (1) | 2009:05:24 15:18:03+02:00 |
ModifyDate | 2009:05:24 15:18:03 |
ParametricDarks | 0 |
ParametricHighlights | -2 |
ParametricHighlightSplit | 75 |
ParametricLights | +1 |
ParametricMidtoneSplit | 50 |
ParametricShadows | +3 |
ParametricShadowSplit | 25 |
PostCropVignetteAmount | 0 |
ProfileDescription | Adobe RGB (1998) |
RawFileName | 2009_05_23_IMG_2041.CR2 |
RedHue | 0 |
RedSaturation | 0 |
Saturation | 0 |
SaturationAdjustmentAqua | -3 |
SaturationAdjustmentBlue | 0 |
SaturationAdjustmentGreen | +100 |
SaturationAdjustmentMagenta | -70 |
SaturationAdjustmentOrange | -1 |
SaturationAdjustmentPurple | -67 |
SaturationAdjustmentRed | -3 |
SaturationAdjustmentYellow | +56 |
ScaleFactor35efl | 1.6 |
SceneCaptureType | Standard |
SerialNumber | 2231207424 |
Shadows | 8 |
ShadowTint | 0 |
SharpenDetail | 25 |
SharpenEdgeMasking | 0 |
SharpenRadius | +1.0 |
Sharpness | 25 |
ShutterSpeed | 0.5 |
ShutterSpeedValue | 0.5 |
SplitToningBalance | 0 |
SplitToningHighlightHue | 0 |
SplitToningHighlightSaturation | 0 |
SplitToningShadowHue | 0 |
SplitToningShadowSaturation | 0 |
Tint | +4 |
ToneCurve | 0, 0, 32, 22, 64, 56, 128, 128, 192, 196, 255, 255 |
ToneCurveName | Medium Contrast |
Version | 5.2 |
Vibrance | +70 |
VignetteAmount | 0 |
WhiteBalance (2) | As Shot |
WhiteBalance | Auto |