Felt | Verdi |
AlreadyApplied | True |
Aperture | 6.3 |
ApertureValue | 6.3 |
Artist | Photographer:Lars Oestreim |
BitsPerSample | 8 |
BlueHue | 0 |
BlueSaturation | 0 |
Brightness | 0 |
By-line | Photographer:Lars Oestreim |
CameraProfile | Adobe Standard |
ChromaticAberrationB | 0 |
ChromaticAberrationR | 0 |
CircleOfConfusion | 0.031 mm |
Clarity | +28 |
ColorComponents | 3 |
ColorMode | RGB |
ColorNoiseReduction | 24 |
ColorSpace | Uncalibrated |
ColorTemperature | 5500 |
Contrast | +53 |
ConvertToGrayscale | False |
Copyright | Copyright:Lars Oestreim |
CopyrightNotice | Copyright:Lars Oestreim |
CreateDate (1) | 2009:05:29 08:53:42.10+02:00 |
CreateDate | 2009:05:29 08:53:42 |
Creator | Photographer:Lars Oestreim |
CropAngle | 0 |
CropBottom | 0.563614 |
CropHeight | 3 |
CropLeft | 0.428363 |
CropRight | 0.6352 |
CropTop | 0.356777 |
CropUnit | Unknown (3) |
CropWidth | 2 |
CustomRendered | Normal |
DateTimeDigitized | 2009:05:29 08:53:42.10+02:00 |
DateTimeOriginal (1) | 2009:05:29 08:53:42.10+02:00 |
DateTimeOriginal | 2009:05:29 08:53:42 |
Defringe | 0 |
ExifImageHeight | 774 |
ExifImageWidth | 1162 |
Exposure | -0.05 |
ExposureCompensation | 0 |
ExposureMode | Manual |
ExposureProgram | Manual |
ExposureTime | 1/8000 |
FillLight | 0 |
Firmware | 1.0.7 |
Flash | Off, Did not fire |
FlashCompensation | 0 |
FlashFired | False |
FlashFunction | False |
FlashMode | Off |
FlashRedEyeMode | False |
FlashReturn | No return detection |
FNumber | 6.3 |
FocalLength | 176.0 mm |
FocalLength35efl | 176.0 mm (35 mm equivalent: 171.8 mm) |
Format | image/jpeg |
FOV | 12.0 deg |
GreenHue | 0 |
GreenSaturation | 0 |
HasCrop | True |
HasSettings | True |
HighlightRecovery | 7 |
HueAdjustmentAqua | 0 |
HueAdjustmentBlue | 0 |
HueAdjustmentGreen | 0 |
HueAdjustmentMagenta | 0 |
HueAdjustmentOrange | 0 |
HueAdjustmentPurple | 0 |
HueAdjustmentRed | 0 |
HueAdjustmentYellow | 0 |
HyperfocalDistance | 159.70 m |
ICCProfileName | Adobe RGB (1998) |
ImageHeight | 774 |
ImageNumber | 0 |
ImageSize | 1162x774 |
ImageWidth | 1162 |
ISO | 2000 |
Lens | EF70-200mm f/4L IS USM |
LensInfo | 70-200mm f/? |
LightValue | 14.0 |
LuminanceAdjustmentAqua | 0 |
LuminanceAdjustmentBlue | 0 |
LuminanceAdjustmentGreen | 0 |
LuminanceAdjustmentMagenta | 0 |
LuminanceAdjustmentOrange | 0 |
LuminanceAdjustmentPurple | 0 |
LuminanceAdjustmentRed | 0 |
LuminanceAdjustmentYellow | 0 |
LuminanceSmoothing | 56 |
Make | Canon |
MaxApertureValue | 4.0 |
Megapixels | 0.899 |
MeteringMode | Multi-segment |
Model | Canon EOS 5D Mark II |
ModifyDate (1) | 2009:06:15 08:58:16+02:00 |
ModifyDate | 2009:06:15 08:58:16 |
Orientation | Horizontal (normal) |
OwnerName | Lars Oestreim |
ParametricDarks | +18 |
ParametricHighlights | +26 |
ParametricHighlightSplit | 75 |
ParametricLights | +23 |
ParametricMidtoneSplit | 50 |
ParametricShadows | +58 |
ParametricShadowSplit | 25 |
PostCropVignetteAmount | 0 |
ProfileDescription | Adobe RGB (1998) |
Rating | 0 |
RawFileName | IMG_1109.CR2 |
RedHue | 0 |
RedSaturation | 0 |
Rights | Copyright:Lars Oestreim |
Saturation | +4 |
SaturationAdjustmentAqua | 0 |
SaturationAdjustmentBlue | 0 |
SaturationAdjustmentGreen | 0 |
SaturationAdjustmentMagenta | 0 |
SaturationAdjustmentOrange | 0 |
SaturationAdjustmentPurple | 0 |
SaturationAdjustmentRed | 0 |
SaturationAdjustmentYellow | 0 |
ScaleFactor35efl | 1.0 |
SceneCaptureType | Standard |
SerialNumber | 530318205 |
Shadows | 8 |
ShadowTint | 0 |
SharpenDetail | 8 |
SharpenEdgeMasking | 9 |
SharpenRadius | +0.5 |
Sharpness | 40 |
ShutterSpeed | 1/8000 |
ShutterSpeedValue | 1/8000 |
SidecarForExtension | CR2 |
Software | Adobe Photoshop CS4 Windows |
SplitToningBalance | 0 |
SplitToningHighlightHue | 209 |
SplitToningHighlightSaturation | 28 |
SplitToningShadowHue | 240 |
SplitToningShadowSaturation | 5 |
Tint | +10 |
ToneCurve | 0, 0, 32, 22, 64, 56, 128, 128, 192, 196, 255, 255 |
ToneCurveName | Medium Contrast |
URL_List | |
Version | 5.3 |
Vibrance | +30 |
VignetteAmount | 0 |
WhiteBalance (2) | Daylight |
WhiteBalance | Auto |