Felt | Verdi |
AlreadyApplied | True |
Aperture | 3.3 |
ApertureValue | 3.3 |
BitsPerSample (1) | 16, 16, 16 |
BitsPerSample (2) | 16 16 16 |
BitsPerSample | 8 |
BlueHue | 0 |
BlueSaturation | 0 |
Brightness | +50 |
CameraProfile | Adobe Standard |
CFAPattern | [Green,Red][Blue,Green] |
ChromaticAberrationB | -81 |
ChromaticAberrationR | +33 |
CircleOfConfusion | 0.020 mm |
Clarity | +14 |
ColorComponents | 1 |
ColorMode | Grayscale |
ColorNoiseReduction | 100 |
ColorSpace | Uncalibrated |
ColorTemperature | 5350 |
Contrast (2) | +25 |
Contrast | Normal |
ConvertToGrayscale | True |
CreateDate (1) | 2009:07:04 01:50:57.24+02:00 |
CreateDate | 2009:07:04 01:50:57 |
CreatorTool | Adobe Photoshop Lightroom |
CropAngle | -0.465727 |
CropBottom | 0.982653 |
CropHeight | 2504 |
CropLeft | 0.084573 |
CropRight | 0.89165 |
CropTop | 0.02625 |
CropUnit | pixels |
CropWidth | 3105 |
CustomRendered | Normal |
DateTimeDigitized | 2009:07:04 01:50:57.24+02:00 |
DateTimeOriginal (1) | 2009:07:04 01:50:57.24+02:00 |
DateTimeOriginal | 2009:07:04 01:50:57 |
Defringe | 0 |
DigitalZoomRatio | 1 |
ExifImageHeight | 751 |
ExifImageWidth | 931 |
Exposure | -0.38 |
ExposureCompensation | -1/3 |
ExposureMode | Auto |
ExposureProgram | Aperture-priority AE |
ExposureTime | 1/4 |
FillLight | 0 |
Flash | No Flash |
FlashFired | False |
FlashFunction | False |
FlashMode | Unknown |
FlashRedEyeMode | False |
FlashReturn | No return detection |
FNumber | 3.3 |
FocalLength | 26.0 mm |
FocalLength35efl | 26.0 mm (35 mm equivalent: 39.0 mm) |
FocalLengthIn35mmFormat | 39 mm |
Format | image/jpeg |
FOV | 49.6 deg |
GainControl | None |
GrayMixerAqua | +48 |
GrayMixerBlue | +17 |
GrayMixerGreen | +55 |
GrayMixerMagenta | -12 |
GrayMixerOrange | +24 |
GrayMixerPurple | -5 |
GrayMixerRed | +76 |
GrayMixerYellow | +7 |
GreenHue | 0 |
GreenSaturation | 0 |
HasCrop | True |
HasSettings | True |
HierarchicalSubject | Landscape, gloppen, natt, sommar |
HighlightRecovery | 42 |
HyperfocalDistance | 10.23 m |
ICCProfileName | sGray |
ImageHeight (2) | 2504 |
ImageHeight | 751 |
ImageNumber | 54987 |
ImageSize | 931x751 |
ImageWidth (2) | 3105 |
ImageWidth | 931 |
ISO | 250 |
Keywords | Landscape, gloppen, natt, sommar |
Lens | 17.0-70.0 mm f/2.8-4.5 |
LensInfo | 17-70mm f/2.8-4.5 |
LightSource | Unknown |
LightValue | 4.1 |
LuminanceSmoothing | 0 |
Make | NIKON CORPORATION |
MaxApertureValue | 3.4 |
Megapixels | 0.699 |
MeteringMode | Multi-segment |
Model | NIKON D200 |
ModifyDate (1) | 2009:07:05 12:51:22+02:00 |
ModifyDate | 2009:07:05 12:51:22 |
Orientation | Horizontal (normal) |
ParametricDarks | -12 |
ParametricHighlights | -81 |
ParametricHighlightSplit | 75 |
ParametricLights | +36 |
ParametricMidtoneSplit | 50 |
ParametricShadows | -29 |
ParametricShadowSplit | 25 |
PhotometricInterpretation | RGB |
PlanarConfiguration | Chunky |
PostCropVignetteAmount | -52 |
PostCropVignetteFeather | 100 |
PostCropVignetteMidpoint | 0 |
PostCropVignetteRoundness | 0 |
ProfileDescription | sGray |
RedHue | 0 |
RedSaturation | 0 |
SamplesPerPixel | 3 |
Saturation | High |
ScaleFactor35efl | 1.5 |
SceneCaptureType | Standard |
SceneType | Directly photographed |
SensingMethod | One-chip color area |
Shadows | 8 |
ShadowTint | 0 |
SharpenDetail | 1 |
SharpenEdgeMasking | 25 |
SharpenRadius | +1.1 |
Sharpness (2) | 71 |
Sharpness | Hard |
ShutterSpeed | 1/4 |
ShutterSpeedValue | 1/4 |
Software | Adobe Photoshop CS4 Windows |
SplitToningBalance | 0 |
SplitToningHighlightHue | 0 |
SplitToningHighlightSaturation | 0 |
SplitToningShadowHue | 0 |
SplitToningShadowSaturation | 0 |
Subject | Landscape, gloppen, natt, sommar |
SubjectDistanceRange | Unknown |
Tint | -7 |
ToneCurve | 0, 0, 32, 22, 64, 56, 128, 128, 192, 196, 255, 255 |
ToneCurveName | Medium Contrast |
URL_List | |
Version | 5.3 |
VignetteAmount | 0 |
WhiteBalance (2) | As Shot |
WhiteBalance | Auto |