Felt | Verdi |
2009-06-22T12:15:11+02:00 File C:\Users\Line\Pictures\Bilder 2009\Juni 09\22.06.09 saved
2009-06-22T12:19:33+02:00 File C:\Users\Line\Pictures\Bilder 2009\Juni 09\22.06.09_4717.jpg saved
AlreadyApplied | True |
Aperture | 5.0 |
ApertureValue | 5.0 |
Artist | Line Bjerkengen |
As: Camera Raw
AuthorsPosition | Fotograf |
BitsPerSample | 8 |
BlueHue | 0 |
BlueSaturation | 0 |
Brightness | +76 |
By-line | Line Bjerkengen |
By-lineTitle | Fotograf |
CameraProfile | ACR 4.4 |
CFAPattern | [Blue,Green][Green,Red] |
ChromaticAberrationB | 0 |
ChromaticAberrationR | 0 |
CircleOfConfusion | 0.020 mm |
Clarity | 0 |
ColorComponents | 3 |
ColorMode | RGB |
ColorNoiseReduction | 25 |
ColorSpace | Uncalibrated |
ColorTemperature | 4850 |
Contrast (2) | +57 |
Contrast | Normal |
ConvertToGrayscale | False |
Copyright | Copyrighted - DO NOT COPY! |
CopyrightNotice | Copyrighted - DO NOT COPY! |
CreateDate (1) | 2009:06:22 11:09:48.50+02:00 |
CreateDate | 2009:06:22 11:09:48 |
Creator | Line Bjerkengen |
CreatorAddress | Sagvollveien 298 |
CreatorCity | Raufoss |
CreatorCountry | Norway |
CreatorPostalCode | 2830 |
CreatorRegion | Vestre Toten |
CreatorTool | |
CreatorWorkEmail | Bjerk@online.no |
CreatorWorkTelephone | +4797736089 |
CustomRendered | Normal |
DateCreated | 2009:02:11 |
DateTimeDigitized | 2009:06:22 11:09:48.50+02:00 |
DateTimeOriginal (1) | 2009:06:22 11:09:48.50+02:00 |
DateTimeOriginal | 2009:06:22 11:09:48 |
Defringe | 0 |
Depth: 16 Bits/channel
DigitalZoomRatio | 1 |
ExifImageHeight | 3008 |
ExifImageWidth | 2000 |
Exposure | -1.05 |
ExposureCompensation | 0 |
ExposureMode | Manual |
ExposureProgram | Manual |
ExposureTime | 1/2500 |
FillLight | 0 |
Flash | No Flash |
FlashFired | False |
FlashFunction | False |
FlashMode | Unknown |
FlashRedEyeMode | False |
FlashReturn | No return detection |
FNumber | 5.0 |
FocalLength | 62.0 mm |
FocalLength35efl | 62.0 mm (35 mm equivalent: 93.0 mm) |
FocalLengthIn35mmFormat | 93 mm |
Format | image/jpeg |
FOV | 21.9 deg |
GainControl | None |
GreenHue | 0 |
GreenSaturation | 0 |
HasCrop | False |
HasSettings | True |
HierarchicalSubject | Motiver|Natur, Steder|Raufoss, Steder|Sagvoll |
HighlightRecovery | 77 |
HueAdjustmentAqua | 0 |
HueAdjustmentBlue | 0 |
HueAdjustmentGreen | +19 |
HueAdjustmentMagenta | 0 |
HueAdjustmentOrange | 0 |
HueAdjustmentPurple | 0 |
HueAdjustmentRed | 0 |
HueAdjustmentYellow | +20 |
HyperfocalDistance | 38.38 m |
ICCProfileName | Adobe RGB (1998) |
ImageHeight | 480 |
ImageNumber | 8738 |
ImageSize | 319x480 |
ImageWidth | 319 |
In: C:\Users\Line\Pictures\Bilder 2009\Juni 09\22.06.09
ISO | 200 |
Keywords | Natur, Raufoss, Sagvoll |
Lens | 55.0-200.0 mm f/4.0-5.6 |
LensInfo | 55-200mm f/4-5.6 |
LightSource | Unknown |
LightValue | 14.9 |
LuminanceAdjustmentAqua | 0 |
LuminanceAdjustmentBlue | 0 |
LuminanceAdjustmentGreen | -18 |
LuminanceAdjustmentMagenta | 0 |
LuminanceAdjustmentOrange | 0 |
LuminanceAdjustmentPurple | 0 |
LuminanceAdjustmentRed | 0 |
LuminanceAdjustmentYellow | -19 |
LuminanceSmoothing | 0 |
Make | NIKON CORPORATION |
Matte: none
MaxApertureValue | 4.1 |
Megapixels | 0.153 |
Merge Visible
MeteringMode | Spot |
Model | NIKON D40 |
Model: “Nikon D40”
ModifyDate (1) | 2009:06:22 12:19:33+02:00 |
ModifyDate | 2009:06:22 12:19:33 |
Open C:\Users\Line\Pictures\Bilder Nordic\22.06.09\22.06.09_4717.dng
Orientation | Horizontal (normal) |
Output Sharpen For: None
ParametricDarks | -1 |
ParametricHighlights | -26 |
ParametricHighlightSplit | 75 |
ParametricLights | -12 |
ParametricMidtoneSplit | 50 |
ParametricShadows | 0 |
ParametricShadowSplit | 25 |
Play action “///// NEW Actions Dec 06 //////” of set “Itty Bitty 52 Action Set”
Play action “Antique Tone” of set “Totally Rad! - Color Blind”
Play action “Boring Old B&W” of set “Totally Rad! - Color Blind”
Play action “Boring Selenium” of set “Totally Rad! - Color Blind”
Play action “Cinnamon Toast” of set “Totally Rad! - Color Blind”
Play action “PF - 16 > 8 bit” of set “PixelFlash Actionsett”
Play action “Simply Intensify” of set “Itty Bitty 52 Action Set”
Play action “Split Tone #1” of set “Totally Rad! - Color Blind”
PostCropVignetteAmount | 0 |
ProfileDescription | Adobe RGB (1998) |
Quality: 12
Rating | 0 |
RawFileName | 22.06.09_4717.dng |
RedHue | 0 |
RedSaturation | 0 |
Resolution: 240
Rights | Copyrighted - DO NOT COPY! |
Saturation (2) | 0 |
Saturation | Normal |
SaturationAdjustmentAqua | 0 |
SaturationAdjustmentBlue | 0 |
SaturationAdjustmentGreen | +24 |
SaturationAdjustmentMagenta | 0 |
SaturationAdjustmentOrange | 0 |
SaturationAdjustmentPurple | 0 |
SaturationAdjustmentRed | 0 |
SaturationAdjustmentYellow | +25 |
Save As: JPEG
Scale: 1
ScaleFactor35efl | 1.5 |
SceneCaptureType | Standard |
SceneType | Directly photographed |
Select snapshot “22.06.09_4717.dng”
SensingMethod | One-chip color area |
SerialNumber | 6575571 |
Settings: Image Settings
Shadows | 0 |
ShadowTint | 0 |
SharpenDetail | 25 |
SharpenEdgeMasking | 0 |
SharpenRadius | +1.0 |
Sharpness (2) | 0 |
Sharpness | Normal |
ShutterSpeed | 1/2500 |
ShutterSpeedValue | 1/2500 |
Software | Adobe Photoshop CS4 Windows |
Space: Adobe RGB (1998)
SplitToningBalance | 0 |
SplitToningHighlightHue | 0 |
SplitToningHighlightSaturation | 0 |
SplitToningShadowHue | 0 |
SplitToningShadowSaturation | 0 |
Subject | Natur, Raufoss, Sagvoll |
SubjectDistanceRange | Unknown |
Tint | +3 |
ToneCurve | 0, 0, 32, 22, 64, 56, 128, 128, 192, 196, 255, 255 |
ToneCurveName | Medium Contrast |
URL_List | |
UsageTerms | Please give me credit when using my products (Online galleries, boards, webpage, ...Line Bjerkengen). Any use of my files without promision will be charged by double price of first agreed. |
Version | 5.3 |
Vibrance | 0 |
VignetteAmount | 0 |
WhiteBalance (2) | Custom |
WhiteBalance | Auto |
With Copy
With Optimized