Felt | Verdi |
AlreadyApplied | True |
Aperture | 8.0 |
ApertureValue | 8.0 |
BitsPerSample | 8 |
BlueHue | 0 |
BlueSaturation | 0 |
Brightness | -36 |
CameraProfile | Embedded |
CFAPattern | [Blue,Green][Green,Red] |
ChromaticAberrationB | 0 |
ChromaticAberrationR | 0 |
CircleOfConfusion | 0.020 mm |
Clarity | +100 |
ColorComponents | 3 |
ColorNoiseReduction | 0 |
Contrast (2) | +77 |
Contrast | Normal |
ConvertToGrayscale | False |
CreateDate (1) | 2009:08:01 08:59:14.20+02:00 |
CreateDate | 2009:08:01 08:59:14 |
CreatorTool | Adobe Photoshop Lightroom |
CropAngle | 0 |
CropBottom | 0.998623 |
CropHeight | 1997 |
CropLeft | 0.034799 |
CropRight | 1 |
CropTop | 0 |
CropUnit | pixels |
CropWidth | 2903 |
CustomRendered | Normal |
DateTimeDigitized | 2009:08:01 08:59:14.20+02:00 |
DateTimeOriginal (1) | 2009:08:01 08:59:14.20+02:00 |
DateTimeOriginal | 2009:08:01 08:59:14 |
Defringe | 0 |
DigitalZoomRatio | 1 |
ExifImageHeight | 1997 |
ExifImageWidth | 2903 |
Exposure | 0.00 |
ExposureCompensation | 0 |
ExposureMode | Auto |
ExposureProgram | Aperture-priority AE |
ExposureTime | 1/250 |
FillLight | 0 |
Flash | No Flash |
FlashFired | False |
FlashFunction | False |
FlashMode | Unknown |
FlashRedEyeMode | False |
FlashReturn | No return detection |
FNumber | 8.0 |
FocalLength | 62.0 mm |
FocalLength35efl | 62.0 mm (35 mm equivalent: 93.0 mm) |
FocalLengthIn35mmFormat | 93 mm |
FOV | 21.9 deg |
GainControl | None |
GreenHue | 0 |
GreenSaturation | 0 |
HasCrop | True |
HasSettings | True |
HighlightRecovery | 0 |
HueAdjustmentAqua | 0 |
HueAdjustmentBlue | 0 |
HueAdjustmentGreen | 0 |
HueAdjustmentMagenta | 0 |
HueAdjustmentOrange | 0 |
HueAdjustmentPurple | 0 |
HueAdjustmentRed | 0 |
HueAdjustmentYellow | 0 |
HyperfocalDistance | 23.99 m |
ImageHeight | 1997 |
ImageNumber | 5463 |
ImageSize | 2903x1997 |
ImageWidth | 2903 |
IncrementalTemperature | +57 |
IncrementalTint | 0 |
ISO | 200 |
Lens | 17.0-70.0 mm f/2.8-4.5 |
LensInfo | 17-70mm f/2.8-4.5 |
LightSource | Unknown |
LightValue | 13.0 |
LuminanceAdjustmentAqua | 0 |
LuminanceAdjustmentBlue | 0 |
LuminanceAdjustmentGreen | 0 |
LuminanceAdjustmentMagenta | 0 |
LuminanceAdjustmentOrange | 0 |
LuminanceAdjustmentPurple | 0 |
LuminanceAdjustmentRed | 0 |
LuminanceAdjustmentYellow | 0 |
LuminanceSmoothing | 0 |
Make | NIKON CORPORATION |
MaxApertureValue | 4.3 |
Megapixels | 5.8 |
MeteringMode | Multi-segment |
Model | NIKON D40 |
ModifyDate (1) | 2009:08:10 11:47:13+02:00 |
ModifyDate | 2009:08:10 11:47:13 |
ParametricDarks | 0 |
ParametricHighlights | 0 |
ParametricHighlightSplit | 75 |
ParametricLights | 0 |
ParametricMidtoneSplit | 50 |
ParametricShadows | 0 |
ParametricShadowSplit | 25 |
PostCropVignetteAmount | 0 |
ProfileDescription | sRGB IEC61966-2.1 |
RedHue | 0 |
RedSaturation | 0 |
Saturation (2) | +10 |
Saturation | Normal |
SaturationAdjustmentAqua | 0 |
SaturationAdjustmentBlue | 0 |
SaturationAdjustmentGreen | 0 |
SaturationAdjustmentMagenta | 0 |
SaturationAdjustmentOrange | 0 |
SaturationAdjustmentPurple | 0 |
SaturationAdjustmentRed | 0 |
SaturationAdjustmentYellow | 0 |
ScaleFactor35efl | 1.5 |
SceneCaptureType | Standard |
SceneType | Directly photographed |
SensingMethod | One-chip color area |
SerialNumber | 6617045 |
Shadows | 0 |
ShadowTint | 0 |
SharpenDetail | 25 |
SharpenEdgeMasking | 0 |
SharpenRadius | +1.0 |
Sharpness (2) | 0 |
Sharpness | Normal |
ShutterSpeed | 1/250 |
ShutterSpeedValue | 1/250 |
Software | Ver.1.11 |
SplitToningBalance | 0 |
SplitToningHighlightHue | 0 |
SplitToningHighlightSaturation | 0 |
SplitToningShadowHue | 0 |
SplitToningShadowSaturation | 0 |
SubjectDistanceRange | Unknown |
ToneCurve | 0, 0, 255, 255 |
ToneCurveName | Linear |
Version | 5.2 |
Vibrance | +10 |
VignetteAmount | 0 |
WhiteBalance (2) | Custom |
WhiteBalance | Auto |