Felt | Verdi |
AlreadyApplied | True |
Aperture | 6.7 |
ApertureValue | 6.7 |
Artist | Morten Prom |
BitsPerSample | 8 |
BlueHue | 0 |
BlueSaturation | 0 |
Brightness | 0 |
By-line | Morten Prom |
CameraProfile | Embedded |
Caption-Abstract | Crazy Blue Eye Growling |
ChromaticAberrationB | 0 |
ChromaticAberrationR | 0 |
CircleOfConfusion | 0.019 mm |
Clarity | +7 |
ColorComponents | 3 |
ColorMode | RGB |
ColorNoiseReduction | 0 |
ColorSpace (1) | Unknown (-1) |
ColorSpace | Uncalibrated |
Contrast | +21 |
ConvertToGrayscale | False |
Copyright | Copyright Morten Prom |
CopyrightFlag | True |
CopyrightNotice | Copyright Morten Prom |
CreateDate (1) | 2009:08:11 02:31:39+02:00 |
CreateDate | 2009:08:11 00:36:34 |
Creator | Morten Prom |
CreatorCity | Oslo |
CreatorCountry | Norway |
CreatorTool | Adobe Photoshop CS3 Windows |
CreatorWorkEmail | morten.prom@gmail.com |
CreatorWorkURL | http://www.mortenprom.com/ |
CropAngle | 0 |
CropBottom | 0.81893 |
CropHeight | 1281 |
CropLeft | 0.135802 |
CropRight | 0.962963 |
CropTop | 0 |
CropUnit | pixels |
CropWidth | 863 |
CustomRendered | Normal |
DateTimeDigitized | 2009:08:11 00:36:34.00+02:00 |
DateTimeOriginal (1) | 2009:08:11 00:36:34.00+02:00 |
DateTimeOriginal | 2009:08:11 00:36:34 |
Defringe | 0 |
DerivedFrom | |
Description | Crazy Blue Eye Growling |
ExifImageHeight | 1281 |
ExifImageWidth | 863 |
Exposure | 0.00 |
ExposureCompensation | 0 |
ExposureMode | Auto |
ExposureProgram | Aperture-priority AE |
ExposureTime | 1/250 |
FillLight | 11 |
Firmware | 1.0.8 |
Flash | On, Fired |
FlashCompensation | -1 |
FlashFired | True |
FlashFunction | False |
FlashMode | On |
FlashRedEyeMode | False |
FlashReturn | No return detection |
FNumber | 6.7 |
FocalLength | 20.0 mm |
FocalLength35efl | 20.0 mm (35 mm equivalent: 32.4 mm) |
Format | image/jpeg |
FOV | 58.1 deg |
GreenHue | 0 |
GreenSaturation | 0 |
HasCrop | True |
HasSettings | True |
HierarchicalSubject | #twphch, 2009, black, blue, canon 40d, color, face, flash, golden, gray, human, light, man, mortenprom, mysterious, norge, norway, off camera flash, orange, selfportrait, sigma 10-20mm, white, wideangle, yellow |
HighlightRecovery | 0 |
HueAdjustmentAqua | 0 |
HueAdjustmentBlue | 0 |
HueAdjustmentGreen | 0 |
HueAdjustmentMagenta | 0 |
HueAdjustmentOrange | 0 |
HueAdjustmentPurple | 0 |
HueAdjustmentRed | 0 |
HueAdjustmentYellow | 0 |
HyperfocalDistance | 3.22 m |
ICCProfileName | Adobe RGB (1998) |
ImageDescription | Crazy Blue Eye Growling |
ImageHeight | 1281 |
ImageNumber | 0 |
ImageSize | 863x1281 |
ImageWidth | 863 |
IncrementalTemperature | 0 |
IncrementalTint | 0 |
ISO | 100 |
Keywords | #twphch, 2009, black, blue, canon 40d, color, face, flash, golden, gray, human, light, man, mortenprom, mysterious, norge, norway, off camera flash, orange, selfportrait, sigma 10-20mm, white, wideangle, yellow |
Lens | 10-20mm |
LensInfo | 10-20mm f/? |
LightValue | 13.5 |
LuminanceAdjustmentAqua | 0 |
LuminanceAdjustmentBlue | 0 |
LuminanceAdjustmentGreen | 0 |
LuminanceAdjustmentMagenta | 0 |
LuminanceAdjustmentOrange | 0 |
LuminanceAdjustmentPurple | 0 |
LuminanceAdjustmentRed | 0 |
LuminanceAdjustmentYellow | 0 |
LuminanceSmoothing | 0 |
Make | Canon |
Marked | True |
MaxApertureValue | 5.7 |
Megapixels | 1.1 |
MeteringMode | Partial |
Model | Canon EOS 40D |
ModifyDate (1) | 2009:08:11 02:31:39+02:00 |
ModifyDate | 2009:08:11 02:31:39 |
ObjectName | Blue Eye |
Orientation | Horizontal (normal) |
PaintCorrectionActive | true |
PaintCorrectionAmount | 1.000000 |
PaintCorrectionBrightness (1) | 0.000000 |
PaintCorrectionBrightness (2) | -0.124000 |
PaintCorrectionBrightness | -0.060000 |
PaintCorrectionClarity | 0.000000 |
PaintCorrectionContrast | 0.000000 |
PaintCorrectionExposure (1) | -0.088000 |
PaintCorrectionExposure | -0.069000 |
PaintCorrectionHue | 230.000000 |
PaintCorrectionMaskCenterWeight | 0.000000 |
PaintCorrectionMaskFlow | 1.000000 |
PaintCorrectionMaskRadius (3) | 0.013000 |
PaintCorrectionMaskRadius (4) | 0.016364 |
PaintCorrectionMaskRadius | 0.009750 |
PaintCorrectionMaskValue | 1.000000 |
PaintCorrectionMaskWhat | Mask/Paint |
PaintCorrectionSaturation | 0.000000 |
PaintCorrectionSharpness | 0.000000 |
PaintCorrectionWhat | Correction |
ParametricDarks | 0 |
ParametricHighlights | 0 |
ParametricHighlightSplit | 75 |
ParametricLights | 0 |
ParametricMidtoneSplit | 50 |
ParametricShadows | 0 |
ParametricShadowSplit | 25 |
PostCropVignetteAmount | 0 |
ProfileDescription | Adobe RGB (1998) |
Rating | 5 |
RedHue | 0 |
RedSaturation | 0 |
Rights | Copyright Morten Prom |
Saturation | -8 |
SaturationAdjustmentAqua | 0 |
SaturationAdjustmentBlue | 0 |
SaturationAdjustmentGreen | 0 |
SaturationAdjustmentMagenta | 0 |
SaturationAdjustmentOrange | 0 |
SaturationAdjustmentPurple | 0 |
SaturationAdjustmentRed | 0 |
SaturationAdjustmentYellow | 0 |
ScaleFactor35efl | 1.6 |
SceneCaptureType | Standard |
SerialNumber | 330112890 |
Shadows | 7 |
ShadowTint | 0 |
SharpenDetail | 25 |
SharpenEdgeMasking | 0 |
SharpenRadius | +1.0 |
Sharpness | 0 |
ShutterSpeed | 1/250 |
ShutterSpeedValue | 1/250 |
Software | Adobe Photoshop CS3 Windows |
SplitToningBalance | 0 |
SplitToningHighlightHue | 0 |
SplitToningHighlightSaturation | 0 |
SplitToningShadowHue | 0 |
SplitToningShadowSaturation | 0 |
Subject | #twphch, 2009, black, blue, canon 40d, color, face, flash, golden, gray, human, light, man, mortenprom, mysterious, norge, norway, off camera flash, orange, selfportrait, sigma 10-20mm, white, wideangle, yellow |
Title | Blue Eye |
ToneCurve | 0, 0, 255, 255 |
ToneCurveName | Linear |
URL | http://www.mortenprom.com/ |
URL_List | |
UsageTerms | http://www.mortenprom.com/ |
Version | 4.5 |
Vibrance | 0 |
VignetteAmount | 0 |
WebStatement | http://www.mortenprom.com/ |
WhiteBalance (2) | As Shot |
WhiteBalance | Auto |