Felt | Verdi |
AlreadyApplied | True |
Aperture | 5.6 |
ApertureValue | 5.6 |
Artist | Photographer: Henrik Erevik Riise |
BitsPerSample | 8 |
BlueHue | 0 |
BlueSaturation | 0 |
Brightness | +47 |
By-line | Photographer: Henrik Erevik Riis |
CameraProfile | Adobe Standard |
ChromaticAberrationB | 0 |
ChromaticAberrationR | -12 |
CircleOfConfusion | 0.031 mm |
Clarity | +50 |
ColorComponents | 3 |
ColorNoiseReduction | 25 |
ColorTemperature | 4738 |
Contrast | +53 |
ConvertToGrayscale | False |
Copyright | Copyright: Henrik Erevik Riise |
CopyrightNotice | Copyright: Henrik Erevik Riise |
CreateDate (1) | 2009:08:15 19:15:01.87+02:00 |
CreateDate | 2009:08:15 19:15:01 |
Creator | Photographer: Henrik Erevik Riise |
CreatorTool | Adobe Photoshop Lightroom |
CustomRendered | Normal |
DateTimeDigitized | 2009:08:15 19:15:01.87+02:00 |
DateTimeOriginal (1) | 2009:08:15 19:15:01.87+02:00 |
DateTimeOriginal | 2009:08:15 19:15:01 |
Defringe | 0 |
ExifImageHeight | 3744 |
ExifImageWidth | 5616 |
Exposure | -0.33 |
ExposureCompensation | 0 |
ExposureMode | Auto |
ExposureProgram | Aperture-priority AE |
ExposureTime | 1/250 |
FillLight | 0 |
Firmware | 1.1.0 |
Flash | Off, Did not fire |
FlashCompensation | 0 |
FlashFired | False |
FlashFunction | False |
FlashMode | Off |
FlashRedEyeMode | False |
FlashReturn | No return detection |
FNumber | 5.6 |
FocalLength | 24.0 mm |
FocalLength35efl | 24.0 mm (35 mm equivalent: 23.4 mm) |
FOV | 75.1 deg |
GreenHue | 0 |
GreenSaturation | 0 |
HasCrop | False |
HasSettings | True |
HighlightRecovery | 89 |
HueAdjustmentAqua | 0 |
HueAdjustmentBlue | 0 |
HueAdjustmentGreen | 0 |
HueAdjustmentMagenta | 0 |
HueAdjustmentOrange | 0 |
HueAdjustmentPurple | 0 |
HueAdjustmentRed | 0 |
HueAdjustmentYellow | 0 |
HyperfocalDistance | 3.34 m |
ImageHeight | 3744 |
ImageNumber | 0 |
ImageSize | 5616x3744 |
ImageWidth | 5616 |
ISO | 100 |
Lens | EF24-70mm f/2.8L USM |
LensInfo | 24-70mm f/? |
LightValue | 12.9 |
LuminanceAdjustmentAqua | 0 |
LuminanceAdjustmentBlue | 0 |
LuminanceAdjustmentGreen | 0 |
LuminanceAdjustmentMagenta | 0 |
LuminanceAdjustmentOrange | 0 |
LuminanceAdjustmentPurple | 0 |
LuminanceAdjustmentRed | 0 |
LuminanceAdjustmentYellow | 0 |
LuminanceSmoothing | 0 |
Make | Canon |
MaxApertureValue | 2.8 |
Megapixels | 21.0 |
MeteringMode | Multi-segment |
Model | Canon EOS 5D Mark II |
ModifyDate (1) | 2009:08:16 17:15:51+02:00 |
ModifyDate | 2009:08:16 17:15:51 |
OwnerName | Henrik Erevik Riise |
ParametricDarks | -30 |
ParametricHighlights | +17 |
ParametricHighlightSplit | 90 |
ParametricLights | +34 |
ParametricMidtoneSplit | 41 |
ParametricShadows | -22 |
ParametricShadowSplit | 10 |
PostCropVignetteAmount | -19 |
PostCropVignetteFeather | 50 |
PostCropVignetteMidpoint | 50 |
PostCropVignetteRoundness | 0 |
ProfileDescription | Adobe RGB (1998) |
RedHue | 0 |
RedSaturation | 0 |
Rights | Copyright: Henrik Erevik Riise |
Saturation | -5 |
SaturationAdjustmentAqua | +33 |
SaturationAdjustmentBlue | -29 |
SaturationAdjustmentGreen | 0 |
SaturationAdjustmentMagenta | 0 |
SaturationAdjustmentOrange | 0 |
SaturationAdjustmentPurple | 0 |
SaturationAdjustmentRed | 0 |
SaturationAdjustmentYellow | 0 |
ScaleFactor35efl | 1.0 |
SceneCaptureType | Standard |
SerialNumber | 1030715787 |
Shadows | 11 |
ShadowTint | 0 |
SharpenDetail | 7 |
SharpenEdgeMasking | 0 |
SharpenRadius | +0.9 |
Sharpness | 80 |
ShutterSpeed | 1/250 |
ShutterSpeedValue | 1/250 |
SplitToningBalance | 0 |
SplitToningHighlightHue | 0 |
SplitToningHighlightSaturation | 0 |
SplitToningShadowHue | 0 |
SplitToningShadowSaturation | 0 |
Tint | 0 |
ToneCurve | 0, 0, 32, 22, 64, 56, 128, 128, 192, 196, 255, 255 |
ToneCurveName | Medium Contrast |
Version | 5.4 |
Vibrance | +43 |
VignetteAmount | -33 |
VignetteMidpoint | 31 |
WhiteBalance (2) | Custom |
WhiteBalance | Auto |