Felt | Verdi |
AlreadyApplied | True |
Aperture | 7.1 |
ApertureValue | 7.1 |
Artist | Photographer:Robert Fredagsvik |
BitsPerSample | 8 |
BlueHue | 0 |
BlueSaturation | 0 |
Brightness | +30 |
By-line | Photographer:Robert Fredagsvik |
CameraProfile | ACR 4.6 |
ChromaticAberrationB | 0 |
ChromaticAberrationR | +20 |
CircleOfConfusion | 0.019 mm |
Clarity | 0 |
ColorComponents | 3 |
ColorMode | RGB |
ColorNoiseReduction | 10 |
ColorSpace | sRGB |
ColorTemperature | 5700 |
Contrast | +40 |
ConvertToGrayscale | False |
Copyright | Robert Fredagsvik |
CopyrightFlag | False |
CopyrightNotice | Robert Fredagsvik |
CreateDate (1) | 2009:08:25 17:38:30+02:00 |
CreateDate | 2009:05:22 16:32:43 |
Creator | Photographer:Robert Fredagsvik |
CreatorTool | Adobe Photoshop CS3 Windows |
CropAngle | 0 |
CropBottom | 0.792316 |
CropHeight | 3 |
CropLeft | 0.185877 |
CropRight | 0.71028 |
CropTop | 0.267913 |
CropUnit | Unknown (3) |
CropWidth | 2 |
CustomRendered | Normal |
DateTimeDigitized | 2009:05:22 16:32:43.03+02:00 |
DateTimeOriginal (1) | 2009:05:22 16:32:43.03+02:00 |
DateTimeOriginal | 2009:05:22 16:32:43 |
Defringe | 1 |
DerivedFrom | |
ExifImageHeight | 853 |
ExifImageWidth | 1280 |
Exposure | +0.30 |
ExposureCompensation | 0 |
ExposureMode | Auto |
ExposureProgram | Aperture-priority AE |
ExposureTime | 1/1600 |
FillLight | 0 |
Firmware | 1.0.3 |
Flash | Off, Did not fire |
FlashCompensation | 0 |
FlashFired | False |
FlashFunction | False |
FlashMode | Off |
FlashRedEyeMode | False |
FlashReturn | No return detection |
FNumber | 7.1 |
FocalLength | 420.0 mm |
FocalLength35efl | 420.0 mm (35 mm equivalent: 665.5 mm) |
Format | image/jpeg |
FOV | 3.1 deg |
GreenHue | 0 |
GreenSaturation | 0 |
HasCrop | True |
HasSettings | True |
HighlightRecovery | 25 |
HueAdjustmentAqua | 0 |
HueAdjustmentBlue | 0 |
HueAdjustmentGreen | 0 |
HueAdjustmentMagenta | 0 |
HueAdjustmentOrange | 0 |
HueAdjustmentPurple | 0 |
HueAdjustmentRed | 0 |
HueAdjustmentYellow | 0 |
HyperfocalDistance | 1310.26 m |
ICCProfileName | sRGB IEC61966-2.1 |
ImageHeight | 853 |
ImageNumber | 0 |
ImageSize | 1280x853 |
ImageWidth | 1280 |
ISO | 400 |
Lens | EF300mm f/4L IS USM +1.4x |
LensInfo | 420mm f/? |
LightValue | 14.3 |
LuminanceAdjustmentAqua | 0 |
LuminanceAdjustmentBlue | 0 |
LuminanceAdjustmentGreen | 0 |
LuminanceAdjustmentMagenta | 0 |
LuminanceAdjustmentOrange | 0 |
LuminanceAdjustmentPurple | 0 |
LuminanceAdjustmentRed | 0 |
LuminanceAdjustmentYellow | 0 |
LuminanceSmoothing | 10 |
Make | Canon |
MaxApertureValue | 5.7 |
Megapixels | 1.1 |
MeteringMode | Multi-segment |
Model | Canon EOS 50D |
ModifyDate (1) | 2009:08:25 17:38:30+02:00 |
ModifyDate | 2009:08:25 17:38:30 |
Orientation | Horizontal (normal) |
OwnerName | Robert Fredagsvik |
ParametricDarks | 0 |
ParametricHighlights | 0 |
ParametricHighlightSplit | 75 |
ParametricLights | 0 |
ParametricMidtoneSplit | 50 |
ParametricShadows | 0 |
ParametricShadowSplit | 25 |
PostCropVignetteAmount | 0 |
ProfileDescription | sRGB IEC61966-2.1 |
Rating | 5 |
RawFileName | 09.05.22-Tjeld-Sistranda15.cr2 |
RedHue | 0 |
RedSaturation | 0 |
Rights | Robert Fredagsvik |
Saturation | +15 |
SaturationAdjustmentAqua | 0 |
SaturationAdjustmentBlue | 0 |
SaturationAdjustmentGreen | 0 |
SaturationAdjustmentMagenta | 0 |
SaturationAdjustmentOrange | 0 |
SaturationAdjustmentPurple | 0 |
SaturationAdjustmentRed | 0 |
SaturationAdjustmentYellow | 0 |
ScaleFactor35efl | 1.6 |
SceneCaptureType | Standard |
SerialNumber | 530311774 |
Shadows | 4 |
ShadowTint | 0 |
SharpenDetail | 25 |
SharpenEdgeMasking | 0 |
SharpenRadius | +1.0 |
Sharpness | 50 |
ShutterSpeed | 1/1600 |
ShutterSpeedValue | 1/1600 |
Software | Adobe Photoshop CS3 Windows |
SplitToningBalance | 0 |
SplitToningHighlightHue | 0 |
SplitToningHighlightSaturation | 0 |
SplitToningShadowHue | 0 |
SplitToningShadowSaturation | 0 |
Tint | 0 |
ToneCurve | 0, 0, 32, 22, 64, 56, 128, 128, 192, 196, 255, 255 |
ToneCurveName | Medium Contrast |
URL_List | |
Version | 4.6 |
Vibrance | +10 |
VignetteAmount | 0 |
WhiteBalance | Auto |