Felt | Verdi |
AlreadyApplied | True |
BitsPerSample | 8 |
BlackClip | 0.011550 |
BlueHue | 0 |
BlueSaturation | 0 |
Brightness | 0 |
CameraProfile | Embedded |
ChromaticAberrationB | 0 |
ChromaticAberrationR | 0 |
Clarity | 33 |
ColorComponents | 3 |
ColorMode | RGB |
ColorNoiseReduction | 0 |
ColorSaturation | 89 |
ColorSpace | Uncalibrated |
ColorTemperature | 0 |
Contrast | +11 |
ConvertToGrayscale | False |
CreateDate | 2008:11:02 15:36:59+01:00 |
CreatorTool | Adobe Photoshop CS3 Macintosh |
Defringe | 0 |
DerivedFrom | |
ExifImageHeight | 1280 |
ExifImageWidth | 1928 |
Exposure | -0.50 |
FillLight | 4 |
Format | image/jpeg |
Gamma | 1.000000 |
GreenHue | 0 |
GreenSaturation | 0 |
HasCrop | False |
HasSettings | True |
HighlightRecovery | 0 |
HighlightsSmoothing | 22 |
HueAdjustmentAqua | 0 |
HueAdjustmentBlue | 0 |
HueAdjustmentGreen | 0 |
HueAdjustmentMagenta | 0 |
HueAdjustmentOrange | 0 |
HueAdjustmentPurple | 0 |
HueAdjustmentRed | 0 |
HueAdjustmentYellow | 0 |
ICCProfileName | Adobe RGB (1998) |
ImageHeight | 1280 |
ImageSize | 1928x1280 |
ImageWidth | 1928 |
IncrementalTemperature | +9 |
IncrementalTint | 0 |
LuminanceAdjustmentAqua | 0 |
LuminanceAdjustmentBlue | 0 |
LuminanceAdjustmentGreen | -51 |
LuminanceAdjustmentMagenta | 0 |
LuminanceAdjustmentOrange | +14 |
LuminanceAdjustmentPurple | 0 |
LuminanceAdjustmentRed | +69 |
LuminanceAdjustmentYellow | -19 |
LuminanceSmoothing | 0 |
Luminosity | -6 |
Megapixels | 2.5 |
Method | Details Enhancer |
Microcontrast | 5 |
Microsmoothing | 14 |
ModifyDate (1) | 2009:09:02 23:17:37+02:00 |
ModifyDate | 2009:09:02 23:17:37 |
Orientation | Horizontal (normal) |
ParametricDarks | 0 |
ParametricHighlights | 0 |
ParametricHighlightSplit | 75 |
ParametricLights | 0 |
ParametricMidtoneSplit | 50 |
ParametricShadows | 0 |
ParametricShadowSplit | 25 |
ProfileDescription | Adobe RGB (1998) |
Rating | 5 |
RawFileName | qwer_tonemapped.tif |
RedHue | 0 |
RedSaturation | 0 |
Saturation | 0 |
SaturationAdjustmentAqua | 0 |
SaturationAdjustmentBlue | 0 |
SaturationAdjustmentGreen | +63 |
SaturationAdjustmentMagenta | 0 |
SaturationAdjustmentOrange | +70 |
SaturationAdjustmentPurple | 0 |
SaturationAdjustmentRed | +77 |
SaturationAdjustmentYellow | +39 |
SaturationHighlights | 5 |
SaturationShadows | 5 |
Shadows | 3 |
ShadowsClipping | 10 |
ShadowsSmoothing | 52 |
ShadowTint | 0 |
SharpenDetail | 25 |
SharpenEdgeMasking | 0 |
SharpenRadius | +1.0 |
Sharpness | 0 |
Smoothing | Medium |
Software | Adobe Photoshop CS4 Macintosh |
SplitToningBalance | 0 |
SplitToningHighlightHue | 0 |
SplitToningHighlightSaturation | 0 |
SplitToningShadowHue | 0 |
SplitToningShadowSaturation | 0 |
Strength | 100 |
ToneCurve | 0, 0, 255, 255 |
ToneCurveName | Linear |
URL_List | |
Version (1) | 3.0 |
Version | 4.4.1 |
Vibrance | 0 |
VignetteAmount | 0 |
WhiteBalance | Custom |
WhiteClip | 0.250000 |