Felt | Verdi |
AlreadyApplied | True |
Aperture | 11.0 |
ApertureValue | 11.0 |
BitsPerSample | 8 |
BlueHue | 0 |
BlueSaturation | 0 |
Brightness | +50 |
CameraProfile | ACR 4.4 |
ChromaticAberrationB | 0 |
ChromaticAberrationR | 0 |
CircleOfConfusion | 0.019 mm |
Clarity | 0 |
ColorComponents | 3 |
ColorMode | RGB |
ColorNoiseReduction | 25 |
ColorSpace | sRGB |
ColorTemperature | 4600 |
Contrast | +25 |
ConvertToGrayscale | False |
Copyright | JanArand |
CopyrightFlag | False |
CopyrightNotice | JanArand |
CreateDate (1) | 2009:09:08 20:59:04+02:00 |
CreateDate | 2009:09:06 14:05:08 |
CreatorTool | Microsoft Windows Photo Gallery 6.0.6001.18000 |
Creatortool | Microsoft Windows Photo Gallery 6.0.6001.18000 |
CustomRendered | Normal |
DateTimeDigitized | 2009:09:06 14:05:08.02+02:00 |
DateTimeOriginal (1) | 2009:09:06 14:05:08.02+02:00 |
DateTimeOriginal | 2009:09:06 14:05:08 |
Defringe | 0 |
ExifImageHeight (1) | 2838 |
ExifImageHeight | 2317 |
ExifImageWidth (1) | 1892 |
ExifImageWidth | 1674 |
Exposure | 0.00 |
ExposureCompensation | 0 |
ExposureMode | Auto |
ExposureProgram | Aperture-priority AE |
ExposureTime | 1/15 |
FillLight | 16 |
Firmware | 1.0.4 |
Flash | Off, Did not fire |
FlashCompensation | 0 |
FlashFired | False |
FlashFunction | False |
FlashMode | Off |
FlashRedEyeMode | False |
FlashReturn | No return detection |
FNumber | 11.0 |
FocalLength | 32.0 mm |
FocalLength35efl | 32.0 mm (35 mm equivalent: 51.7 mm) |
Format | image/jpeg |
FOV | 38.4 deg |
GreenHue | 0 |
GreenSaturation | 0 |
HasCrop | False |
HasSettings | True |
HighlightRecovery | 0 |
HueAdjustmentAqua | 0 |
HueAdjustmentBlue | 0 |
HueAdjustmentGreen | 0 |
HueAdjustmentMagenta | 0 |
HueAdjustmentOrange | 0 |
HueAdjustmentPurple | 0 |
HueAdjustmentRed | 0 |
HueAdjustmentYellow | 0 |
HyperfocalDistance | 5.00 m |
ICCProfileName | sRGB IEC61966-2.1 |
ImageHeight | 2317 |
ImageNumber | 0 |
ImageSize | 1674x2317 |
ImageWidth | 1674 |
ISO | 800 |
Lens | EF-S18-200mm f/3.5-5.6 IS |
LensInfo | 18-200mm f/? |
LightValue | 7.8 |
LuminanceAdjustmentAqua | 0 |
LuminanceAdjustmentBlue | 0 |
LuminanceAdjustmentGreen | 0 |
LuminanceAdjustmentMagenta | 0 |
LuminanceAdjustmentOrange | 0 |
LuminanceAdjustmentPurple | 0 |
LuminanceAdjustmentRed | 0 |
LuminanceAdjustmentYellow | 0 |
LuminanceSmoothing | 0 |
Make | Canon |
MaxApertureValue | 4.2 |
Megapixels | 3.9 |
MeteringMode | Multi-segment |
Model | Canon EOS 450D |
ModifyDate (1) | 2009:09:08 20:59:04+02:00 |
ModifyDate | 2009:09:08 21:02:26 |
Orientation | Horizontal (normal) |
OriginatingProgram | Microsoft Windows Photo Gallery 6.0.6001.18000 |
ParametricDarks | 0 |
ParametricHighlights | 0 |
ParametricHighlightSplit | 75 |
ParametricLights | 0 |
ParametricMidtoneSplit | 50 |
ParametricShadows | 0 |
ParametricShadowSplit | 25 |
PostCropVignetteAmount | 0 |
ProfileDescription | sRGB IEC61966-2.1 |
Rating | 0 |
RawFileName | Storheia 029.CR2 |
RedHue | 0 |
RedSaturation | 0 |
Rights | JanArand |
Saturation | 0 |
SaturationAdjustmentAqua | 0 |
SaturationAdjustmentBlue | 0 |
SaturationAdjustmentGreen | 0 |
SaturationAdjustmentMagenta | 0 |
SaturationAdjustmentOrange | 0 |
SaturationAdjustmentPurple | 0 |
SaturationAdjustmentRed | 0 |
SaturationAdjustmentYellow | 0 |
ScaleFactor35efl | 1.6 |
SceneCaptureType | Standard |
SerialNumber | 730224477 |
Shadows | 12 |
ShadowTint | 0 |
SharpenDetail | 25 |
SharpenEdgeMasking | 0 |
SharpenRadius | +1.0 |
Sharpness | 25 |
ShutterSpeed | 1/15 |
ShutterSpeedValue | 1/15 |
SidecarForExtension | CR2 |
Software | Microsoft Windows Photo Gallery 6.0.6001.18000 |
SplitToningBalance | 0 |
SplitToningHighlightHue | 0 |
SplitToningHighlightSaturation | 0 |
SplitToningShadowHue | 0 |
SplitToningShadowSaturation | 0 |
Tint | +23 |
ToneCurve | 0, 0, 32, 22, 64, 56, 128, 128, 192, 196, 255, 255 |
ToneCurveName | Medium Contrast |
URL_List | |
Version | 4.5 |
Vibrance | 0 |
VignetteAmount | 0 |
WhiteBalance (2) | As Shot |
WhiteBalance | Auto |