Felt | Verdi |
AlreadyApplied | True |
Aperture | 22.0 |
ApertureValue | 22.0 |
BitsPerSample | 8 |
BlueHue | 0 |
BlueSaturation | 0 |
Brightness | +81 |
CameraProfile | ACR 3.3 |
CFAPattern | [Green,Red][Blue,Green] |
ChromaticAberrationB | 0 |
ChromaticAberrationR | 0 |
CircleOfConfusion | 0.020 mm |
ColorComponents | 3 |
ColorMode | RGB |
ColorNoiseReduction | 25 |
ColorSpace (1) | Unknown (-1) |
ColorSpace | Uncalibrated |
ColorTemperature | 3900 |
Contrast (2) | +38 |
Contrast | Normal |
ConvertToGrayscale | False |
CopyrightFlag | False |
CreateDate (1) | 2009:09:11 01:08:23+02:00 |
CreateDate | 2009:09:10 17:01:53 |
CreatorTool | Adobe Photoshop CS3 Windows |
CustomRendered | Normal |
DateTimeDigitized | 2009:09:10 17:01:53.49+02:00 |
DateTimeOriginal (1) | 2009:09:10 17:01:53.49+02:00 |
DateTimeOriginal | 2009:09:10 17:01:53 |
DigitalZoomRatio | 1 |
ExifImageHeight | 631 |
ExifImageWidth | 900 |
Exposure | +4.00 |
ExposureCompensation | 0 |
ExposureMode | Auto |
ExposureProgram | Aperture-priority AE |
ExposureTime | 30 |
FillLight | 73 |
Flash | No Flash |
FlashFired | False |
FlashFunction | False |
FlashMode | Unknown |
FlashRedEyeMode | False |
FlashReturn | No return detection |
FNumber | 22.0 |
FocalLength | 62.0 mm |
FocalLength35efl | 62.0 mm (35 mm equivalent: 93.0 mm) |
FocalLengthIn35mmFormat | 93 mm |
Format | image/jpeg |
FOV | 21.9 deg |
GainControl | None |
GreenHue | 0 |
GreenSaturation | 0 |
HasCrop | False |
HasSettings | True |
HighlightRecovery | 0 |
HueAdjustmentAqua | 0 |
HueAdjustmentBlue | 0 |
HueAdjustmentGreen | 0 |
HueAdjustmentMagenta | 0 |
HueAdjustmentOrange | 0 |
HueAdjustmentPurple | 0 |
HueAdjustmentRed | 0 |
HueAdjustmentYellow | 0 |
HyperfocalDistance | 8.72 m |
ICCProfileName | Adobe RGB (1998) |
ImageHeight | 631 |
ImageNumber | 52959 |
ImageSize | 900x631 |
ImageWidth | 900 |
ISO | 100 |
Lens | 55.0-200.0 mm f/4.0-5.6 |
LensInfo | 55-200mm f/4-5.6 |
LightSource | Unknown |
LightValue | 4.0 |
LuminanceAdjustmentAqua | 0 |
LuminanceAdjustmentBlue | 0 |
LuminanceAdjustmentGreen | 0 |
LuminanceAdjustmentMagenta | 0 |
LuminanceAdjustmentOrange | 0 |
LuminanceAdjustmentPurple | 0 |
LuminanceAdjustmentRed | 0 |
LuminanceAdjustmentYellow | 0 |
LuminanceSmoothing | 0 |
Make | NIKON CORPORATION |
MaxApertureValue | 4.1 |
Megapixels | 0.568 |
MeteringMode | Multi-segment |
Model | NIKON D200 |
ModifyDate (1) | 2009:09:11 01:08:23+02:00 |
ModifyDate | 2009:09:11 01:08:23 |
Orientation | Horizontal (normal) |
ParametricDarks | 0 |
ParametricHighlights | 0 |
ParametricHighlightSplit | 75 |
ParametricLights | 0 |
ParametricMidtoneSplit | 50 |
ParametricShadows | 0 |
ParametricShadowSplit | 25 |
ProfileDescription | Adobe RGB (1998) |
Rating | 0 |
RawFileName | DSC_0012.NEF |
RedHue | 0 |
RedSaturation | 0 |
Saturation (2) | -19 |
Saturation | Normal |
SaturationAdjustmentAqua | 0 |
SaturationAdjustmentBlue | 0 |
SaturationAdjustmentGreen | 0 |
SaturationAdjustmentMagenta | 0 |
SaturationAdjustmentOrange | 0 |
SaturationAdjustmentPurple | 0 |
SaturationAdjustmentRed | 0 |
SaturationAdjustmentYellow | 0 |
ScaleFactor35efl | 1.5 |
SceneCaptureType | Standard |
SceneType | Directly photographed |
SensingMethod | One-chip color area |
Shadows | 4 |
ShadowTint | 0 |
Sharpness (2) | 25 |
Sharpness | Normal |
ShutterSpeed | 30 |
ShutterSpeedValue | 30 |
SidecarForExtension | NEF |
Software | Adobe Photoshop CS3 Windows |
SplitToningBalance | 0 |
SplitToningHighlightHue | 0 |
SplitToningHighlightSaturation | 0 |
SplitToningShadowHue | 0 |
SplitToningShadowSaturation | 0 |
SubjectDistanceRange | Unknown |
TimeZoneOffset | 2 2 |
Tint | -6 |
ToneCurve | 0, 0, 32, 22, 64, 56, 128, 128, 192, 196, 255, 255 |
ToneCurveName | Medium Contrast |
URL_List | |
Version | 4.0 |
Vibrance | -35 |
VignetteAmount | -100 |
VignetteMidpoint | 18 |
WhiteBalance (2) | Custom |
WhiteBalance | Auto |