Felt | Verdi |
AlreadyApplied | True |
Aperture | 5.6 |
ApertureValue | 5.6 |
BitsPerSample | 8 |
BlueHue | 0 |
BlueSaturation | 0 |
Brightness | +79 |
CameraProfile | ACR 4.4 |
CFAPattern | [Green,Red][Blue,Green] |
ChromaticAberrationB | -31 |
ChromaticAberrationR | -77 |
CircleOfConfusion | 0.020 mm |
Clarity | -100 |
ColorComponents | 3 |
ColorMode | RGB |
ColorNoiseReduction | 25 |
ColorSpace | Uncalibrated |
ColorTemperature | 4850 |
Contrast (2) | +71 |
Contrast | Low |
ConvertToGrayscale | True |
CreateDate (1) | 2009:09:20 18:52:03.08+02:00 |
CreateDate | 2009:09:20 18:52:03 |
CreatorTool | Ver.1.00 |
CustomRendered | Normal |
DateTimeDigitized | 2009:09:20 18:52:03.08+02:00 |
DateTimeOriginal (1) | 2009:09:20 18:52:03.08+02:00 |
DateTimeOriginal | 2009:09:20 18:52:03 |
Defringe | 0 |
DigitalZoomRatio | 1 |
ExifImageHeight | 489 |
ExifImageWidth | 768 |
Exposure | +1.35 |
ExposureCompensation | -3 |
ExposureMode | Manual |
ExposureProgram | Manual |
ExposureTime | 1/200 |
FillLight | 42 |
Flash | No Flash |
FlashFired | False |
FlashFunction | False |
FlashMode | Unknown |
FlashRedEyeMode | False |
FlashReturn | No return detection |
FNumber | 5.6 |
FocalLength | 12.0 mm |
FocalLength35efl | 12.0 mm (35 mm equivalent: 18.0 mm) |
FocalLengthIn35mmFormat | 18 mm |
Format | image/jpeg |
FOV | 90.0 deg |
GainControl | None |
GrayMixerAqua | -19 |
GrayMixerBlue | +7 |
GrayMixerGreen | -25 |
GrayMixerMagenta | +4 |
GrayMixerOrange | -16 |
GrayMixerPurple | +14 |
GrayMixerRed | -7 |
GrayMixerYellow | -20 |
GreenHue | 0 |
GreenSaturation | 0 |
HasCrop | False |
HasSettings | True |
HighlightRecovery | 100 |
HyperfocalDistance | 1.28 m |
ICCProfileName | Adobe RGB (1998) |
ImageHeight | 489 |
ImageNumber | 22709 |
ImageSize | 768x489 |
ImageWidth | 768 |
ISO | 250 |
Lens | 12.0-24.0 mm f/4.0 |
LensInfo | 12-24mm f/4 |
LightSource | Unknown |
LightValue | 11.3 |
LuminanceSmoothing | 0 |
Make | NIKON CORPORATION |
MaxApertureValue | 4.0 |
Megapixels | 0.376 |
MeteringMode | Multi-segment |
Model | NIKON D200 |
ModifyDate (1) | 2009:09:20 19:54:47+02:00 |
ModifyDate | 2009:09:20 19:54:47 |
Orientation | Horizontal (normal) |
ParametricDarks | +29 |
ParametricHighlights | -53 |
ParametricHighlightSplit | 75 |
ParametricLights | +10 |
ParametricMidtoneSplit | 50 |
ParametricShadows | +13 |
ParametricShadowSplit | 25 |
PostCropVignetteAmount | -20 |
PostCropVignetteFeather | 100 |
PostCropVignetteMidpoint | 59 |
PostCropVignetteRoundness | -41 |
ProfileDescription | Adobe RGB (1998) |
Rating | 0 |
RawFileName | DSC_0072.NEF |
RedHue | 0 |
RedSaturation | 0 |
Saturation | Normal |
ScaleFactor35efl | 1.5 |
SceneCaptureType | Standard |
SceneType | Directly photographed |
SensingMethod | One-chip color area |
Shadows | 12 |
ShadowTint | 0 |
SharpenDetail | 25 |
SharpenEdgeMasking | 0 |
SharpenRadius | +1.0 |
Sharpness (2) | 73 |
Sharpness | Normal |
ShutterSpeed | 1/200 |
ShutterSpeedValue | 1/200 |
Software | Adobe Photoshop CS4 Windows |
SplitToningBalance | 0 |
SplitToningHighlightHue | 56 |
SplitToningHighlightSaturation | 30 |
SplitToningShadowHue | 0 |
SplitToningShadowSaturation | 0 |
SubjectDistanceRange | Unknown |
Tint | -3 |
ToneCurve | 0, 0, 32, 22, 64, 56, 128, 128, 192, 196, 255, 255 |
ToneCurveName | Medium Contrast |
URL_List | |
Version | 5.0 |
VignetteAmount | -80 |
VignetteMidpoint | 70 |
WhiteBalance (2) | As Shot |
WhiteBalance | Auto |