Felt | Verdi |
AlreadyApplied | True |
Aperture | 1.4 |
ApertureValue | 1.4 |
BitsPerSample | 8 |
BlueHue | 0 |
BlueSaturation | 0 |
Brightness | +50 |
CameraProfile | Adobe Standard |
CFAPattern | [Red,Green][Green,Blue] |
ChromaticAberrationB | 0 |
ChromaticAberrationR | 0 |
CircleOfConfusion | 0.020 mm |
Clarity | +23 |
ColorComponents | 3 |
ColorMode | RGB |
ColorNoiseReduction | 25 |
ColorSpace | sRGB |
ColorTemperature | 4550 |
Contrast (2) | +44 |
Contrast | Normal |
ConvertToGrayscale | True |
CreateDate (1) | 2009:09:13 15:51:13.41+02:00 |
CreateDate | 2009:09:13 15:51:13 |
CreatorTool | Ver.2.00 |
CustomRendered | Normal |
DateTimeDigitized | 2009:09:13 15:51:13.41+02:00 |
DateTimeOriginal (1) | 2009:09:13 15:51:13.41+02:00 |
DateTimeOriginal | 2009:09:13 15:51:13 |
Defringe | 0 |
DigitalZoomRatio | 1 |
ExifImageHeight | 877 |
ExifImageWidth | 600 |
Exposure | +0.15 |
ExposureCompensation | 0 |
ExposureMode | Auto |
ExposureProgram | Aperture-priority AE |
ExposureTime | 1/60 |
FillLight | 0 |
Flash | No Flash |
FlashFired | False |
FlashFunction | False |
FlashMode | Unknown |
FlashRedEyeMode | False |
FlashReturn | No return detection |
FNumber | 1.4 |
FocalLength | 85.0 mm |
FocalLength35efl | 85.0 mm (35 mm equivalent: 127.0 mm) |
FocalLengthIn35mmFormat | 127 mm |
Format | image/jpeg |
FOV | 16.1 deg |
GainControl | Low gain up |
GrayMixerAqua | -17 |
GrayMixerBlue | -11 |
GrayMixerGreen | -13 |
GrayMixerMagenta | +3 |
GrayMixerOrange | +4 |
GrayMixerPurple | +15 |
GrayMixerRed | -3 |
GrayMixerYellow | -7 |
GreenHue | 0 |
GreenSaturation | 0 |
HasCrop | False |
HasSettings | True |
HighlightRecovery | 0 |
HyperfocalDistance | 256.63 m |
ICCProfileName | sRGB IEC61966-2.1 |
ImageHeight | 877 |
ImageNumber | 30549 |
ImageSize | 600x877 |
ImageWidth | 600 |
ISO | 800 |
Lens | 85.0 mm f/1.4 |
LensInfo | 85mm f/1.4 |
LightSource | Flash |
LightValue | 3.9 |
LuminanceSmoothing | 0 |
Make | NIKON CORPORATION |
MaxApertureValue | 1.4 |
Megapixels | 0.526 |
MeteringMode | Spot |
Model | NIKON D2X |
ModifyDate (1) | 2009:09:22 13:13:06+02:00 |
ModifyDate | 2009:09:22 13:13:06 |
Orientation | Horizontal (normal) |
ParametricDarks | -7 |
ParametricHighlights | +27 |
ParametricHighlightSplit | 75 |
ParametricLights | +11 |
ParametricMidtoneSplit | 50 |
ParametricShadows | -29 |
ParametricShadowSplit | 25 |
PostCropVignetteAmount | 0 |
ProfileDescription | sRGB IEC61966-2.1 |
Rating | 0 |
RawFileName | DSC_9474.NEF |
RedHue | 0 |
RedSaturation | 0 |
Saturation | Normal |
ScaleFactor35efl | 1.5 |
SceneCaptureType | Standard |
SceneType | Directly photographed |
SensingMethod | One-chip color area |
SerialNumber | 5018469 |
Shadows | 11 |
ShadowTint | 0 |
SharpenDetail | 25 |
SharpenEdgeMasking | 0 |
SharpenRadius | +1.0 |
Sharpness (2) | 25 |
Sharpness | Soft |
ShutterSpeed | 1/60 |
ShutterSpeedValue | 1/60 |
SidecarForExtension | NEF |
Software | Adobe Photoshop CS4 Windows |
SplitToningBalance | +13 |
SplitToningHighlightHue | 21 |
SplitToningHighlightSaturation | 10 |
SplitToningShadowHue | 234 |
SplitToningShadowSaturation | 9 |
SubjectDistanceRange | Unknown |
Tint | -7 |
ToneCurve | 0, 0, 32, 22, 64, 56, 128, 128, 192, 196, 255, 255 |
ToneCurveName | Medium Contrast |
URL_List | |
UserComment | (c)Aasmund Mosseng+4792224928 |
Version | 5.4 |
VignetteAmount | 0 |
WhiteBalance (2) | Custom |
WhiteBalance | Manual |