Felt | Verdi |
AlreadyApplied | True |
Aperture | 3.2 |
ApertureValue | 3.2 |
BitsPerSample | 8 |
BlueHue | 0 |
BlueSaturation | 0 |
Brightness | +89 |
By-line | Rune Bakken |
CameraProfile | Adobe Standard |
ChromaticAberrationB | 0 |
ChromaticAberrationR | 0 |
CircleOfConfusion | 0.019 mm |
Clarity | +40 |
ColorComponents | 3 |
ColorNoiseReduction | 25 |
ColorTemperature | 5250 |
Contrast | +93 |
ConvertToGrayscale | False |
Copyright | (R) www.enur.no |
CopyrightFlag | True |
CopyrightNotice | ® www.enur.no |
CreateDate (1) | 2009:09:27 13:34:59.00+02:00 |
CreateDate | 2009:09:27 13:34:59 |
Creator | Rune Bakken |
CreatorAddress | Kulpeåsen 52 |
CreatorCity | Moss |
CreatorCountry | Norway |
CreatorPostalCode | 1539 |
CreatorRegion | Østfold |
CreatorTool | Adobe Photoshop Lightroom |
CreatorWorkEmail | rune@enur.no |
CreatorWorkTelephone | +47 975 97 477 |
CreatorWorkURL | www.enur.no |
CropAngle | -2.45735 |
CropBottom | 0.877404 |
CropHeight | 2276 |
CropLeft | 0.001824 |
CropRight | 0.91045 |
CropTop | 0.056875 |
CropUnit | pixels |
CropWidth | 3438 |
CustomRendered | Normal |
DateTimeDigitized | 2009:09:27 13:34:59.00+02:00 |
DateTimeOriginal (1) | 2009:09:27 13:34:59.00+02:00 |
DateTimeOriginal | 2009:09:27 13:34:59 |
Defringe | 0 |
ExifImageHeight | 3438 |
ExifImageWidth | 2276 |
Exposure | -0.38 |
ExposureCompensation | 0 |
ExposureMode | Manual |
ExposureProgram | Manual |
ExposureTime | 1/8000 |
FillLight | 0 |
Firmware | 1.1.1 |
Flash | Off, Did not fire |
FlashCompensation | 0 |
FlashFired | False |
FlashFunction | False |
FlashMode | Off |
FlashRedEyeMode | False |
FlashReturn | No return detection |
FNumber | 3.2 |
FocalLength | 20.0 mm |
FocalLength35efl | 20.0 mm (35 mm equivalent: 32.4 mm) |
FOV | 58.1 deg |
GreenHue | 0 |
GreenSaturation | 0 |
HasCrop | True |
HasSettings | True |
HighlightRecovery | 0 |
HueAdjustmentAqua | 0 |
HueAdjustmentBlue | 0 |
HueAdjustmentGreen | 0 |
HueAdjustmentMagenta | 0 |
HueAdjustmentOrange | 0 |
HueAdjustmentPurple | 0 |
HueAdjustmentRed | 0 |
HueAdjustmentYellow | 0 |
HyperfocalDistance | 6.73 m |
ImageHeight | 3438 |
ImageNumber | 0 |
ImageSize | 2276x3438 |
ImageWidth | 2276 |
ISO | 100 |
Keywords | Experimental, Personal |
Label | Purple |
Lens | 20mm |
LensInfo | 20mm f/? |
LightValue | 16.3 |
LuminanceAdjustmentAqua | 0 |
LuminanceAdjustmentBlue | 0 |
LuminanceAdjustmentGreen | 0 |
LuminanceAdjustmentMagenta | 0 |
LuminanceAdjustmentOrange | 0 |
LuminanceAdjustmentPurple | 0 |
LuminanceAdjustmentRed | 0 |
LuminanceAdjustmentYellow | 0 |
LuminanceSmoothing | 0 |
Make | Canon |
Marked | True |
MaxApertureValue | 1.8 |
Megapixels | 7.8 |
MeteringMode | Multi-segment |
Model | Canon EOS 40D |
ModifyDate (1) | 2009:09:27 22:47:38+02:00 |
ModifyDate | 2009:09:27 22:47:38 |
ObjectName | Scout |
ParametricDarks | 0 |
ParametricHighlights | 0 |
ParametricHighlightSplit | 75 |
ParametricLights | 0 |
ParametricMidtoneSplit | 50 |
ParametricShadows | 0 |
ParametricShadowSplit | 25 |
PostCropVignetteAmount | 0 |
ProfileDescription | sRGB IEC61966-2.1 |
RedHue | 0 |
RedSaturation | 0 |
Rights | ® www.enur.no |
Saturation | +52 |
SaturationAdjustmentAqua | 0 |
SaturationAdjustmentBlue | 0 |
SaturationAdjustmentGreen | 0 |
SaturationAdjustmentMagenta | 0 |
SaturationAdjustmentOrange | 0 |
SaturationAdjustmentPurple | 0 |
SaturationAdjustmentRed | 0 |
SaturationAdjustmentYellow | 0 |
ScaleFactor35efl | 1.6 |
SceneCaptureType | Standard |
SerialNumber | 1430732149 |
Shadows | 5 |
ShadowTint | 0 |
SharpenDetail | 25 |
SharpenEdgeMasking | 0 |
SharpenRadius | +1.0 |
Sharpness | 25 |
ShutterSpeed | 1/8000 |
ShutterSpeedValue | 1/8000 |
SplitToningBalance | 0 |
SplitToningHighlightHue | 0 |
SplitToningHighlightSaturation | 0 |
SplitToningShadowHue | 0 |
SplitToningShadowSaturation | 0 |
Subject | Experimental, Personal |
Tint | 0 |
Title | Scout |
ToneCurve | 0, 0, 32, 22, 64, 56, 128, 128, 192, 196, 255, 255 |
ToneCurveName | Medium Contrast |
URL | www.enur.no |
UsageTerms | All photos are © to www.enur.no. Not to be used for any purposes without written permissions |
Version | 5.5 |
Vibrance | +40 |
VignetteAmount | 0 |
WebStatement | www.enur.no |
WhiteBalance (2) | As Shot |
WhiteBalance | Auto |