Felt | Verdi |
AlreadyApplied | True |
Aperture | 6.3 |
ApertureValue | 6.3 |
BitsPerSample | 8 |
BlueHue | 0 |
BlueSaturation | 0 |
Brightness | +44 |
CameraProfile | ACR 3.7 |
CFAPattern | [Blue,Green][Green,Red] |
ChromaticAberrationB | 0 |
ChromaticAberrationR | 0 |
CircleOfConfusion | 0.020 mm |
ColorComponents | 3 |
ColorMode | RGB |
ColorNoiseReduction | 25 |
ColorSpace (1) | Unknown (-1) |
ColorSpace | Uncalibrated |
ColorTemperature | 5200 |
Contrast (2) | +100 |
Contrast | Normal |
ConvertToGrayscale | False |
CopyrightFlag | False |
CreateDate (1) | 2009:09:27 20:52+02:00 |
CreateDate | 2009:09:27 12:26:50 |
CreatorTool | Adobe Photoshop CS3 Windows |
CustomRendered | Normal |
DateTimeDigitized | 2009:09:27 12:26:50.50+02:00 |
DateTimeOriginal (1) | 2009:09:27 12:26:50.50+02:00 |
DateTimeOriginal | 2009:09:27 12:26:50 |
DigitalZoomRatio | 1 |
ExifImageHeight | 2000 |
ExifImageWidth | 3008 |
Exposure | +0.40 |
ExposureCompensation | 0 |
ExposureMode | Manual |
ExposureProgram | Manual |
ExposureTime | 1/800 |
FillLight | 5 |
Flash | No Flash |
FlashFired | False |
FlashFunction | False |
FlashMode | Unknown |
FlashRedEyeMode | False |
FlashReturn | No return detection |
FNumber | 6.3 |
FocalLength | 26.0 mm |
FocalLength35efl | 26.0 mm (35 mm equivalent: 39.0 mm) |
FocalLengthIn35mmFormat | 39 mm |
Format | image/jpeg |
FOV | 49.6 deg |
GainControl | None |
GreenHue | 0 |
GreenSaturation | 0 |
HasCrop | False |
HasSettings | True |
HighlightRecovery | 0 |
HueAdjustmentAqua | 0 |
HueAdjustmentBlue | 0 |
HueAdjustmentGreen | 0 |
HueAdjustmentMagenta | 0 |
HueAdjustmentOrange | 0 |
HueAdjustmentPurple | 0 |
HueAdjustmentRed | 0 |
HueAdjustmentYellow | 0 |
HyperfocalDistance | 5.36 m |
ICCProfileName | Adobe RGB (1998) |
ImageHeight | 2000 |
ImageNumber | 37650 |
ImageSize | 3008x2000 |
ImageWidth | 3008 |
ISO | 200 |
Lens | 18.0-55.0 mm f/3.5-5.6 |
LensInfo | 18-55mm f/3.5-5.6 |
LightSource | Unknown |
LightValue | 14.0 |
LuminanceAdjustmentAqua | 0 |
LuminanceAdjustmentBlue | 0 |
LuminanceAdjustmentGreen | 0 |
LuminanceAdjustmentMagenta | 0 |
LuminanceAdjustmentOrange | 0 |
LuminanceAdjustmentPurple | 0 |
LuminanceAdjustmentRed | 0 |
LuminanceAdjustmentYellow | 0 |
LuminanceSmoothing | 0 |
Make | NIKON CORPORATION |
MaxApertureValue | 4.0 |
Megapixels | 6.0 |
MeteringMode | Multi-segment |
Model | NIKON D40 |
ModifyDate (1) | 2009:09:27 20:52+02:00 |
ModifyDate | 2009:09:27 20:52:00 |
Orientation | Horizontal (normal) |
ParametricDarks | 0 |
ParametricHighlights | 0 |
ParametricHighlightSplit | 75 |
ParametricLights | 0 |
ParametricMidtoneSplit | 50 |
ParametricShadows | 0 |
ParametricShadowSplit | 25 |
ProfileDescription | Adobe RGB (1998) |
Rating | 0 |
RawFileName | DSC_0057.NEF |
RedHue | 0 |
RedSaturation | 0 |
Saturation (2) | 0 |
Saturation | Normal |
SaturationAdjustmentAqua | 0 |
SaturationAdjustmentBlue | 0 |
SaturationAdjustmentGreen | 0 |
SaturationAdjustmentMagenta | 0 |
SaturationAdjustmentOrange | 0 |
SaturationAdjustmentPurple | 0 |
SaturationAdjustmentRed | 0 |
SaturationAdjustmentYellow | 0 |
ScaleFactor35efl | 1.5 |
SceneCaptureType | Standard |
SceneType | Directly photographed |
SensingMethod | One-chip color area |
Shadows | 5 |
ShadowTint | 0 |
Sharpness (2) | 25 |
Sharpness | Normal |
ShutterSpeed | 1/800 |
ShutterSpeedValue | 1/800 |
SidecarForExtension | NEF |
Software | Adobe Photoshop CS3 Windows |
SplitToningBalance | 0 |
SplitToningHighlightHue | 0 |
SplitToningHighlightSaturation | 0 |
SplitToningShadowHue | 0 |
SplitToningShadowSaturation | 0 |
SubjectDistanceRange | Unknown |
TimeZoneOffset | 2 2 |
Tint | +4 |
ToneCurve | 0, 0, 32, 22, 64, 56, 128, 128, 192, 196, 255, 255 |
ToneCurveName | Medium Contrast |
URL_List | |
Version | 4.0 |
Vibrance | 0 |
VignetteAmount | -44 |
VignetteMidpoint | 0 |
WhiteBalance (2) | As Shot |
WhiteBalance | Auto |