Felt | Verdi |
AlreadyApplied | True |
Aperture | 7.1 |
ApertureValue | 7.1 |
Artist | unknown |
BitsPerSample | 8 |
BlueHue | +100 |
BlueSaturation | -100 |
Brightness | 0 |
By-line | unknown |
CameraProfile | Embedded |
ChromaticAberrationB | 0 |
ChromaticAberrationR | 0 |
CircleOfConfusion | 0.019 mm |
Clarity | 0 |
ColorComponents | 3 |
ColorMode | RGB |
ColorNoiseReduction | 0 |
ColorSpace (1) | Unknown (-1) |
ColorSpace | Uncalibrated |
Contrast | 0 |
ConvertToGrayscale | False |
CopyrightFlag | False |
CreateDate (1) | 2009:10:01 03:20:11+02:00 |
CreateDate | 2007:11:09 20:04:07 |
Creator | unknown |
CreatorTool | Adobe Photoshop Elements 7.0 Windows |
CropAngle | 0 |
CropBottom | 0.67033 |
CropHeight | 825 |
CropLeft | 0 |
CropRight | 0.513196 |
CropTop | 0.312088 |
CropUnit | pixels |
CropWidth | 1774 |
CustomRendered | Normal |
DateTimeDigitized | 2007:11:09 20:04:07+01:00 |
DateTimeOriginal (1) | 2007:11:09 20:04:07+01:00 |
DateTimeOriginal | 2007:11:09 20:04:07 |
Defringe | 0 |
ExifImageHeight | 825 |
ExifImageWidth | 1774 |
Exposure | 0.00 |
ExposureCompensation | 0 |
ExposureMode | Auto |
ExposureProgram | Not Defined |
ExposureTime | 1/25 |
FillLight | 0 |
Firmware | 1.0.2 |
Flash | Off, Did not fire |
FlashCompensation | 0 |
FlashFired | False |
FlashFunction | False |
FlashMode | Off |
FlashRedEyeMode | False |
FlashReturn | No return detection |
FNumber | 7.1 |
FocalLength | 17.0 mm |
FocalLength35efl | 17.0 mm (35 mm equivalent: 27.6 mm) |
Format | image/jpeg |
FOV | 66.3 deg |
GreenHue | -100 |
GreenSaturation | -100 |
HasCrop | True |
HasSettings | True |
HighlightRecovery | 0 |
HueAdjustmentAqua | -100 |
HueAdjustmentBlue | -48 |
HueAdjustmentGreen | -100 |
HueAdjustmentMagenta | +100 |
HueAdjustmentOrange | -100 |
HueAdjustmentPurple | -100 |
HueAdjustmentRed | -100 |
HueAdjustmentYellow | -100 |
HyperfocalDistance | 2.20 m |
ICCProfileName | Adobe RGB (1998) |
ImageHeight | 825 |
ImageNumber | 108 |
ImageSize | 1774x825 |
ImageWidth | 1774 |
IncrementalTemperature | 0 |
IncrementalTint | 0 |
ISO | 800 |
Label | Blue |
Lens | 17.0-85.0 mm |
LensInfo | 17-85mm f/? |
LightValue | 7.3 |
LuminanceAdjustmentAqua | 0 |
LuminanceAdjustmentBlue | -100 |
LuminanceAdjustmentGreen | -100 |
LuminanceAdjustmentMagenta | +29 |
LuminanceAdjustmentOrange | +100 |
LuminanceAdjustmentPurple | -100 |
LuminanceAdjustmentRed | +100 |
LuminanceAdjustmentYellow | +100 |
LuminanceSmoothing | 0 |
Make | Canon |
MaxApertureValue | 4.0 |
Megapixels | 1.5 |
MeteringMode | Multi-segment |
Model | Canon EOS 350D DIGITAL |
ModifyDate (1) | 2009:10:01 03:20:11+02:00 |
ModifyDate | 2009:10:01 03:20:11 |
Orientation | Horizontal (normal) |
OwnerName | unknown |
ParametricDarks | 0 |
ParametricHighlights | 0 |
ParametricHighlightSplit | 75 |
ParametricLights | 0 |
ParametricMidtoneSplit | 50 |
ParametricShadows | 0 |
ParametricShadowSplit | 25 |
ProfileDescription | Adobe RGB (1998) |
Rating | 3 |
RedHue | -100 |
RedSaturation | +100 |
Saturation | 0 |
SaturationAdjustmentAqua | -100 |
SaturationAdjustmentBlue | -100 |
SaturationAdjustmentGreen | -100 |
SaturationAdjustmentMagenta | -18 |
SaturationAdjustmentOrange | -100 |
SaturationAdjustmentPurple | +100 |
SaturationAdjustmentRed | -100 |
SaturationAdjustmentYellow | -100 |
ScaleFactor35efl | 1.6 |
SceneCaptureType | Standard |
SerialNumber | 930514353 |
Shadows | 0 |
ShadowTint | -100 |
SharpenDetail | 100 |
SharpenEdgeMasking | 100 |
SharpenRadius | +1.8 |
Sharpness | 0 |
ShutterSpeed | 1/25 |
ShutterSpeedValue | 1/25 |
Software | Adobe Photoshop Elements 7.0 Windows |
SplitToningBalance | +100 |
SplitToningHighlightHue | 64 |
SplitToningHighlightSaturation | 35 |
SplitToningShadowHue | 55 |
SplitToningShadowSaturation | 44 |
ToneCurve | 0, 0, 255, 255 |
ToneCurveName | Linear |
URL_List | |
Version | 1.0 |
Vibrance | 0 |
VignetteAmount | +100 |
VignetteMidpoint | 100 |
WhiteBalance (2) | As Shot |
WhiteBalance | Auto |