Felt | Verdi |
AlreadyApplied | True |
Aperture | 11.0 |
ApertureValue | 11.0 |
BitsPerSample | 8 |
BlueHue | +11 |
BlueSaturation | -70 |
Brightness | +57 |
CameraProfile | Adobe Standard |
CFAPattern | [Green,Blue][Red,Green] |
ChromaticAberrationB | 0 |
ChromaticAberrationR | 0 |
CircleOfConfusion | 0.020 mm |
Clarity | 0 |
ColorComponents | 3 |
ColorNoiseReduction | 25 |
ColorTemperature | 12500 |
Contrast (2) | +25 |
Contrast | Normal |
ConvertToGrayscale | False |
CreateDate (1) | 2009:08:16 18:57:25.40-07:00 |
CreateDate | 2009:08:16 18:57:25 |
CreatorTool | Adobe Photoshop Lightroom |
CropAngle | 0 |
CropBottom | 1 |
CropHeight | 2592 |
CropLeft | 0.359712 |
CropRight | 1 |
CropTop | 0 |
CropUnit | pixels |
CropWidth | 2479 |
CustomRendered | Normal |
DateTimeDigitized | 2009:08:16 18:57:25.40-07:00 |
DateTimeOriginal (1) | 2009:08:16 18:57:25.40-07:00 |
DateTimeOriginal | 2009:08:16 18:57:25 |
Defringe | 0 |
DigitalZoomRatio | 1 |
ExifImageHeight | 2479 |
ExifImageWidth | 2592 |
Exposure | +0.75 |
ExposureCompensation | -4/3 |
ExposureMode | Auto |
ExposureProgram | Aperture-priority AE |
ExposureTime | 1/60 |
FillLight | 0 |
Flash | No Flash |
FlashFired | False |
FlashFunction | False |
FlashMode | Unknown |
FlashRedEyeMode | False |
FlashReturn | No return detection |
FNumber | 11.0 |
FocalLength | 10.0 mm |
FocalLength35efl | 10.0 mm (35 mm equivalent: 15.0 mm) |
FocalLengthIn35mmFormat | 15 mm |
FOV | 100.4 deg |
GainControl | None |
GreenHue | +11 |
GreenSaturation | +25 |
HasCrop | True |
HasSettings | True |
HighlightRecovery | 0 |
HueAdjustmentAqua | 0 |
HueAdjustmentBlue | 0 |
HueAdjustmentGreen | 0 |
HueAdjustmentMagenta | 0 |
HueAdjustmentOrange | 0 |
HueAdjustmentPurple | 0 |
HueAdjustmentRed | 0 |
HueAdjustmentYellow | 0 |
HyperfocalDistance | 0.45 m |
ImageHeight | 2479 |
ImageNumber | 11923 |
ImageSize | 2592x2479 |
ImageWidth | 2592 |
ISO | 100 |
Lens | 10.0-20.0 mm f/4.0-5.6 |
LensInfo | 10-20mm f/4-5.6 |
LightSource | Unknown |
LightValue | 12.8 |
LuminanceAdjustmentAqua | 0 |
LuminanceAdjustmentBlue | 0 |
LuminanceAdjustmentGreen | 0 |
LuminanceAdjustmentMagenta | 0 |
LuminanceAdjustmentOrange | 0 |
LuminanceAdjustmentPurple | 0 |
LuminanceAdjustmentRed | 0 |
LuminanceAdjustmentYellow | 0 |
LuminanceSmoothing | 0 |
Make | NIKON CORPORATION |
MaxApertureValue | 4.0 |
Megapixels | 6.4 |
MeteringMode | Multi-segment |
Model | NIKON D80 |
ModifyDate (1) | 2009:08:19 13:55:13-07:00 |
ModifyDate | 2009:08:19 13:55:13 |
ParametricDarks | -3 |
ParametricHighlights | 0 |
ParametricHighlightSplit | 75 |
ParametricLights | 0 |
ParametricMidtoneSplit | 50 |
ParametricShadows | -14 |
ParametricShadowSplit | 25 |
PostCropVignetteAmount | -14 |
PostCropVignetteFeather | 100 |
PostCropVignetteMidpoint | 19 |
PostCropVignetteRoundness | +100 |
ProfileDescription | sRGB IEC61966-2.1 |
RedHue | +96 |
RedSaturation | +3 |
Saturation (2) | -71 |
Saturation | Normal |
SaturationAdjustmentAqua | 0 |
SaturationAdjustmentBlue | 0 |
SaturationAdjustmentGreen | 0 |
SaturationAdjustmentMagenta | 0 |
SaturationAdjustmentOrange | 0 |
SaturationAdjustmentPurple | 0 |
SaturationAdjustmentRed | 0 |
SaturationAdjustmentYellow | 0 |
ScaleFactor35efl | 1.5 |
SceneCaptureType | Standard |
SceneType | Directly photographed |
SensingMethod | One-chip color area |
SerialNumber | 4530042 |
Shadows | 11 |
ShadowTint | +8 |
SharpenDetail | 50 |
SharpenEdgeMasking | 0 |
SharpenRadius | +1.0 |
Sharpness (2) | 25 |
Sharpness | Normal |
ShutterSpeed | 1/60 |
ShutterSpeedValue | 1/60 |
Software | Ver.1.11 |
SplitToningBalance | 0 |
SplitToningHighlightHue | 0 |
SplitToningHighlightSaturation | 0 |
SplitToningShadowHue | 0 |
SplitToningShadowSaturation | 0 |
SubjectDistanceRange | Unknown |
Tint | +35 |
ToneCurve | 0, 0, 255, 255 |
ToneCurveName | Linear |
Version | 5.4 |
Vibrance | 0 |
VignetteAmount | -100 |
VignetteMidpoint | 0 |
WhiteBalance (2) | Custom |
WhiteBalance | Auto |