Felt | Verdi |
AlreadyApplied | True |
Aperture | 11.0 |
ApertureValue | 11.0 |
BitsPerSample | 8 |
BlackClip | 0.595050 |
BlueHue | 0 |
BlueSaturation | 0 |
Brightness | +5 |
CameraProfile | Embedded |
ChromaticAberrationB | 0 |
ChromaticAberrationR | 0 |
Clarity | +58 |
ColorComponents | 3 |
ColorMode | RGB |
ColorNoiseReduction | 0 |
ColorSaturation | 100 |
ColorSpace | Uncalibrated |
ColorTemperature | 2 |
Contrast | 0 |
ConvertToGrayscale | False |
CreateDate | 2009:10:10 18:24:43+02:00 |
DateTimeOriginal (1) | 2009:10:10 18:24:43+02:00 |
DateTimeOriginal | 2009:10:10 18:24:43 |
Defringe | 0 |
ExifImageHeight | 1281 |
ExifImageWidth | 1920 |
Exposure | 0.00 |
ExposureTime | 0.4 |
FillLight | 4 |
FNumber | 11.0 |
FocalLength | 55.0 mm |
FocalLength35efl | 55.0 mm |
Format | image/jpeg |
Gamma | 1.647182 |
GradientBasedCorrActive | true |
GradientBasedCorrAmount | 1.000000 |
GradientBasedCorrBrightness | -0.085000 |
GradientBasedCorrClarity | 1.000000 |
GradientBasedCorrContrast | 0.040000 |
GradientBasedCorrExposure | 0.700000 |
GradientBasedCorrHue | 230.000000 |
GradientBasedCorrMaskFullX | 0.456890 |
GradientBasedCorrMaskFullY | -0.001119 |
GradientBasedCorrMaskValue | 1.000000 |
GradientBasedCorrMaskWhat | Mask/Gradient |
GradientBasedCorrMaskZeroX | 0.461312 |
GradientBasedCorrMaskZeroY | 0.442953 |
GradientBasedCorrSaturation (1) | -0.410000 |
GradientBasedCorrSaturation | 0.550000 |
GradientBasedCorrSharpness | 0.860000 |
GradientBasedCorrWhat | Correction |
GreenHue | 0 |
GreenSaturation | 0 |
HasCrop | False |
HasSettings | True |
HighlightRecovery | 75 |
HighlightsSmoothing | 55 |
HueAdjustmentAqua | 0 |
HueAdjustmentBlue | 0 |
HueAdjustmentGreen | 0 |
HueAdjustmentMagenta | 0 |
HueAdjustmentOrange | 0 |
HueAdjustmentPurple | 0 |
HueAdjustmentRed | 0 |
HueAdjustmentYellow | 0 |
ICCProfileName | Adobe RGB (1998) |
ImageHeight | 1281 |
ImageSize | 1920x1281 |
ImageWidth | 1920 |
IncrementalTemperature | 0 |
IncrementalTint | 0 |
ISO | 200 |
LightValue | 7.2 |
LuminanceAdjustmentAqua | 0 |
LuminanceAdjustmentBlue | 0 |
LuminanceAdjustmentGreen | 0 |
LuminanceAdjustmentMagenta | 0 |
LuminanceAdjustmentOrange | 0 |
LuminanceAdjustmentPurple | 0 |
LuminanceAdjustmentRed | 0 |
LuminanceAdjustmentYellow | 0 |
LuminanceSmoothing | 0 |
Luminosity | 10 |
Megapixels | 2.5 |
Method | Details Enhancer |
Microcontrast | 10 |
Microsmoothing | 30 |
Model | NIKON D5000 |
ModifyDate (1) | 2009:10:10 20:30:41+02:00 |
ModifyDate | 2009:10:10 20:30:41 |
Orientation | Horizontal (normal) |
ParametricDarks | 0 |
ParametricHighlights | 0 |
ParametricHighlightSplit | 75 |
ParametricLights | 0 |
ParametricMidtoneSplit | 50 |
ParametricShadows | 0 |
ParametricShadowSplit | 25 |
PostCropVignetteAmount | 0 |
ProfileDescription | Adobe RGB (1998) |
Rating | 0 |
RawFileName | When fall....tif |
RedHue | 0 |
RedSaturation | 0 |
Saturation | -1 |
SaturationAdjustmentAqua | 0 |
SaturationAdjustmentBlue | 0 |
SaturationAdjustmentGreen | 0 |
SaturationAdjustmentMagenta | 0 |
SaturationAdjustmentOrange | 0 |
SaturationAdjustmentPurple | 0 |
SaturationAdjustmentRed | 0 |
SaturationAdjustmentYellow | 0 |
SaturationHighlights | 2 |
SaturationShadows | 7 |
Shadows | 0 |
ShadowsClipping | 28 |
ShadowsSmoothing | 31 |
ShadowTint | 0 |
SharpenDetail | 25 |
SharpenEdgeMasking | 0 |
SharpenRadius | +1.0 |
Sharpness | 0 |
ShutterSpeed | 0.4 |
ShutterSpeedValue | 0.4 |
Smoothing | High |
Software | Adobe Photoshop CS4 Windows |
SplitToningBalance | 0 |
SplitToningHighlightHue | 0 |
SplitToningHighlightSaturation | 0 |
SplitToningShadowHue | 0 |
SplitToningShadowSaturation | 0 |
Strength | 100 |
ToneCurve | 0, 0, 255, 255 |
ToneCurveName | Linear |
URL_List | |
Version (1) | 2.5 |
Version | 5.4 |
Vibrance | -7 |
VignetteAmount | 0 |
WhiteBalance | As Shot |
WhiteClip | 0.152850 |