Felt | Verdi |
AlreadyApplied | True |
Aperture | 4.0 |
ApertureValue | 4.0 |
BitsPerSample | 8 |
BlueHue | 0 |
BlueSaturation | 0 |
Brightness | +50 |
CameraProfile | Adobe Standard |
ChromaticAberrationB | 0 |
ChromaticAberrationR | 0 |
CircleOfConfusion | 0.019 mm |
Clarity | 0 |
ColorComponents | 3 |
ColorNoiseReduction | 25 |
ColorTemperature | 5854 |
Contrast | +25 |
ConvertToGrayscale | False |
CreateDate (1) | 2009:09:25 17:58:32.19+02:00 |
CreateDate | 2009:09:25 17:58:32 |
CreatorTool | Adobe Photoshop Lightroom |
CustomRendered | Normal |
DateTimeDigitized | 2009:09:25 17:58:32.19+02:00 |
DateTimeOriginal (1) | 2009:09:25 17:58:32.19+02:00 |
DateTimeOriginal | 2009:09:25 17:58:32 |
Defringe | 0 |
ExifImageHeight | 2592 |
ExifImageWidth | 3888 |
Exposure | 0.00 |
ExposureCompensation | +2 |
ExposureMode | Auto |
ExposureProgram | Shutter speed priority AE |
ExposureTime | 1/60 |
FillLight | 5 |
Firmware | 1.1.1 |
Flash | Off, Did not fire |
FlashCompensation | 0 |
FlashFired | False |
FlashFunction | False |
FlashMode | Off |
FlashRedEyeMode | False |
FlashReturn | No return detection |
FNumber | 4.0 |
FocalLength | 70.0 mm |
FocalLength35efl | 70.0 mm (35 mm equivalent: 113.3 mm) |
FOV | 18.1 deg |
GreenHue | 0 |
GreenSaturation | 0 |
HasCrop | False |
HasSettings | True |
HighlightRecovery | 8 |
HueAdjustmentAqua | +2 |
HueAdjustmentBlue | 0 |
HueAdjustmentGreen | -69 |
HueAdjustmentMagenta | +6 |
HueAdjustmentOrange | -13 |
HueAdjustmentPurple | 0 |
HueAdjustmentRed | -19 |
HueAdjustmentYellow | -15 |
HyperfocalDistance | 66.00 m |
ImageHeight | 2592 |
ImageNumber | 0 |
ImageSize | 3888x2592 |
ImageWidth | 3888 |
ISO | 200 |
Keywords | jakt-overnattingstur pŒ Saltfjellet |
Lens | EF70-200mm f/4L USM |
LensInfo | 70-200mm f/? |
LightValue | 8.9 |
LuminanceAdjustmentAqua | 0 |
LuminanceAdjustmentBlue | 0 |
LuminanceAdjustmentGreen | 0 |
LuminanceAdjustmentMagenta | 0 |
LuminanceAdjustmentOrange | 0 |
LuminanceAdjustmentPurple | 0 |
LuminanceAdjustmentRed | +67 |
LuminanceAdjustmentYellow | 0 |
LuminanceSmoothing | 0 |
Make | Canon |
MaxApertureValue | 4.0 |
Megapixels | 10.1 |
MeteringMode | Spot |
Model | Canon EOS 40D |
ModifyDate (1) | 2009:10:11 17:29:31+02:00 |
ModifyDate | 2009:10:11 17:29:31 |
ParametricDarks | 0 |
ParametricHighlights | 0 |
ParametricHighlightSplit | 75 |
ParametricLights | 0 |
ParametricMidtoneSplit | 50 |
ParametricShadows | 0 |
ParametricShadowSplit | 25 |
PostCropVignetteAmount | 0 |
ProfileDescription | sRGB IEC61966-2.1 |
Rating | 4 |
RedHue | 0 |
RedSaturation | 0 |
Saturation | 0 |
SaturationAdjustmentAqua | 0 |
SaturationAdjustmentBlue | 0 |
SaturationAdjustmentGreen | 0 |
SaturationAdjustmentMagenta | 0 |
SaturationAdjustmentOrange | 0 |
SaturationAdjustmentPurple | 0 |
SaturationAdjustmentRed | +73 |
SaturationAdjustmentYellow | 0 |
ScaleFactor35efl | 1.6 |
SceneCaptureType | Standard |
SerialNumber | 2431201682 |
Shadows | 5 |
ShadowTint | 0 |
SharpenDetail | 25 |
SharpenEdgeMasking | 0 |
SharpenRadius | +1.0 |
Sharpness | 25 |
ShutterSpeed | 1/60 |
ShutterSpeedValue | 1/60 |
SplitToningBalance | 0 |
SplitToningHighlightHue | 0 |
SplitToningHighlightSaturation | 0 |
SplitToningShadowHue | 0 |
SplitToningShadowSaturation | 0 |
Subject | jakt-overnattingstur på Saltfjellet |
Tint | -22 |
ToneCurve | 0, 0, 32, 22, 64, 56, 128, 128, 192, 196, 255, 255 |
ToneCurveName | Medium Contrast |
Version | 5.4 |
Vibrance | 0 |
VignetteAmount | 0 |
WhiteBalance (2) | Custom |
WhiteBalance | Auto |