Felt | Verdi |
AlreadyApplied | True |
Aperture | 7.1 |
ApertureValue | 7.1 |
BitsPerSample | 8 |
BlueHue | +17 |
BlueSaturation | 0 |
Brightness | 0 |
CameraProfile | Embedded |
ChromaticAberrationB | 0 |
ChromaticAberrationR | 0 |
CircleOfConfusion | 0.019 mm |
Clarity | 0 |
ColorComponents | 3 |
ColorNoiseReduction | 60 |
Contrast | +29 |
ConvertToGrayscale | False |
CreateDate (1) | 2009:10:02 08:57:38.03+02:00 |
CreateDate | 2009:10:02 08:57:38 |
CreatorTool | Adobe Photoshop Lightroom |
CustomRendered | Normal |
DateTimeDigitized | 2009:10:02 08:57:38.03+02:00 |
DateTimeOriginal (1) | 2009:10:02 08:57:38.03+02:00 |
DateTimeOriginal | 2009:10:02 08:57:38 |
Defringe | 0 |
ExifImageHeight | 2848 |
ExifImageWidth | 4272 |
Exposure | -1.33 |
ExposureCompensation | +2/3 |
ExposureMode | Auto |
ExposureProgram | Program AE |
ExposureTime | 1/100 |
FillLight | 0 |
Firmware | 1.1.0 |
Flash | Off, Did not fire |
FlashCompensation | 0 |
FlashFired | False |
FlashFunction | False |
FlashMode | Off |
FlashRedEyeMode | False |
FlashReturn | No return detection |
FNumber | 7.1 |
FocalLength | 55.0 mm |
FocalLength35efl | 55.0 mm (35 mm equivalent: 88.8 mm) |
FOV | 22.9 deg |
GreenHue | -12 |
GreenSaturation | +29 |
HasCrop | False |
HasSettings | True |
HighlightRecovery | 0 |
HueAdjustmentAqua | 0 |
HueAdjustmentBlue | 0 |
HueAdjustmentGreen | 0 |
HueAdjustmentMagenta | 0 |
HueAdjustmentOrange | 0 |
HueAdjustmentPurple | 0 |
HueAdjustmentRed | 0 |
HueAdjustmentYellow | 0 |
HyperfocalDistance | 22.91 m |
ImageHeight | 2848 |
ImageNumber | 0 |
ImageSize | 4272x2848 |
ImageWidth | 4272 |
IncrementalTemperature | -10 |
IncrementalTint | 0 |
ISO | 100 |
Lens | EF-S18-55mm f/3.5-5.6 IS |
LensInfo | 18-55mm f/? |
LightValue | 12.3 |
LuminanceAdjustmentAqua | 0 |
LuminanceAdjustmentBlue | 0 |
LuminanceAdjustmentGreen | 0 |
LuminanceAdjustmentMagenta | 0 |
LuminanceAdjustmentOrange | 0 |
LuminanceAdjustmentPurple | 0 |
LuminanceAdjustmentRed | 0 |
LuminanceAdjustmentYellow | 0 |
LuminanceSmoothing | 0 |
Make | Canon |
MaxApertureValue | 5.7 |
Megapixels | 12.2 |
MeteringMode | Multi-segment |
Model | Canon EOS 450D |
ModifyDate (1) | 2009:10:11 17:35:09+02:00 |
ModifyDate | 2009:10:11 17:35:09 |
ParametricDarks | 0 |
ParametricHighlights | 0 |
ParametricHighlightSplit | 75 |
ParametricLights | 0 |
ParametricMidtoneSplit | 50 |
ParametricShadows | 0 |
ParametricShadowSplit | 25 |
PostCropVignetteAmount | -36 |
PostCropVignetteFeather | 100 |
PostCropVignetteMidpoint | 51 |
PostCropVignetteRoundness | +33 |
ProfileDescription | sRGB IEC61966-2.1 |
RedHue | +2 |
RedSaturation | 0 |
Saturation | 0 |
SaturationAdjustmentAqua | +100 |
SaturationAdjustmentBlue | +81 |
SaturationAdjustmentGreen | +100 |
SaturationAdjustmentMagenta | +21 |
SaturationAdjustmentOrange | +60 |
SaturationAdjustmentPurple | 0 |
SaturationAdjustmentRed | -2 |
SaturationAdjustmentYellow | +33 |
ScaleFactor35efl | 1.6 |
SceneCaptureType | Standard |
SerialNumber | 430166474 |
Shadows | 0 |
ShadowTint | -2 |
SharpenDetail | 13 |
SharpenEdgeMasking | 0 |
SharpenRadius | +1.0 |
Sharpness | 0 |
ShutterSpeed | 1/100 |
ShutterSpeedValue | 1/100 |
SplitToningBalance | 0 |
SplitToningHighlightHue | 0 |
SplitToningHighlightSaturation | 0 |
SplitToningShadowHue | 0 |
SplitToningShadowSaturation | 0 |
ToneCurve | 0, 0, 255, 255 |
ToneCurveName | Linear |
Version | 5.4 |
Vibrance | 0 |
VignetteAmount | 0 |
WhiteBalance (2) | Custom |
WhiteBalance | Auto |